{"text_format":"1","workbook":"xlsx","n_sheets":6,"sheets":["入力欄","参加申込","メンバー票","個人情報","個人情報確認","Sheet1"],"not_rendered":{"charts":0,"images":2,"macros":1,"external_links":0,"defined_names":6,"comments":1,"pivot_tables":0},"unopened":[],"bounds":{"document_bytes":16777216,"sheet_cells":100000,"rows_first":2000,"rows_last":500,"rows_between":2000,"halvings":0,"cell_chars":16384,"cell_head_chars":4096},"cells_cut":0,"cells_raw":0,"read":"whole","date_system":"1900"}

{"sheet":"入力欄","index":0,"n_rows":54,"n_cols":34,"rows_kept":54,"cut":false,"hidden":false,"merged":[[1,17,1,20],[2,17,2,20],[3,17,3,20],[4,17,4,20],[5,17,5,20],[11,4,11,5],[17,6,18,9],[8,7,9,13],[0,0,0,1],[6,4,6,5],[7,4,7,5],[8,4,8,5],[9,4,9,5],[0,2,0,4],[1,13,1,16],[2,13,2,16],[3,13,3,16],[4,13,4,16],[5,13,5,16],[4,23,4,26],[4,27,4,30],[5,23,5,26],[5,27,5,30],[10,4,10,5]]}
["香川県中学校新人体育大会 バスケットボール競技",null,{"$f":"INDEX(R2:R6,MATCH(A1,N2:N6,0))","v":"香川県中学校体育連盟"},null,null,"データを保存する場合はファイル名の(チーム名男女)を変更してください。",null,null,null,null,null,null,null,"大会名",null,null,null,"主催者名"]
[null,"入力(選択)欄","A1 のセルの大会名を選択(変更)してください",null,null,null,null,null,null,null,null,null,null,"香川県中学校総合体育大会 バスケットボール競技",null,null,null,"香川県中学校体育連盟",null,null,null,null,null,{"$f":"YEAR(TODAY())","v":2020}]
["申込年",{"$f":"YEAR(TODAY())","v":2020},"現在の日付が入力されています。",null,null,null,null,null,null,null,null,null,null,"香川県中学校新人体育大会 バスケットボール競技",null,null,null,"香川県中学校体育連盟",null,null,null,null,null,{"$f":"MONTH(TODAY())","v":8}]
["申込月",{"$f":"MONTH(TODAY())","v":8},"特定の日に変更したいときは直接セル(B3～B5)に入力してください。",null,null,null,null,null,null,null,null,null,null,"高松地区中学校新人体育大会　バスケットボール競技",null,null,null,"高松地区中学校体育連盟",null,null,null,null,null,{"$f":"DAY(TODAY())","v":9}]
["申込日",{"$f":"DAY(TODAY())","v":9},null,null,null,null,null,null,null,null,null,null,null,"N5セル　大会名を入力可能",null,null,null,"R5セル　主催者名を入力可能",null,null,null,null,null,"N5セル　大会名を入力可能",null,null,null,"R5セル　主催者名を入力可能"]
[null,null,null,"合同チームの2チーム目",null,null,null,null,null,null,null,null,null,"N6セル　大会名を入力可能",null,null,null,"R6セル　主催者名を入力可能",null,null,null,null,null,"N6セル　大会名を入力可能",null,null,null,"R6セル　主催者名を入力可能"]
["チーム名(正式)","高松市立玉藻中学校",null,"チーム名(正式)"]
["チーム名(略称)","玉藻",null,"チーム名(略称)"]
["所在地","高松市上福岡町714番地1",null,"所在地",null,null,null,"各シートは、シートの保護をしています。様式を修正する場合は\n「校閲」→「シートの保護の解除」をしてください。"]
["電話番号","087-861-8196 ",null,"電話番号"]
["チームＩＤ",451331747,null,"チームＩＤ"]
["責任者(校長)氏名","間島 浩","所属","責任者氏名"]
["引率者氏名","木塲 達人",null,"←合同チームの場合"]
["引率者職名","教諭","所属"]
["連絡責任者氏名","藤原 悟"]
["連絡責任者携帯電話","090-8699-4929","↑"]
[null,null,"合同チームの場合",null,"×","個人情報について配慮が必要な者がいる場合は○、いない場合は×をつける。"]
["地区","高松",null,null,null,null,"個人情報の取り扱いについて",null,null,null,null,null,null,null,null,null,null,null,null,null,null,null,null,"小豆","さ東","高松","綾坂","丸亀","仲善","三観",null,"○"]
["性別","男子","合同チームの場合",null,null,null,null,null,null,null,null,null,null,null,null,null,null,null,null,null,null,null,null,"男子","女子",null,null,null,null,null,null,"×"]
[null,null,"↓",null,null,"　参加申込によって得た個人情報は原則として、大会の運営に関することのみに利用します。",null,null,null,null,null,null,null,null,null,null,null,null,null,null,null,null,null,null,null,null,null,null,null,null,null,"選択必須"]
["コーチ氏名","藤原 悟","所属",null,null,"ただし、以下の場合に個人情報を公開および提供することがあります。"]
["コーチ職名","教諭",null,{"$f":"VLOOKUP(B22,$AF$27:$AG$34,2,)","v":{"$error":"#N/A"}},null,"① 大会プログラムを作成し、チームの集合写真・選手氏名・学年・身長等が掲載されることがあります。",null,null,null,null,null,null,null,null,null,null,null,null,null,null,null,null,null,"教諭","講師","部活動指導員","校長","教頭","主幹教諭","指導教諭"]
["コーチ資格","C級",null,null,null,"② 新聞社に試合結果を提供します。その際に優秀選手等の個人名が提供されることがあります。",null,null,null,null,null,null,null,null,null,null,null,null,null,null,null,null,null,"A級","B級","C級","D級","E-1級","E-2級","なし"]
["コーチＩＤ",503334470,"合同チームの場合",null,null,"③ 新聞社が試合風景の写真を撮影し、掲載することがあります。"]
[null,null,"↓",null,null,"④ 協会ホームページに試合結果を掲載します。その際に優秀選手等の個人名が掲載されることがあります。"]
["Ａコーチ氏名","田中 美保","所属",null,null,"⑤ 協会ホームページに試合風景の写真を掲載することがあります。"]
["Ａコーチ職名","教諭",null,{"$f":"VLOOKUP(B27,$AF$27:$AG$34,2,)","v":{"$error":"#N/A"}},null,"⑥ 県協会、日本協会の求めに応じて、優秀選手の推薦等の資料として個人名・身長等を提供することがあります。",null,null,null,null,null,null,null,null,null,null,null,null,null,null,null,null,null,"教諭","講師","部活動指導員","外部コーチ","校長","教頭","主幹教諭","指導教諭",null,"教諭","教員"]
["Ａコーチ資格","なし",null,null,null,null,null,null,null,null,null,null,null,null,null,null,null,null,null,null,null,null,null,null,null,null,null,null,null,null,null,null,"講師","教員"]
["ＡコーチＩＤ",null,"合同チームの場合",null,null,null,null,null,null,null,null,null,null,null,null,null,null,null,null,null,null,null,null,null,null,null,null,null,null,null,null,"部活動指導員","部指"]
[null,null,"↓",null,null,null,null,null,null,null,null,null,null,null,null,null,null,null,null,null,null,null,null,null,null,null,null,null,null,null,null,"外部コーチ","外部"]
["マネージャー氏名","秋山 陽斗","所属",null,null,null,null,null,null,null,null,null,null,null,null,null,null,null,null,null,null,null,null,null,null,null,null,null,null,null,null,"校長","教員"]
["マネージャー職名","生徒",null,null,null,null,null,null,null,null,null,null,null,null,null,null,null,null,null,null,null,null,"教諭","講師","生徒","校長","教頭","主幹教諭","指導教諭",null,null,"教頭","教員"]
[null,null,null,null,null,null,null,null,null,null,null,null,null,null,null,null,null,null,null,null,null,null,null,null,null,null,null,null,null,null,null,"主幹教諭","教員"]
["トレーナー氏名",null,null,"『00』を使用する場合はﾕﾆﾌｫｰﾑNo.は『100』を入力してください。",null,null,null,null,null,null,null,null,null,null,null,null,null,null,null,null,null,null,null,null,null,null,null,null,null,null,null,"指導教諭","教員"]
["トレーナー資格",null,null,"『0』と『00』は同時には使用できません。",null,null,"合同チームの場合に校名略称",null,null,null,null,null,null,null,null,null,null,null,null,null,null,null,"医療に従事しており国家資格を有する者","トレーナーとして認定資格を有する者","当該校の養護教諭"]
[null,null,null,null,"↓","中体連主催の大会では\nＩＤは入力しなくてもよい","↓"]
[null,"選手氏名","学年","身長","ﾕﾆﾌｫｰﾑNo.","メンバーＩＤ","備考"]
[1,"田中 七翔","2年",160,77,214265674,null,"中体連主催の大会では\nＩＤは入力しなくてもよい",null,null,null,null,null,null,null,null,null,null,null,"3年","2年","1年",{"$f":"B8","v":"玉藻"},{"$f":"E8","v":0},{"$f":"IF(E38=\"\",\"*\",E38)","v":77}]
[2,"遠藤 優太","2年",165,24,233929752,null,null,null,null,null,null,null,null,null,null,null,null,null,null,null,null,null,null,24]
[3,"平田 悠生","2年",151,22,426173750,null,null,null,null,null,null,null,null,null,null,null,null,null,null,null,null,null,null,22]
[4,"西山 真輝","2年",164,61,442859117,null,null,null,null,null,null,null,null,null,null,null,null,null,null,null,null,null,null,61]
[5,"中山 晴矢","2年",157,51,478105860,null,null,null,null,null,null,null,null,null,null,null,null,null,null,null,null,null,null,51]
[6,"小松 聖奈","2年",175,57,511317885,null,null,null,null,null,null,null,null,null,null,null,null,null,null,null,null,null,null,57]
[7,"片岡 大二","2年",153,20,661949286,null,null,null,null,null,null,null,null,null,null,null,null,null,null,null,null,null,null,20]
[8,"高木 滉翔","2年",175,55,667570260,null,null,null,null,null,null,null,null,null,null,null,null,null,null,null,null,null,null,55]
[9,"小笠原 良介","2年",161,52,692206774,null,null,null,null,null,null,null,null,null,null,null,null,null,null,null,null,null,null,52]
[10,"宮脇 柚月","2年",168,47,721449427,null,null,null,null,null,null,null,null,null,null,null,null,null,null,null,null,null,null,47]
[11,"橋本 康佑","2年",163,84,741533314,null,null,null,null,null,null,null,null,null,null,null,null,null,null,null,null,null,null,84]
[12,"大原 真優","2年",149,0,794007563,null,null,null,null,null,null,null,null,null,null,null,null,null,null,null,null,null,null,0]
[13,"中柄 詩音","2年",156,83,806877314,null,null,null,null,null,null,null,null,null,null,null,null,null,null,null,null,null,null,83]
[14,"鶴身 桜助","2年",153,26,991325182,null,null,null,null,null,null,null,null,null,null,null,null,null,null,null,null,null,null,26]
[15,"松原 成到","2年",161,100,427197964,null,null,null,null,null,null,null,null,null,null,null,null,null,null,null,null,null,null,100]
[null,null,null,"↑\n整数で",null,"↑\n9桁の数",null,null,null,null,null,null,null,null,null,null,null,null,null,null,null,null,null,null,"*"]
[null,null,null,null,null,null,{"$f":"COUNTIF(#REF!,\"*\")","v":{"$error":"#REF!"}},{"$f":"COUNTIF(#REF!,\"*\")","v":{"$error":"#REF!"}},{"$f":"COUNTIF(#REF!,\"*\")","v":{"$error":"#REF!"}},{"$f":"COUNTIF(#REF!,\"*\")","v":{"$error":"#REF!"}}]

{"sheet":"参加申込","index":1,"n_rows":37,"n_cols":31,"rows_kept":37,"cut":false,"hidden":false,"merged":[[6,0,6,3],[8,23,8,28],[4,20,4,28],[5,20,5,28],[10,13,10,16],[9,17,9,18],[6,4,6,12],[6,13,6,16],[7,0,7,3],[7,4,7,12],[7,13,7,16],[7,17,7,25],[8,13,8,16],[8,19,8,20],[9,23,9,28],[9,13,9,16],[8,21,8,22],[8,4,8,12],[8,0,8,3],[8,17,8,18],[0,0,0,2],[4,0,5,3],[4,4,5,16],[4,17,4,19],[5,17,5,19],[1,20,1,22],[1,26,1,28],[2,20,2,22],[2,23,2,25],[0,5,0,23],[0,24,0,28],[1,23,1,25],[2,26,2,28],[11,13,11,14],[11,15,11,28],[16,0,16,1],[17,0,17,1],[18,0,18,1],[9,19,9,20],[9,21,9,22],[9,0,9,3],[10,0,10,3],[9,4,9,12],[10,4,10,12],[17,2,17,10],[17,11,17,13],[17,14,17,16],[16,11,16,13],[16,14,16,16],[11,0,11,3],[11,4,11,12],[14,0,14,1],[13,0,13,1],[15,0,15,1],[16,26,16,28],[13,26,13,28],[16,20,16,25],[25,0,25,1],[26,0,26,1],[27,0,27,1],[28,0,28,1],[19,0,19,1],[20,0,20,1],[21,0,21,1],[22,0,22,1],[23,0,23,1],[24,0,24,1],[13,17,13,19],[14,17,14,19],[15,17,15,19],[16,17,16,19],[16,2,16,10],[17,26,17,28],[18,2,18,10],[18,11,18,13],[18,14,18,16],[18,26,18,28],[13,11,13,13],[13,2,13,10],[14,2,14,10],[14,11,14,13],[14,14,14,16],[14,26,14,28],[13,20,13,25],[14,20,14,25],[15,20,15,25],[15,26,15,28],[13,14,13,16],[15,2,15,10],[15,11,15,13],[15,14,15,16],[19,2,19,10],[19,11,19,13],[19,14,19,16],[19,26,19,28],[17,20,17,25],[18,20,18,25],[19,20,19,25],[17,17,17,19],[18,17,18,19],[19,17,19,19],[20,2,20,10],[20,11,20,13],[20,14,20,16],[20,26,20,28],[21,2,21,10],[21,11,21,13],[21,14,21,16],[21,26,21,28],[20,20,20,25],[21,20,21,25],[20,17,20,19],[21,17,21,19],[22,2,22,10],[22,11,22,13],[22,14,22,16],[22,26,22,28],[23,2,23,10],[23,11,23,13],[23,14,23,16],[23,26,23,28],[22,20,22,25],[23,20,23,25],[22,17,22,19],[23,17,23,19],[24,2,24,10],[24,11,24,13],[24,14,24,16],[24,26,24,28],[25,2,25,10],[25,11,25,13],[25,14,25,16],[25,26,25,28],[24,20,24,25],[25,20,25,25],[24,17,24,19],[25,17,25,19],[28,2,28,10],[28,11,28,13],[28,14,28,16],[28,17,28,19],[28,26,28,28],[28,20,28,25],[26,2,26,10],[26,11,26,13],[26,14,26,16],[26,26,26,28],[27,2,27,10],[27,11,27,13],[27,14,27,16],[27,26,27,28],[26,20,26,25],[27,20,27,25],[26,17,26,19],[27,17,27,19],[36,13,36,14],[35,16,35,24],[36,16,36,24],[30,0,31,28],[33,0,33,13],[32,17,32,19],[36,26,36,27],[35,3,35,11],[36,3,36,11]]}
[{"$f":"IF(入力欄!B4>3,入力欄!B3,入力欄!B3-1)","v":2020},null,null,"年度",null,{"$f":"入力欄!A1","v":"香川県中学校新人体育大会 バスケットボール競技"},null,null,null,null,null,null,null,null,null,null,null,null,null,null,null,null,null,null,"参加申込"]
[null,null,null,null,null,null,null,null,null,null,null,null,null,null,null,null,null,null,null,null,"地区",null,null,"性別"]
[null,null,null,null,null,null,null,null,null,null,null,null,null,null,null,null,null,null,null,null,{"$f":"入力欄!B18","v":"高松"},null,null,{"$f":"入力欄!B19","v":"男子"}]
[]
["チーム名",null,null,null,{"$f":"IF(入力欄!E7=\"\",入力欄!B7,入力欄!B7&\"，\"&入力欄!E7)","v":"高松市立玉藻中学校"},null,null,null,null,null,null,null,null,null,null,null,null,"住所",null,null,{"$f":"IF(入力欄!E7=\"\",入力欄!B9,入力欄!B9&\"，\"&入力欄!E9)","v":"高松市上福岡町714番地1"}]
[null,null,null,null,null,null,null,null,null,null,null,null,null,null,null,null,null,"電話",null,null,{"$f":"IF(入力欄!E7=\"\",入力欄!B10,入力欄!B10&\"，\"&入力欄!E10)","v":"087-861-8196 "},null,null,null,null,null,null,null,null,null,"『0』が表示されているところは、入力欄に戻って必ず入力してください。"]
["引率責任者",null,null,null,{"$f":"IF(入力欄!E7=\"\",入力欄!B13,入力欄!B13&\"（\"&入力欄!C13&\"）\")","v":"木塲 達人"},null,null,null,null,null,null,null,null,{"$f":"入力欄!B14","v":"教諭"}]
["連絡責任者",null,null,null,{"$f":"IF(入力欄!E7=\"\",入力欄!B15,入力欄!B15&\"（\"&入力欄!C15&\"）\")","v":"藤原 悟"},null,null,null,null,null,null,null,null,"緊急連絡先",null,null,null,{"$f":"入力欄!B16","v":"090-8699-4929"}]
["コーチ",null,null,null,{"$f":"IF(入力欄!E7=\"\",入力欄!B21,入力欄!B21&\"（\"&入力欄!C22&\"）\")","v":"藤原 悟"},null,null,null,null,null,null,null,null,{"$f":"入力欄!B22","v":"教諭"},null,null,null,"資格",null,{"$f":"入力欄!B23","v":"C級"},null,"ＩＤ",null,{"$f":"IF(T9=\"なし\",\"\",入力欄!B24)","v":503334470},null,null,null,null,null,null,"中体連主催の大会では　ＩＤの入力はしなくてもかまいません。"]
["Ａコーチ",null,null,null,{"$f":"IF(入力欄!B26=\"\",\"\",IF(入力欄!E7=\"\",入力欄!B26,入力欄!B26&\"（\"&入力欄!C27&\"）\"))","v":"田中 美保"},null,null,null,null,null,null,null,null,{"$f":"IF(入力欄!B26=\"\",\"\",入力欄!B27)","v":"教諭"},null,null,null,"資格",null,{"$f":"IF(入力欄!B26=\"\",\"\",入力欄!B28)","v":"なし"},null,"ＩＤ",null,{"$f":"IF(T10=\"なし\",\"\",入力欄!B29)","v":""}]
["マネージャー",null,null,null,{"$f":"IF(入力欄!E7=\"\",入力欄!B31,入力欄!B31&\"（\"&入力欄!C32&\"）\")","v":"秋山 陽斗"},null,null,null,null,null,null,null,null,{"$f":"IF(入力欄!B31=\"\",\"\",入力欄!B32)","v":"生徒"}]
["トレーナー",null,null,null,{"$f":"IF(入力欄!B34=\"\",\"\",入力欄!B34)","v":""},null,null,null,null,null,null,null,null,"資格",null,{"$f":"IF(入力欄!B34=\"\",\"\",入力欄!B35)","v":""}]
[]
[null,null,"選　手　氏　名",null,null,null,null,null,null,null,null,"学年",null,null,"身長",null,null,"ﾕﾆﾌｫｰﾑ",null,null,"Ｉ Ｄ",null,null,null,null,null,"備考"]
[1,null,{"$f":"入力欄!B38","v":"田中 七翔"},null,null,null,null,null,null,null,null,{"$f":"入力欄!C38","v":"2年"},null,null,{"$f":"入力欄!D38","v":160},null,null,{"$f":"IF(入力欄!E38=\"\",\"\",IF(入力欄!E38=100,\"00\",入力欄!E38))","v":77},null,null,{"$f":"IF(入力欄!F38=\"\",\"\",IF(入力欄!F38=700000000,\"申請中\",入力欄!F38))","v":214265674},null,null,null,null,null,{"$f":"IF(入力欄!$E$7=\"\",\"\",入力欄!G38)","v":""},null,null,null,"中体連主催の大会では　ＩＤの入力はしなくてもかまいません。"]
[2,null,{"$f":"入力欄!B39","v":"遠藤 優太"},null,null,null,null,null,null,null,null,{"$f":"入力欄!C39","v":"2年"},null,null,{"$f":"入力欄!D39","v":165},null,null,{"$f":"IF(入力欄!E39=\"\",\"\",IF(入力欄!E39=100,\"00\",入力欄!E39))","v":24},null,null,{"$f":"IF(入力欄!F39=\"\",\"\",IF(入力欄!F39=700000000,\"申請中\",入力欄!F39))","v":233929752},null,null,null,null,null,{"$f":"IF(入力欄!$E$7=\"\",\"\",入力欄!G39)","v":""}]
[3,null,{"$f":"入力欄!B40","v":"平田 悠生"},null,null,null,null,null,null,null,null,{"$f":"入力欄!C40","v":"2年"},null,null,{"$f":"入力欄!D40","v":151},null,null,{"$f":"IF(入力欄!E40=\"\",\"\",IF(入力欄!E40=100,\"00\",入力欄!E40))","v":22},null,null,{"$f":"IF(入力欄!F40=\"\",\"\",IF(入力欄!F40=700000000,\"申請中\",入力欄!F40))","v":426173750},null,null,null,null,null,{"$f":"IF(入力欄!$E$7=\"\",\"\",入力欄!G40)","v":""}]
[4,null,{"$f":"入力欄!B41","v":"西山 真輝"},null,null,null,null,null,null,null,null,{"$f":"入力欄!C41","v":"2年"},null,null,{"$f":"入力欄!D41","v":164},null,null,{"$f":"IF(入力欄!E41=\"\",\"\",IF(入力欄!E41=100,\"00\",入力欄!E41))","v":61},null,null,{"$f":"IF(入力欄!F41=\"\",\"\",IF(入力欄!F41=700000000,\"申請中\",入力欄!F41))","v":442859117},null,null,null,null,null,{"$f":"IF(入力欄!$E$7=\"\",\"\",入力欄!G41)","v":""},null,null,null,"ﾕﾆﾌｫｰﾑNo.に『00』を使用する場合は"]
[5,null,{"$f":"入力欄!B42","v":"中山 晴矢"},null,null,null,null,null,null,null,null,{"$f":"入力欄!C42","v":"2年"},null,null,{"$f":"入力欄!D42","v":157},null,null,{"$f":"IF(入力欄!E42=\"\",\"\",IF(入力欄!E42=100,\"00\",入力欄!E42))","v":51},null,null,{"$f":"IF(入力欄!F42=\"\",\"\",IF(入力欄!F42=700000000,\"申請中\",入力欄!F42))","v":478105860},null,null,null,null,null,{"$f":"IF(入力欄!$E$7=\"\",\"\",入力欄!G42)","v":""},null,null,null,"入力欄のﾕﾆﾌｫｰﾑNo.を『100』と入力してください。"]
[6,null,{"$f":"IF(入力欄!B43=\"\",\"\",入力欄!B43)","v":"小松 聖奈"},null,null,null,null,null,null,null,null,{"$f":"IF(入力欄!C43=\"\",\"\",入力欄!C43)","v":"2年"},null,null,{"$f":"IF(入力欄!D43=\"\",\"\",入力欄!D43)","v":175},null,null,{"$f":"IF(入力欄!E43=\"\",\"\",IF(入力欄!E43=100,\"00\",入力欄!E43))","v":57},null,null,{"$f":"IF(入力欄!F43=\"\",\"\",IF(入力欄!F43=700000000,\"申請中\",入力欄!F43))","v":511317885},null,null,null,null,null,{"$f":"IF(入力欄!$E$7=\"\",\"\",IF(入力欄!B43=\"\",\"\",入力欄!G43))","v":""},null,null,null,"なお、『0』と『00』は同時に使用できません。"]
[7,null,{"$f":"IF(入力欄!B44=\"\",\"\",入力欄!B44)","v":"片岡 大二"},null,null,null,null,null,null,null,null,{"$f":"IF(入力欄!C44=\"\",\"\",入力欄!C44)","v":"2年"},null,null,{"$f":"IF(入力欄!D44=\"\",\"\",入力欄!D44)","v":153},null,null,{"$f":"IF(入力欄!E44=\"\",\"\",IF(入力欄!E44=100,\"00\",入力欄!E44))","v":20},null,null,{"$f":"IF(入力欄!F44=\"\",\"\",IF(入力欄!F44=700000000,\"申請中\",入力欄!F44))","v":661949286},null,null,null,null,null,{"$f":"IF(入力欄!$E$7=\"\",\"\",IF(入力欄!B44=\"\",\"\",入力欄!G44))","v":""}]
[8,null,{"$f":"IF(入力欄!B45=\"\",\"\",入力欄!B45)","v":"高木 滉翔"},null,null,null,null,null,null,null,null,{"$f":"IF(入力欄!C45=\"\",\"\",入力欄!C45)","v":"2年"},null,null,{"$f":"IF(入力欄!D45=\"\",\"\",入力欄!D45)","v":175},null,null,{"$f":"IF(入力欄!E45=\"\",\"\",IF(入力欄!E45=100,\"00\",入力欄!E45))","v":55},null,null,{"$f":"IF(入力欄!F45=\"\",\"\",IF(入力欄!F45=700000000,\"申請中\",入力欄!F45))","v":667570260},null,null,null,null,null,{"$f":"IF(入力欄!$E$7=\"\",\"\",IF(入力欄!B45=\"\",\"\",入力欄!G45))","v":""}]
[9,null,{"$f":"IF(入力欄!B46=\"\",\"\",入力欄!B46)","v":"小笠原 良介"},null,null,null,null,null,null,null,null,{"$f":"IF(入力欄!C46=\"\",\"\",入力欄!C46)","v":"2年"},null,null,{"$f":"IF(入力欄!D46=\"\",\"\",入力欄!D46)","v":161},null,null,{"$f":"IF(入力欄!E46=\"\",\"\",IF(入力欄!E46=100,\"00\",入力欄!E46))","v":52},null,null,{"$f":"IF(入力欄!F46=\"\",\"\",IF(入力欄!F46=700000000,\"申請中\",入力欄!F46))","v":692206774},null,null,null,null,null,{"$f":"IF(入力欄!$E$7=\"\",\"\",IF(入力欄!B46=\"\",\"\",入力欄!G46))","v":""}]
[10,null,{"$f":"IF(入力欄!B47=\"\",\"\",入力欄!B47)","v":"宮脇 柚月"},null,null,null,null,null,null,null,null,{"$f":"IF(入力欄!C47=\"\",\"\",入力欄!C47)","v":"2年"},null,null,{"$f":"IF(入力欄!D47=\"\",\"\",入力欄!D47)","v":168},null,null,{"$f":"IF(入力欄!E47=\"\",\"\",IF(入力欄!E47=100,\"00\",入力欄!E47))","v":47},null,null,{"$f":"IF(入力欄!F47=\"\",\"\",IF(入力欄!F47=700000000,\"申請中\",入力欄!F47))","v":721449427},null,null,null,null,null,{"$f":"IF(入力欄!$E$7=\"\",\"\",IF(入力欄!B47=\"\",\"\",入力欄!G47))","v":""}]
[11,null,{"$f":"IF(入力欄!B48=\"\",\"\",入力欄!B48)","v":"橋本 康佑"},null,null,null,null,null,null,null,null,{"$f":"IF(入力欄!C48=\"\",\"\",入力欄!C48)","v":"2年"},null,null,{"$f":"IF(入力欄!D48=\"\",\"\",入力欄!D48)","v":163},null,null,{"$f":"IF(入力欄!E48=\"\",\"\",IF(入力欄!E48=100,\"00\",入力欄!E48))","v":84},null,null,{"$f":"IF(入力欄!F48=\"\",\"\",IF(入力欄!F48=700000000,\"申請中\",入力欄!F48))","v":741533314},null,null,null,null,null,{"$f":"IF(入力欄!$E$7=\"\",\"\",IF(入力欄!B48=\"\",\"\",入力欄!G48))","v":""}]
[12,null,{"$f":"IF(入力欄!B49=\"\",\"\",入力欄!B49)","v":"大原 真優"},null,null,null,null,null,null,null,null,{"$f":"IF(入力欄!C49=\"\",\"\",入力欄!C49)","v":"2年"},null,null,{"$f":"IF(入力欄!D49=\"\",\"\",入力欄!D49)","v":149},null,null,{"$f":"IF(入力欄!E49=\"\",\"\",IF(入力欄!E49=100,\"00\",入力欄!E49))","v":0},null,null,{"$f":"IF(入力欄!F49=\"\",\"\",IF(入力欄!F49=700000000,\"申請中\",入力欄!F49))","v":794007563},null,null,null,null,null,{"$f":"IF(入力欄!$E$7=\"\",\"\",IF(入力欄!B49=\"\",\"\",入力欄!G49))","v":""}]
[13,null,{"$f":"IF(入力欄!B50=\"\",\"\",入力欄!B50)","v":"中柄 詩音"},null,null,null,null,null,null,null,null,{"$f":"IF(入力欄!C50=\"\",\"\",入力欄!C50)","v":"2年"},null,null,{"$f":"IF(入力欄!D50=\"\",\"\",入力欄!D50)","v":156},null,null,{"$f":"IF(入力欄!E50=\"\",\"\",IF(入力欄!E50=100,\"00\",入力欄!E50))","v":83},null,null,{"$f":"IF(入力欄!F50=\"\",\"\",IF(入力欄!F50=700000000,\"申請中\",入力欄!F50))","v":806877314},null,null,null,null,null,{"$f":"IF(入力欄!$E$7=\"\",\"\",IF(入力欄!B50=\"\",\"\",入力欄!G50))","v":""}]
[14,null,{"$f":"IF(入力欄!B51=\"\",\"\",入力欄!B51)","v":"鶴身 桜助"},null,null,null,null,null,null,null,null,{"$f":"IF(入力欄!C51=\"\",\"\",入力欄!C51)","v":"2年"},null,null,{"$f":"IF(入力欄!D51=\"\",\"\",入力欄!D51)","v":153},null,null,{"$f":"IF(入力欄!E51=\"\",\"\",IF(入力欄!E51=100,\"00\",入力欄!E51))","v":26},null,null,{"$f":"IF(入力欄!F51=\"\",\"\",IF(入力欄!F51=700000000,\"申請中\",入力欄!F51))","v":991325182},null,null,null,null,null,{"$f":"IF(入力欄!$E$7=\"\",\"\",IF(入力欄!B51=\"\",\"\",入力欄!G51))","v":""}]
[15,null,{"$f":"IF(入力欄!B52=\"\",\"\",入力欄!B52)","v":"松原 成到"},null,null,null,null,null,null,null,null,{"$f":"IF(入力欄!C52=\"\",\"\",入力欄!C52)","v":"2年"},null,null,{"$f":"IF(入力欄!D52=\"\",\"\",入力欄!D52)","v":161},null,null,{"$f":"IF(入力欄!E52=\"\",\"\",IF(入力欄!E52=100,\"00\",入力欄!E52))","v":"00"},null,null,{"$f":"IF(入力欄!F52=\"\",\"\",IF(入力欄!F52=700000000,\"申請中\",入力欄!F52))","v":427197964},null,null,null,null,null,{"$f":"IF(入力欄!$E$7=\"\",\"\",IF(入力欄!B52=\"\",\"\",入力欄!G52))","v":""}]
[]
[{"$f":"IF(入力欄!E17=\"選択必須\",AE31,IF(入力欄!E17=\"○\",AE34,AE32))","v":"　上記の選手は本校在学生徒(本チーム在籍)で標記大会に参加することを承認します。\n　また，上記の者の個人情報の取り扱いについては，香川県中学校体育連盟が認めた範囲への公開・提供について承諾します。"},null,null,null,null,null,null,null,null,null,null,null,null,null,null,null,null,null,null,null,null,null,null,null,null,null,null,null,null,null,"入力項目に不備があります。\n　入力欄の個人情報の確認欄の　○ か × を選んでください。"]
[null,null,null,null,null,null,null,null,null,null,null,null,null,null,null,null,null,null,null,null,null,null,null,null,null,null,null,null,null,null,{"$f":"\"　上記の選手は本校在学生徒(本チーム在籍)で標記大会に参加することを承認します。\n　また，上記の者の個人情報の取り扱いについては，\"&入力欄!C1&\"が認めた範囲への公開・提供について承諾します。\"","v":"　上記の選手は本校在学生徒(本チーム在籍)で標記大会に参加することを承認します。\n　また，上記の者の個人情報の取り扱いについては，香川県中学校体育連盟が認めた範囲への公開・提供について承諾します。"}]
[null,null,null,null,null,null,null,null,null,null,null,null,null,null,null,null,null,{"$f":"入力欄!B3","v":2020},null,null,"年",{"$f":"入力欄!B4","v":8},"月",{"$f":"入力欄!B5","v":9},"日"]
[{"$f":"入力欄!C1&\"会長 殿\"","v":"香川県中学校体育連盟会長 殿"},null,null,null,null,null,null,null,null,null,null,null,null,null,null,null,null,null,null,null,null,null,null,null,null,null,null,null,null,null,{"$f":"\"　上記の選手は本校在学生徒(本チーム在籍)で標記大会に参加することを承認します。\n　また，別紙で提出した者以外の個人情報の取り扱いについては，\"&入力欄!C1&\"が認めた範囲への公開・提供について承諾します。\"","v":"　上記の選手は本校在学生徒(本チーム在籍)で標記大会に参加することを承認します。\n　また，別紙で提出した者以外の個人情報の取り扱いについては，香川県中学校体育連盟が認めた範囲への公開・提供について承諾します。"}]
[]
[null,null,null,{"$f":"IF(入力欄!E7=\"\",\"\",入力欄!E7)","v":""},null,null,null,null,null,null,null,null,null,null,null,null,{"$f":"入力欄!B7","v":"高松市立玉藻中学校"}]
[null,null,null,{"$f":"IF(入力欄!E7=\"\",\"\",\"校長　　\"&入力欄!E12)","v":""},null,null,null,null,null,null,null,null,null,{"$f":"IF(入力欄!E7=\"\",\"\",\"印\")","v":""},null,null,{"$f":"\"校長　　\"&入力欄!B12","v":"校長　　間島 浩"},null,null,null,null,null,null,null,null,null,"印"]

{"sheet":"メンバー票","index":2,"n_rows":77,"n_cols":80,"rows_kept":77,"cut":false,"hidden":false,"merged":[[41,33,41,34],[41,38,41,50],[41,51,41,52],[41,53,41,54],[41,55,41,56],[41,57,41,58],[41,59,41,60],[41,61,41,62],[39,59,39,60],[39,61,39,62],[39,63,39,64],[40,63,40,64],[42,31,42,32],[46,26,55,55],[5,68,8,72],[43,63,43,64],[44,1,44,7],[44,27,44,28],[44,29,44,30],[44,31,44,32],[44,33,44,39],[44,59,44,60],[44,61,44,62],[44,63,44,64],[43,1,43,7],[43,27,43,28],[43,29,43,30],[43,31,43,32],[43,33,43,39],[43,59,43,60],[43,61,43,62],[42,33,42,34],[41,63,41,64],[42,51,42,52],[42,53,42,54],[42,55,42,56],[42,57,42,58],[42,59,42,60],[42,61,42,62],[42,63,42,64],[42,38,42,50],[38,63,38,64],[40,1,40,2],[40,6,40,18],[40,19,40,20],[40,21,40,22],[40,23,40,24],[40,25,40,26],[40,27,40,28],[40,29,40,30],[40,31,40,32],[40,33,40,34],[40,38,40,50],[40,51,40,52],[40,53,40,54],[40,55,40,56],[40,57,40,58],[40,59,40,60],[40,61,40,62],[39,33,39,34],[39,38,39,50],[39,51,39,52],[39,53,39,54],[39,55,39,56],[39,57,39,58],[38,31,38,32],[38,33,38,34],[38,38,38,50],[38,51,38,52],[38,53,38,54],[38,55,38,56],[38,57,38,58],[38,59,38,60],[38,61,38,62],[37,33,37,34],[37,38,37,50],[37,51,37,52],[37,53,37,54],[37,55,37,56],[37,57,37,58],[37,59,37,60],[37,61,37,62],[37,63,37,64],[35,31,35,32],[35,33,35,34],[35,38,35,50],[35,29,35,30],[35,51,35,52],[35,53,35,54],[35,55,35,56],[35,57,35,58],[35,6,35,18],[35,19,35,20],[35,21,35,22],[33,57,33,58],[33,59,33,60],[33,61,33,62],[33,63,33,64],[34,19,34,20],[35,59,35,60],[35,61,35,62],[35,63,35,64],[36,6,36,18],[36,19,36,20],[36,21,36,22],[36,23,36,24],[36,25,36,26],[36,27,36,28],[36,31,36,32],[36,33,36,34],[36,38,36,50],[36,51,36,52],[36,53,36,54],[36,55,36,56],[36,57,36,58],[36,59,36,60],[36,61,36,62],[36,63,36,64],[34,38,34,50],[34,51,34,52],[34,53,34,54],[34,55,34,56],[34,57,34,58],[34,59,34,60],[34,61,34,62],[34,63,34,64],[33,1,33,2],[33,6,33,18],[33,21,33,22],[33,23,33,24],[33,25,33,26],[33,27,33,28],[33,38,33,50],[34,33,34,34],[34,31,34,32],[33,19,33,20],[33,33,33,34],[33,29,33,30],[33,31,33,32],[33,51,33,52],[33,53,33,54],[33,55,33,56],[32,38,32,50],[32,51,32,52],[32,53,32,54],[32,55,32,56],[32,57,32,58],[32,59,32,60],[32,61,32,62],[32,63,32,64],[30,38,30,50],[30,57,30,58],[30,59,30,60],[30,61,30,62],[30,63,30,64],[31,51,31,52],[31,53,31,54],[31,55,31,56],[31,57,31,58],[31,59,31,60],[31,61,31,62],[31,63,31,64],[31,38,31,50],[31,19,31,20],[31,33,31,34],[30,51,30,52],[30,53,30,54],[30,55,30,56],[29,51,29,52],[29,53,29,54],[29,55,29,56],[30,33,30,34],[31,1,31,2],[31,6,31,18],[31,21,31,22],[31,23,31,24],[31,25,31,26],[31,27,31,28],[31,29,31,30],[31,31,31,32],[29,57,29,58],[29,59,29,60],[29,61,29,62],[29,63,29,64],[28,25,28,26],[28,27,28,28],[28,29,28,30],[28,31,28,32],[28,38,28,50],[28,51,28,52],[28,53,28,54],[28,55,28,56],[28,57,28,58],[28,59,28,60],[28,61,28,62],[28,63,28,64],[29,31,29,32],[29,38,29,50],[26,51,27,52],[26,53,27,54],[26,55,26,64],[27,23,27,24],[27,25,27,26],[27,27,27,28],[27,29,27,30],[27,31,27,32],[27,55,27,56],[27,57,27,58],[27,59,27,60],[27,61,27,62],[27,63,27,64],[22,59,22,60],[22,61,22,62],[22,63,22,64],[23,6,24,29],[23,38,24,61],[25,1,25,32],[25,33,25,64],[22,1,22,7],[22,27,22,28],[22,29,22,30],[20,59,20,60],[20,61,20,62],[20,63,20,64],[21,1,21,7],[21,27,21,28],[21,29,21,30],[21,31,21,32],[21,33,21,39],[21,59,21,60],[21,61,21,62],[21,63,21,64],[20,25,20,26],[20,27,20,28],[20,29,20,30],[20,31,20,32],[20,38,20,50],[20,51,20,52],[20,53,20,54],[20,55,20,56],[20,57,20,58],[20,33,20,34],[20,19,20,20],[20,1,20,2],[20,6,20,18],[18,51,18,52],[18,53,18,54],[18,55,18,56],[18,57,18,58],[18,59,18,60],[18,61,18,62],[18,63,18,64],[19,1,19,2],[19,6,19,18],[19,21,19,22],[19,23,19,24],[19,25,19,26],[19,27,19,28],[19,29,19,30],[19,38,19,50],[19,51,19,52],[19,53,19,54],[19,55,19,56],[19,57,19,58],[19,59,19,60],[19,61,19,62],[19,63,19,64],[19,19,19,20],[19,31,19,32],[16,31,16,32],[16,38,16,50],[16,33,16,34],[14,38,14,50],[14,51,14,52],[14,53,14,54],[14,55,14,56],[14,57,14,58],[14,6,14,18],[14,21,14,22],[15,19,15,20],[15,33,15,34],[14,19,14,20],[14,1,14,2],[14,25,14,26],[16,59,16,60],[16,61,16,62],[16,63,16,64],[17,6,17,18],[17,19,17,20],[17,21,17,22],[17,23,17,24],[17,25,17,26],[17,27,17,28],[17,31,17,32],[17,33,17,34],[17,38,17,50],[17,51,17,52],[17,53,17,54],[17,55,17,56],[17,57,17,58],[17,59,17,60],[17,61,17,62],[17,63,17,64],[16,51,16,52],[16,53,16,54],[16,55,16,56],[16,57,16,58],[14,59,14,60],[14,61,14,62],[14,63,14,64],[15,1,15,2],[15,6,15,18],[15,21,15,22],[15,23,15,24],[15,25,15,26],[15,27,15,28],[15,29,15,30],[15,31,15,32],[15,38,15,50],[15,51,15,52],[15,53,15,54],[15,55,15,56],[15,57,15,58],[15,59,15,60],[15,61,15,62],[15,63,15,64],[14,33,14,34],[12,61,12,62],[12,63,12,64],[13,1,13,2],[13,6,13,18],[13,21,13,22],[13,23,13,24],[13,25,13,26],[13,27,13,28],[13,29,13,30],[13,31,13,32],[13,38,13,50],[13,51,13,52],[13,53,13,54],[13,55,13,56],[13,57,13,58],[13,59,13,60],[13,61,13,62],[13,63,13,64],[12,38,12,50],[12,51,12,52],[12,59,12,60],[12,53,12,54],[12,55,12,56],[12,57,12,58],[11,38,11,50],[11,51,11,52],[11,53,11,54],[11,55,11,56],[11,57,11,58],[11,59,11,60],[11,61,11,62],[11,63,11,64],[10,1,10,2],[10,38,10,50],[10,6,10,18],[10,51,10,52],[10,53,10,54],[9,51,9,52],[9,53,9,54],[10,55,10,56],[10,57,10,58],[10,59,10,60],[10,61,10,62],[10,63,10,64],[9,55,9,56],[9,57,9,58],[9,59,9,60],[9,61,9,62],[9,63,9,64],[7,38,7,50],[7,51,7,52],[7,53,7,54],[7,55,7,56],[7,57,7,58],[7,59,7,60],[7,61,7,62],[7,63,7,64],[8,51,8,52],[8,53,8,54],[8,55,8,56],[8,57,8,58],[8,59,8,60],[8,61,8,62],[8,63,8,64],[9,38,9,50],[8,1,8,2],[8,6,8,18],[8,21,8,22],[8,23,8,24],[8,25,8,26],[8,27,8,28],[8,29,8,30],[8,31,8,32],[8,38,8,50],[9,1,9,2],[9,6,9,18],[9,21,9,22],[9,23,9,24],[9,25,9,26],[9,27,9,28],[9,29,9,30],[9,31,9,32],[9,19,9,20],[5,59,5,60],[5,61,5,62],[5,63,5,64],[6,1,6,2],[6,6,6,18],[6,21,6,22],[6,23,6,24],[6,25,6,26],[6,38,6,50],[6,51,6,52],[6,53,6,54],[6,55,6,56],[6,57,6,58],[6,59,6,60],[6,61,6,62],[6,63,6,64],[5,29,5,30],[5,31,5,32],[5,55,5,56],[5,57,5,58],[6,19,6,20],[7,1,7,2],[7,6,7,18],[7,21,7,22],[7,23,7,24],[1,6,2,29],[1,38,2,61],[1,68,3,76],[3,1,3,32],[3,33,3,64],[4,1,5,2],[4,3,5,5],[4,6,5,18],[4,19,5,20],[4,21,5,22],[4,23,4,32],[4,33,5,34],[4,35,5,37],[4,38,5,50],[4,51,5,52],[4,53,5,54],[4,55,4,64],[5,23,5,24],[5,25,5,26],[5,27,5,28],[10,33,10,34],[6,33,6,34],[7,19,7,20],[7,33,7,34],[8,19,8,20],[8,33,8,34],[7,25,7,26],[7,27,7,28],[7,29,7,30],[7,31,7,32],[6,27,6,28],[6,29,6,30],[6,31,6,32],[9,33,9,34],[11,29,11,30],[11,31,11,32],[10,21,10,22],[10,23,10,24],[10,25,10,26],[10,27,10,28],[10,29,10,30],[10,31,10,32],[10,19,10,20],[14,23,14,24],[14,27,14,28],[14,29,14,30],[14,31,14,32],[11,1,11,2],[11,6,11,18],[11,21,11,22],[13,19,13,20],[13,33,13,34],[12,19,12,20],[12,1,12,2],[12,6,12,18],[12,21,12,22],[12,23,12,24],[12,33,12,34],[12,25,12,26],[12,27,12,28],[12,29,12,30],[12,31,12,32],[11,19,11,20],[11,33,11,34],[11,23,11,24],[11,25,11,26],[11,27,11,28],[16,19,16,20],[16,1,16,2],[16,6,16,18],[16,21,16,22],[16,23,16,24],[18,1,18,2],[18,29,18,30],[18,6,18,18],[18,19,18,20],[18,21,18,22],[18,23,18,24],[18,25,18,26],[18,27,18,28],[16,25,16,26],[16,27,16,28],[16,29,16,30],[30,25,30,26],[30,27,30,28],[30,29,30,30],[30,31,30,32],[32,33,32,34],[32,1,32,2],[32,6,32,18],[32,21,32,22],[17,1,17,2],[17,29,17,30],[22,31,22,32],[22,33,22,39],[19,33,19,34],[18,31,18,32],[18,33,18,34],[18,38,18,50],[20,21,20,22],[20,23,20,24],[26,21,27,22],[26,23,26,32],[26,33,27,34],[26,35,27,37],[26,38,27,50],[30,19,30,20],[32,31,32,32],[26,1,27,2],[26,3,27,5],[26,6,27,18],[26,19,27,20],[28,33,28,34],[29,19,29,20],[29,33,29,34],[28,19,28,20],[28,1,28,2],[28,6,28,18],[28,21,28,22],[28,23,28,24],[29,1,29,2],[29,6,29,18],[29,21,29,22],[29,23,29,24],[29,25,29,26],[29,27,29,28],[29,29,29,30],[30,1,30,2],[30,6,30,18],[30,21,30,22],[30,23,30,24],[32,19,32,20],[32,23,32,24],[32,25,32,26],[32,27,32,28],[32,29,32,30],[35,1,35,2],[41,25,41,26],[41,27,41,28],[41,29,41,30],[35,25,35,26],[35,27,35,28],[38,1,38,2],[38,6,38,18],[38,19,38,20],[38,21,38,22],[38,23,38,24],[38,25,38,26],[38,27,38,28],[38,29,38,30],[35,23,35,24],[36,1,36,2],[36,29,36,30],[34,1,34,2],[34,6,34,18],[34,21,34,22],[34,23,34,24],[34,25,34,26],[34,27,34,28],[34,29,34,30],[41,1,41,2],[41,6,41,18],[41,19,41,20],[41,21,41,22],[41,23,41,24],[41,31,41,32],[42,6,42,18],[42,19,42,20],[42,21,42,22],[42,23,42,24],[42,25,42,26],[42,27,42,28],[42,29,42,30],[42,1,42,2],[39,1,39,2],[39,6,39,18],[39,19,39,20],[39,21,39,22],[39,23,39,24],[39,25,39,26],[39,27,39,28],[39,29,39,30],[39,31,39,32],[37,1,37,2],[37,6,37,18],[37,19,37,20],[37,21,37,22],[37,23,37,24],[37,25,37,26],[37,27,37,28],[37,29,37,30],[37,31,37,32],[60,33,60,34],[60,38,60,50],[60,51,60,52],[60,53,60,54],[60,55,60,56],[60,57,60,58],[60,59,60,60],[60,61,60,62],[60,63,60,64],[58,33,59,34],[58,35,59,37],[58,38,59,50],[58,51,59,52],[58,53,59,54],[58,55,58,64],[59,55,59,56],[59,57,59,58],[59,59,59,60],[59,61,59,62],[59,63,59,64],[62,33,62,34],[62,38,62,50],[62,51,62,52],[62,53,62,54],[62,55,62,56],[62,57,62,58],[62,59,62,60],[62,61,62,62],[62,63,62,64],[61,33,61,34],[61,38,61,50],[61,51,61,52],[61,53,61,54],[61,55,61,56],[61,57,61,58],[61,59,61,60],[61,61,61,62],[61,63,61,64],[64,33,64,34],[64,38,64,50],[64,51,64,52],[64,53,64,54],[64,55,64,56],[64,57,64,58],[64,59,64,60],[64,61,64,62],[64,63,64,64],[63,33,63,34],[63,38,63,50],[63,51,63,52],[63,53,63,54],[63,55,63,56],[63,57,63,58],[63,59,63,60],[63,61,63,62],[63,63,63,64],[66,33,66,34],[66,38,66,50],[66,51,66,52],[66,53,66,54],[66,55,66,56],[66,57,66,58],[66,59,66,60],[66,61,66,62],[66,63,66,64],[65,33,65,34],[65,38,65,50],[65,51,65,52],[65,53,65,54],[65,55,65,56],[65,57,65,58],[65,59,65,60],[65,61,65,62],[65,63,65,64],[67,55,67,56],[67,57,67,58],[67,59,67,60],[67,61,67,62],[67,63,67,64],[68,33,68,34],[68,38,68,50],[68,51,68,52],[68,53,68,54],[68,55,68,56],[68,57,68,58],[68,59,68,60],[68,61,68,62],[68,63,68,64],[69,55,69,56],[69,57,69,58],[69,59,69,60],[69,61,69,62],[69,63,69,64],[70,33,70,34],[70,38,70,50],[70,51,70,52],[70,53,70,54],[70,55,70,56],[70,57,70,58],[70,59,70,60],[70,61,70,62],[70,63,70,64],[71,55,71,56],[71,57,71,58],[71,59,71,60],[71,61,71,62],[71,63,71,64],[72,33,72,34],[72,38,72,50],[72,51,72,52],[72,53,72,54],[72,55,72,56],[72,57,72,58],[72,59,72,60],[72,61,72,62],[72,63,72,64],[73,55,73,56],[73,57,73,58],[73,59,73,60],[73,61,73,62],[73,63,73,64],[74,33,74,34],[74,38,74,50],[74,51,74,52],[74,53,74,54],[74,55,74,56],[74,57,74,58],[74,59,74,60],[74,61,74,62],[74,63,74,64],[21,11,21,22],[22,11,22,22],[21,43,21,54],[22,43,22,54],[43,11,43,22],[44,11,44,22],[43,43,43,54],[44,43,44,54],[73,33,73,34],[73,38,73,50],[73,51,73,52],[73,53,73,54],[71,33,71,34],[71,38,71,50],[71,51,71,52],[71,53,71,54],[69,33,69,34],[69,38,69,50],[69,51,69,52],[69,53,69,54],[67,33,67,34],[67,38,67,50],[67,51,67,52],[67,53,67,54],[75,33,75,39],[75,43,75,58],[75,59,75,60],[75,61,75,62],[75,63,75,64],[76,33,76,39],[76,43,76,58],[76,59,76,60],[76,61,76,62],[76,63,76,64],[60,1,60,2],[60,6,60,18],[60,19,60,20],[60,21,60,22],[60,23,60,24],[60,25,60,26],[60,27,60,28],[60,29,60,30],[60,31,60,32],[58,1,59,2],[58,3,59,5],[58,6,59,18],[58,19,59,20],[58,21,59,22],[58,23,58,32],[59,23,59,24],[59,25,59,26],[59,27,59,28],[59,29,59,30],[59,31,59,32],[62,1,62,2],[62,6,62,18],[62,19,62,20],[62,21,62,22],[62,23,62,24],[62,25,62,26],[62,27,62,28],[62,29,62,30],[62,31,62,32],[61,1,61,2],[61,6,61,18],[61,19,61,20],[61,21,61,22],[61,23,61,24],[61,25,61,26],[61,27,61,28],[61,29,61,30],[61,31,61,32],[64,1,64,2],[64,6,64,18],[64,19,64,20],[64,21,64,22],[64,23,64,24],[64,25,64,26],[64,27,64,28],[64,29,64,30],[64,31,64,32],[63,1,63,2],[63,6,63,18],[63,19,63,20],[63,21,63,22],[63,23,63,24],[63,25,63,26],[63,27,63,28],[63,29,63,30],[63,31,63,32],[66,1,66,2],[66,6,66,18],[66,19,66,20],[66,21,66,22],[66,23,66,24],[66,25,66,26],[66,27,66,28],[66,29,66,30],[66,31,66,32],[65,1,65,2],[65,6,65,18],[65,19,65,20],[65,21,65,22],[65,23,65,24],[65,25,65,26],[65,27,65,28],[65,29,65,30],[65,31,65,32],[68,1,68,2],[68,6,68,18],[68,19,68,20],[68,21,68,22],[68,23,68,24],[68,25,68,26],[68,27,68,28],[68,29,68,30],[68,31,68,32],[67,1,67,2],[67,6,67,18],[67,19,67,20],[67,21,67,22],[67,23,67,24],[67,25,67,26],[67,27,67,28],[67,29,67,30],[67,31,67,32],[70,1,70,2],[70,6,70,18],[70,19,70,20],[70,21,70,22],[70,23,70,24],[70,25,70,26],[70,27,70,28],[70,29,70,30],[70,31,70,32],[69,1,69,2],[69,6,69,18],[69,19,69,20],[69,21,69,22],[69,23,69,24],[69,25,69,26],[69,27,69,28],[69,29,69,30],[69,31,69,32],[72,1,72,2],[72,6,72,18],[72,19,72,20],[72,21,72,22],[72,23,72,24],[72,25,72,26],[72,27,72,28],[72,29,72,30],[72,31,72,32],[71,1,71,2],[71,6,71,18],[71,19,71,20],[71,21,71,22],[71,23,71,24],[71,25,71,26],[71,27,71,28],[71,29,71,30],[71,31,71,32],[74,1,74,2],[74,6,74,18],[74,19,74,20],[74,21,74,22],[74,23,74,24],[74,25,74,26],[74,27,74,28],[74,29,74,30],[74,31,74,32],[73,1,73,2],[73,6,73,18],[73,19,73,20],[73,21,73,22],[73,23,73,24],[73,25,73,26],[73,27,73,28],[73,29,73,30],[73,31,73,32],[75,1,75,7],[75,11,75,26],[75,27,75,28],[75,29,75,30],[75,31,75,32],[76,1,76,7],[76,11,76,26],[76,27,76,28],[76,29,76,30],[76,31,76,32]]}
[]
[null," チーム",null,null,null,null,{"$f":"IF(入力欄!E8=\"\",入力欄!B8&\"　（\"&入力欄!B19&\"）\",入力欄!B8&\"・\"&入力欄!E8&\"　（\"&入力欄!B19&\"）\")","v":"玉藻　（男子）"},null,null,null,null,null,null,null,null,null,null,null,null,null,null,null,null,null,null,null,null,null,null,null,null,null,null," チーム",null,null,null,null,{"$f":"$G$2","v":"玉藻　（男子）"},null,null,null,null,null,null,null,null,null,null,null,null,null,null,null,null,null,null,null,null,null,null,null,null,null,null,null,null,null,"　　メンバー票作成の手順\n① 入力欄に必要事項を入力する\n② メンバー票シートで反映させる。\n③ 選手が15名未満の場合は斜線を入れる。\n　※Excelのﾊﾞｰｼﾞｮﾝによってはうまくいかない\n　　ことがあります\n④ 印刷する。\n⑤ はさみで4試合分を切り取る。"]
[null," Team ",null,null,null,null,null,null,null,null,null,null,null,null,null,null,null,null,null,null,null,null,null,null,null,null,null,null,null,null,null,null,null," Team "]
[]
[null,"No.",null,"Licence\nno.",null,null,"選手氏名　Players",null,null,null,null,null,null,null,null,null,null,null,null,"No.",null,"Players\nin",null,"ファウル Fouls",null,null,null,null,null,null,null,null,null,"No.",null,"Licence\nno.",null,null,"選手氏名　Players",null,null,null,null,null,null,null,null,null,null,null,null,"No.",null,"Players\nin",null,"ファウル Fouls"]
[null,null,null,null,null,null,null,null,null,null,null,null,null,null,null,null,null,null,null,null,null,null,null,1,null,2,null,3,null,4,null,5,null,null,null,null,null,null,null,null,null,null,null,null,null,null,null,null,null,null,null,null,null,null,null,1,null,2,null,3,null,4,null,5,null,null,null,null,"※選手が15名より少ない場合は空欄を線で消す必要があります。左のボタンで線が引けます。"]
[null,1,null,{"$f":"IF($BO49=\"*\",\"\",$BQ49)","v":5},{"$f":"IF($BO49=\"*\",\"\",$BR49)","v":6},{"$f":"IF($BO49=\"*\",\"\",$BS49)","v":"3"},{"$f":"IF($BO49=\"*\",\"\",$BP49)","v":"大原 真優"},null,null,null,null,null,null,null,null,null,null,null,null,{"$f":"IF($BO$49=\"*\",\"\",IF($BO$49=100,\"00\",$BO$49))","v":0},null,null,null,null,null,null,null,null,null,null,null,null,null,1,null,{"$f":"IF($BO49=\"*\",\"\",$BQ49)","v":5},{"$f":"IF($BO49=\"*\",\"\",$BR49)","v":6},{"$f":"IF($BO49=\"*\",\"\",$BS49)","v":"3"},{"$f":"IF($BO49=\"*\",\"\",$BP49)","v":"大原 真優"},null,null,null,null,null,null,null,null,null,null,null,null,{"$f":"IF($BO$49=\"*\",\"\",IF($BO$49=100,\"00\",$BO$49))","v":0}]
[null,2,null,{"$f":"IF($BO50=\"*\",\"\",$BQ50)","v":2},{"$f":"IF($BO50=\"*\",\"\",$BR50)","v":8},{"$f":"IF($BO50=\"*\",\"\",$BS50)","v":"6"},{"$f":"IF($BO50=\"*\",\"\",$BP50)","v":"片岡 大二"},null,null,null,null,null,null,null,null,null,null,null,null,{"$f":"IF($BO$50=\"*\",\"\",IF($BO$50=100,\"00\",$BO$50))","v":20},null,null,null,null,null,null,null,null,null,null,null,null,null,2,null,{"$f":"IF($BO50=\"*\",\"\",$BQ50)","v":2},{"$f":"IF($BO50=\"*\",\"\",$BR50)","v":8},{"$f":"IF($BO50=\"*\",\"\",$BS50)","v":"6"},{"$f":"IF($BO50=\"*\",\"\",$BP50)","v":"片岡 大二"},null,null,null,null,null,null,null,null,null,null,null,null,{"$f":"IF($BO$50=\"*\",\"\",IF($BO$50=100,\"00\",$BO$50))","v":20}]
[null,3,null,7,5,"0","平田 悠生",null,null,null,null,null,null,null,null,null,null,null,null,{"$f":"IF($BO$51=\"*\",\"\",IF($BO$51=100,\"00\",$BO$51))","v":22},null,null,null,null,null,null,null,null,null,null,null,null,null,3,null,7,5,"0","平田 悠生",null,null,null,null,null,null,null,null,null,null,null,null,{"$f":"IF($BO$51=\"*\",\"\",IF($BO$51=100,\"00\",$BO$51))","v":22}]
[null,4,null,7,5,"2","遠藤 優太",null,null,null,null,null,null,null,null,null,null,null,null,{"$f":"IF($BO$52=\"*\",\"\",IF($BO$52=100,\"00\",$BO$52))","v":24},null,null,null,null,null,null,null,null,null,null,null,null,null,4,null,7,5,"2","遠藤 優太",null,null,null,null,null,null,null,null,null,null,null,null,{"$f":"IF($BO$52=\"*\",\"\",IF($BO$52=100,\"00\",$BO$52))","v":24}]
[null,5,null,1,8,"2","鶴身 桜助",null,null,null,null,null,null,null,null,null,null,null,null,{"$f":"IF($BO$53=\"*\",\"\",IF($BO$53=100,\"00\",$BO$53))","v":26},null,null,null,null,null,null,null,null,null,null,null,null,null,5,null,1,8,"2","鶴身 桜助",null,null,null,null,null,null,null,null,null,null,null,null,{"$f":"IF($BO$53=\"*\",\"\",IF($BO$53=100,\"00\",$BO$53))","v":26}]
[null,6,null,{"$f":"IF($BO$54=\"*\",\"\",$BQ$54)","v":4},{"$f":"IF($BO$54=\"*\",\"\",$BR$54)","v":2},{"$f":"IF($BO$54=\"*\",\"\",$BS$54)","v":"7"},{"$f":"IF($BO$54=\"*\",\"\",$BP$54)","v":"宮脇 柚月"},null,null,null,null,null,null,null,null,null,null,null,null,{"$f":"IF($BO$54=\"*\",\"\",IF($BO$54=100,\"00\",$BO$54))","v":47},null,null,null,null,null,null,null,null,null,null,null,null,null,6,null,{"$f":"IF($BO$54=\"*\",\"\",$BQ$54)","v":4},{"$f":"IF($BO$54=\"*\",\"\",$BR$54)","v":2},{"$f":"IF($BO$54=\"*\",\"\",$BS$54)","v":"7"},{"$f":"IF($BO$54=\"*\",\"\",$BP$54)","v":"宮脇 柚月"},null,null,null,null,null,null,null,null,null,null,null,null,{"$f":"IF($BO$54=\"*\",\"\",IF($BO$54=100,\"00\",$BO$54))","v":47}]
[null,7,null,{"$f":"IF($BO$55=\"*\",\"\",$BQ$55)","v":8},{"$f":"IF($BO$55=\"*\",\"\",$BR$55)","v":6},{"$f":"IF($BO$55=\"*\",\"\",$BS$55)","v":"0"},{"$f":"IF($BO$55=\"*\",\"\",$BP$55)","v":"中山 晴矢"},null,null,null,null,null,null,null,null,null,null,null,null,{"$f":"IF($BO$55=\"*\",\"\",IF($BO$55=100,\"00\",$BO$55))","v":51},null,null,null,null,null,null,null,null,null,null,null,null,null,7,null,{"$f":"IF($BO$55=\"*\",\"\",$BQ$55)","v":8},{"$f":"IF($BO$55=\"*\",\"\",$BR$55)","v":6},{"$f":"IF($BO$55=\"*\",\"\",$BS$55)","v":"0"},{"$f":"IF($BO$55=\"*\",\"\",$BP$55)","v":"中山 晴矢"},null,null,null,null,null,null,null,null,null,null,null,null,{"$f":"IF($BO$55=\"*\",\"\",IF($BO$55=100,\"00\",$BO$55))","v":51}]
[null,8,null,{"$f":"IF($BO$56=\"*\",\"\",$BQ$56)","v":7},{"$f":"IF($BO$56=\"*\",\"\",$BR$56)","v":7},{"$f":"IF($BO$56=\"*\",\"\",$BS$56)","v":"4"},{"$f":"IF($BO$56=\"*\",\"\",$BP$56)","v":"小笠原 良介"},null,null,null,null,null,null,null,null,null,null,null,null,{"$f":"IF($BO$56=\"*\",\"\",IF($BO$56=100,\"00\",$BO$56))","v":52},null,null,null,null,null,null,null,null,null,null,null,null,null,8,null,{"$f":"IF($BO$56=\"*\",\"\",$BQ$56)","v":7},{"$f":"IF($BO$56=\"*\",\"\",$BR$56)","v":7},{"$f":"IF($BO$56=\"*\",\"\",$BS$56)","v":"4"},{"$f":"IF($BO$56=\"*\",\"\",$BP$56)","v":"小笠原 良介"},null,null,null,null,null,null,null,null,null,null,null,null,{"$f":"IF($BO$56=\"*\",\"\",IF($BO$56=100,\"00\",$BO$56))","v":52}]
[null,9,null,{"$f":"IF($BO$57=\"*\",\"\",$BQ$57)","v":2},{"$f":"IF($BO$57=\"*\",\"\",$BR$57)","v":6},{"$f":"IF($BO$57=\"*\",\"\",$BS$57)","v":"0"},{"$f":"IF($BO$57=\"*\",\"\",$BP$57)","v":"高木 滉翔"},null,null,null,null,null,null,null,null,null,null,null,null,{"$f":"IF($BO$57=\"*\",\"\",IF($BO$57=100,\"00\",$BO$57))","v":55},null,null,null,null,null,null,null,null,null,null,null,null,null,9,null,{"$f":"IF($BO$57=\"*\",\"\",$BQ$57)","v":2},{"$f":"IF($BO$57=\"*\",\"\",$BR$57)","v":6},{"$f":"IF($BO$57=\"*\",\"\",$BS$57)","v":"0"},{"$f":"IF($BO$57=\"*\",\"\",$BP$57)","v":"高木 滉翔"},null,null,null,null,null,null,null,null,null,null,null,null,{"$f":"IF($BO$57=\"*\",\"\",IF($BO$57=100,\"00\",$BO$57))","v":55}]
[null,10,null,{"$f":"IF($BO$58=\"*\",\"\",$BQ$58)","v":8},{"$f":"IF($BO$58=\"*\",\"\",$BR$58)","v":8},{"$f":"IF($BO$58=\"*\",\"\",$BS$58)","v":"5"},{"$f":"IF($BO$58=\"*\",\"\",$BP$58)","v":"小松 聖奈"},null,null,null,null,null,null,null,null,null,null,null,null,{"$f":"IF($BO$58=\"*\",\"\",IF($BO$58=100,\"00\",$BO$58))","v":57},null,null,null,null,null,null,null,null,null,null,null,null,null,10,null,{"$f":"IF($BO$58=\"*\",\"\",$BQ$58)","v":8},{"$f":"IF($BO$58=\"*\",\"\",$BR$58)","v":8},{"$f":"IF($BO$58=\"*\",\"\",$BS$58)","v":"5"},{"$f":"IF($BO$58=\"*\",\"\",$BP$58)","v":"小松 聖奈"},null,null,null,null,null,null,null,null,null,null,null,null,{"$f":"IF($BO$58=\"*\",\"\",IF($BO$58=100,\"00\",$BO$58))","v":57}]
[null,11,null,{"$f":"IF($BO$59=\"*\",\"\",$BQ$59)","v":1},{"$f":"IF($BO$59=\"*\",\"\",$BR$59)","v":1},{"$f":"IF($BO$59=\"*\",\"\",$BS$59)","v":"7"},{"$f":"IF($BO$59=\"*\",\"\",$BP$59)","v":"西山 真輝"},null,null,null,null,null,null,null,null,null,null,null,null,{"$f":"IF($BO$59=\"*\",\"\",IF($BO$59=100,\"00\",$BO$59))","v":61},null,null,null,null,null,null,null,null,null,null,null,null,null,11,null,{"$f":"IF($BO$59=\"*\",\"\",$BQ$59)","v":1},{"$f":"IF($BO$59=\"*\",\"\",$BR$59)","v":1},{"$f":"IF($BO$59=\"*\",\"\",$BS$59)","v":"7"},{"$f":"IF($BO$59=\"*\",\"\",$BP$59)","v":"西山 真輝"},null,null,null,null,null,null,null,null,null,null,null,null,{"$f":"IF($BO$59=\"*\",\"\",IF($BO$59=100,\"00\",$BO$59))","v":61}]
[null,12,null,{"$f":"IF($BO$60=\"*\",\"\",$BQ$60)","v":6},{"$f":"IF($BO$60=\"*\",\"\",$BR$60)","v":7},{"$f":"IF($BO$60=\"*\",\"\",$BS$60)","v":"4"},{"$f":"IF($BO$60=\"*\",\"\",$BP$60)","v":"田中 七翔"},null,null,null,null,null,null,null,null,null,null,null,null,{"$f":"IF($BO$60=\"*\",\"\",IF($BO$60=100,\"00\",$BO$60))","v":77},null,null,null,null,null,null,null,null,null,null,null,null,null,12,null,{"$f":"IF($BO$60=\"*\",\"\",$BQ$60)","v":6},{"$f":"IF($BO$60=\"*\",\"\",$BR$60)","v":7},{"$f":"IF($BO$60=\"*\",\"\",$BS$60)","v":"4"},{"$f":"IF($BO$60=\"*\",\"\",$BP$60)","v":"田中 七翔"},null,null,null,null,null,null,null,null,null,null,null,null,{"$f":"IF($BO$60=\"*\",\"\",IF($BO$60=100,\"00\",$BO$60))","v":77}]
[null,13,null,{"$f":"IF($BO$61=\"*\",\"\",$BQ$61)","v":3},{"$f":"IF($BO$61=\"*\",\"\",$BR$61)","v":1},{"$f":"IF($BO$61=\"*\",\"\",$BS$61)","v":"4"},{"$f":"IF($BO$61=\"*\",\"\",$BP$61)","v":"中柄 詩音"},null,null,null,null,null,null,null,null,null,null,null,null,{"$f":"IF($BO$61=\"*\",\"\",IF($BO$61=100,\"00\",$BO$61))","v":83},null,null,null,null,null,null,null,null,null,null,null,null,null,13,null,{"$f":"IF($BO$61=\"*\",\"\",$BQ$61)","v":3},{"$f":"IF($BO$61=\"*\",\"\",$BR$61)","v":1},{"$f":"IF($BO$61=\"*\",\"\",$BS$61)","v":"4"},{"$f":"IF($BO$61=\"*\",\"\",$BP$61)","v":"中柄 詩音"},null,null,null,null,null,null,null,null,null,null,null,null,{"$f":"IF($BO$61=\"*\",\"\",IF($BO$61=100,\"00\",$BO$61))","v":83}]
[null,14,null,{"$f":"IF($BO$62=\"*\",\"\",$BQ$62)","v":3},{"$f":"IF($BO$62=\"*\",\"\",$BR$62)","v":1},{"$f":"IF($BO$62=\"*\",\"\",$BS$62)","v":"4"},{"$f":"IF($BO$62=\"*\",\"\",$BP$62)","v":"橋本 康佑"},null,null,null,null,null,null,null,null,null,null,null,null,{"$f":"IF($BO$62=\"*\",\"\",IF($BO$62=100,\"00\",$BO$62))","v":84},null,null,null,null,null,null,null,null,null,null,null,null,null,14,null,{"$f":"IF($BO$62=\"*\",\"\",$BQ$62)","v":3},{"$f":"IF($BO$62=\"*\",\"\",$BR$62)","v":1},{"$f":"IF($BO$62=\"*\",\"\",$BS$62)","v":"4"},{"$f":"IF($BO$62=\"*\",\"\",$BP$62)","v":"橋本 康佑"},null,null,null,null,null,null,null,null,null,null,null,null,{"$f":"IF($BO$62=\"*\",\"\",IF($BO$62=100,\"00\",$BO$62))","v":84}]
[null,15,null,{"$f":"IF($BO$63=\"*\",\"\",$BQ$63)","v":9},{"$f":"IF($BO$63=\"*\",\"\",$BR$63)","v":6},{"$f":"IF($BO$63=\"*\",\"\",$BS$63)","v":"4"},{"$f":"IF($BO$63=\"*\",\"\",$BP$63)","v":"松原 成到"},null,null,null,null,null,null,null,null,null,null,null,null,{"$f":"IF($BO$63=\"*\",\"\",IF($BO$63=100,\"00\",$BO$63))","v":"00"},null,null,null,null,null,null,null,null,null,null,null,null,null,15,null,{"$f":"IF($BO$63=\"*\",\"\",$BQ$63)","v":9},{"$f":"IF($BO$63=\"*\",\"\",$BR$63)","v":6},{"$f":"IF($BO$63=\"*\",\"\",$BS$63)","v":"4"},{"$f":"IF($BO$63=\"*\",\"\",$BP$63)","v":"松原 成到"},null,null,null,null,null,null,null,null,null,null,null,null,{"$f":"IF($BO$63=\"*\",\"\",IF($BO$63=100,\"00\",$BO$63))","v":"00"}]
[null,"コーチ Coach",null,null,null,null,null,null,{"$f":"IF($BZ$64=\"\",\"\",BQ64)","v":4},{"$f":"IF($BZ$64=\"\",\"\",BR64)","v":7},"0",{"$f":"BP64","v":"藤原 悟"},null,null,null,null,null,null,null,null,null,null,null,null,null,null,null,null,null,null,null,null,null,"コーチ Coach",null,null,null,null,null,null,{"$f":"I22","v":4},{"$f":"J22","v":7},"0",{"$f":"$L$22","v":"藤原 悟"}]
[null,"Ａ.コーチ A.Coach",null,null,null,null,null,null,{"$f":"IF($BZ$65=\"\",\"\",BQ65)","v":""},{"$f":"IF($BZ$65=\"\",\"\",BR65)","v":""},"",{"$f":"BP65","v":"田中 美保"},null,null,null,null,null,null,null,null,null,null,null,null,null,null,null,null,null,null,null,null,null,"Ａ.コーチ A.Coach",null,null,null,null,null,null,{"$f":"I23","v":""},"","",{"$f":"$L$23","v":"田中 美保"}]
[null," チーム",null,null,null,null,{"$f":"$G$2","v":"玉藻　（男子）"},null,null,null,null,null,null,null,null,null,null,null,null,null,null,null,null,null,null,null,null,null,null,null,null,null,null," チーム",null,null,null,null,{"$f":"$G$2","v":"玉藻　（男子）"}]
[null," Team ",null,null,null,null,null,null,null,null,null,null,null,null,null,null,null,null,null,null,null,null,null,null,null,null,null,null,null,null,null,null,null," Team "]
[]
[null,"No.",null,"Licence\nno.",null,null,"選手氏名　Players",null,null,null,null,null,null,null,null,null,null,null,null,"No.",null,"Players\nin",null,"ファウル Fouls",null,null,null,null,null,null,null,null,null,"No.",null,"Licence\nno.",null,null,"選手氏名　Players",null,null,null,null,null,null,null,null,null,null,null,null,"No.",null,"Players\nin",null,"ファウル Fouls"]
[null,null,null,null,null,null,null,null,null,null,null,null,null,null,null,null,null,null,null,null,null,null,null,1,null,2,null,3,null,4,null,5,null,null,null,null,null,null,null,null,null,null,null,null,null,null,null,null,null,null,null,null,null,null,null,1,null,2,null,3,null,4,null,5]
[null,1,null,{"$f":"IF($BO49=\"*\",\"\",$BQ49)","v":5},{"$f":"IF($BO49=\"*\",\"\",$BR49)","v":6},{"$f":"IF($BO49=\"*\",\"\",$BS49)","v":"3"},{"$f":"IF($BO49=\"*\",\"\",$BP49)","v":"大原 真優"},null,null,null,null,null,null,null,null,null,null,null,null,{"$f":"IF($BO$49=\"*\",\"\",IF($BO$49=100,\"00\",$BO$49))","v":0},null,null,null,null,null,null,null,null,null,null,null,null,null,1,null,{"$f":"IF($BO49=\"*\",\"\",$BQ49)","v":5},{"$f":"IF($BO49=\"*\",\"\",$BR49)","v":6},{"$f":"IF($BO49=\"*\",\"\",$BS49)","v":"3"},{"$f":"IF($BO49=\"*\",\"\",$BP49)","v":"大原 真優"},null,null,null,null,null,null,null,null,null,null,null,null,{"$f":"IF($BO$49=\"*\",\"\",IF($BO$49=100,\"00\",$BO$49))","v":0}]
[null,2,null,{"$f":"IF($BO50=\"*\",\"\",$BQ50)","v":2},{"$f":"IF($BO50=\"*\",\"\",$BR50)","v":8},{"$f":"IF($BO50=\"*\",\"\",$BS50)","v":"6"},{"$f":"IF($BO50=\"*\",\"\",$BP50)","v":"片岡 大二"},null,null,null,null,null,null,null,null,null,null,null,null,{"$f":"IF($BO$50=\"*\",\"\",IF($BO$50=100,\"00\",$BO$50))","v":20},null,null,null,null,null,null,null,null,null,null,null,null,null,2,null,{"$f":"IF($BO50=\"*\",\"\",$BQ50)","v":2},{"$f":"IF($BO50=\"*\",\"\",$BR50)","v":8},{"$f":"IF($BO50=\"*\",\"\",$BS50)","v":"6"},"片岡 大二",null,null,null,null,null,null,null,null,null,null,null,null,{"$f":"IF($BO$50=\"*\",\"\",IF($BO$50=100,\"00\",$BO$50))","v":20}]
[null,3,null,7,5,"0","平田 悠生",null,null,null,null,null,null,null,null,null,null,null,null,{"$f":"IF($BO$51=\"*\",\"\",IF($BO$51=100,\"00\",$BO$51))","v":22},null,null,null,null,null,null,null,null,null,null,null,null,null,3,null,7,5,"0","平田 悠生",null,null,null,null,null,null,null,null,null,null,null,null,{"$f":"IF($BO$51=\"*\",\"\",IF($BO$51=100,\"00\",$BO$51))","v":22}]
[null,4,null,7,5,"2","遠藤 優太",null,null,null,null,null,null,null,null,null,null,null,null,{"$f":"IF($BO$52=\"*\",\"\",IF($BO$52=100,\"00\",$BO$52))","v":24},null,null,null,null,null,null,null,null,null,null,null,null,null,4,null,7,5,"2","遠藤 優太",null,null,null,null,null,null,null,null,null,null,null,null,{"$f":"IF($BO$52=\"*\",\"\",IF($BO$52=100,\"00\",$BO$52))","v":24}]
[null,5,null,1,8,"2","鶴身 桜助",null,null,null,null,null,null,null,null,null,null,null,null,{"$f":"IF($BO$53=\"*\",\"\",IF($BO$53=100,\"00\",$BO$53))","v":26},null,null,null,null,null,null,null,null,null,null,null,null,null,5,null,1,8,"2","鶴身 桜助",null,null,null,null,null,null,null,null,null,null,null,null,{"$f":"IF($BO$53=\"*\",\"\",IF($BO$53=100,\"00\",$BO$53))","v":26}]
[null,6,null,{"$f":"IF($BO$54=\"*\",\"\",$BQ$54)","v":4},{"$f":"IF($BO$54=\"*\",\"\",$BR$54)","v":2},{"$f":"IF($BO$54=\"*\",\"\",$BS$54)","v":"7"},{"$f":"IF($BO$54=\"*\",\"\",$BP$54)","v":"宮脇 柚月"},null,null,null,null,null,null,null,null,null,null,null,null,{"$f":"IF($BO$54=\"*\",\"\",IF($BO$54=100,\"00\",$BO$54))","v":47},null,null,null,null,null,null,null,null,null,null,null,null,null,6,null,{"$f":"IF($BO$54=\"*\",\"\",$BQ$54)","v":4},{"$f":"IF($BO$54=\"*\",\"\",$BR$54)","v":2},{"$f":"IF($BO$54=\"*\",\"\",$BS$54)","v":"7"},{"$f":"IF($BO$54=\"*\",\"\",$BP$54)","v":"宮脇 柚月"},null,null,null,null,null,null,null,null,null,null,null,null,{"$f":"IF($BO$54=\"*\",\"\",IF($BO$54=100,\"00\",$BO$54))","v":47}]
[null,7,null,{"$f":"IF($BO$55=\"*\",\"\",$BQ$55)","v":8},{"$f":"IF($BO$55=\"*\",\"\",$BR$55)","v":6},{"$f":"IF($BO$55=\"*\",\"\",$BS$55)","v":"0"},{"$f":"IF($BO$55=\"*\",\"\",$BP$55)","v":"中山 晴矢"},null,null,null,null,null,null,null,null,null,null,null,null,{"$f":"IF($BO$55=\"*\",\"\",IF($BO$55=100,\"00\",$BO$55))","v":51},null,null,null,null,null,null,null,null,null,null,null,null,null,7,null,{"$f":"IF($BO$55=\"*\",\"\",$BQ$55)","v":8},{"$f":"IF($BO$55=\"*\",\"\",$BR$55)","v":6},{"$f":"IF($BO$55=\"*\",\"\",$BS$55)","v":"0"},{"$f":"IF($BO$55=\"*\",\"\",$BP$55)","v":"中山 晴矢"},null,null,null,null,null,null,null,null,null,null,null,null,{"$f":"IF($BO$55=\"*\",\"\",IF($BO$55=100,\"00\",$BO$55))","v":51}]
[null,8,null,{"$f":"IF($BO$56=\"*\",\"\",$BQ$56)","v":7},{"$f":"IF($BO$56=\"*\",\"\",$BR$56)","v":7},{"$f":"IF($BO$56=\"*\",\"\",$BS$56)","v":"4"},{"$f":"IF($BO$56=\"*\",\"\",$BP$56)","v":"小笠原 良介"},null,null,null,null,null,null,null,null,null,null,null,null,{"$f":"IF($BO$56=\"*\",\"\",IF($BO$56=100,\"00\",$BO$56))","v":52},null,null,null,null,null,null,null,null,null,null,null,null,null,8,null,{"$f":"IF($BO$56=\"*\",\"\",$BQ$56)","v":7},{"$f":"IF($BO$56=\"*\",\"\",$BR$56)","v":7},{"$f":"IF($BO$56=\"*\",\"\",$BS$56)","v":"4"},{"$f":"IF($BO$56=\"*\",\"\",$BP$56)","v":"小笠原 良介"},null,null,null,null,null,null,null,null,null,null,null,null,{"$f":"IF($BO$56=\"*\",\"\",IF($BO$56=100,\"00\",$BO$56))","v":52}]
[null,9,null,{"$f":"IF($BO$57=\"*\",\"\",$BQ$57)","v":2},{"$f":"IF($BO$57=\"*\",\"\",$BR$57)","v":6},{"$f":"IF($BO$57=\"*\",\"\",$BS$57)","v":"0"},{"$f":"IF($BO$57=\"*\",\"\",$BP$57)","v":"高木 滉翔"},null,null,null,null,null,null,null,null,null,null,null,null,{"$f":"IF($BO$57=\"*\",\"\",IF($BO$57=100,\"00\",$BO$57))","v":55},null,null,null,null,null,null,null,null,null,null,null,null,null,9,null,{"$f":"IF($BO$57=\"*\",\"\",$BQ$57)","v":2},{"$f":"IF($BO$57=\"*\",\"\",$BR$57)","v":6},{"$f":"IF($BO$57=\"*\",\"\",$BS$57)","v":"0"},{"$f":"IF($BO$57=\"*\",\"\",$BP$57)","v":"高木 滉翔"},null,null,null,null,null,null,null,null,null,null,null,null,{"$f":"IF($BO$57=\"*\",\"\",IF($BO$57=100,\"00\",$BO$57))","v":55}]
[null,10,null,{"$f":"IF($BO$58=\"*\",\"\",$BQ$58)","v":8},{"$f":"IF($BO$58=\"*\",\"\",$BR$58)","v":8},{"$f":"IF($BO$58=\"*\",\"\",$BS$58)","v":"5"},{"$f":"IF($BO$58=\"*\",\"\",$BP$58)","v":"小松 聖奈"},null,null,null,null,null,null,null,null,null,null,null,null,{"$f":"IF($BO$58=\"*\",\"\",IF($BO$58=100,\"00\",$BO$58))","v":57},null,null,null,null,null,null,null,null,null,null,null,null,null,10,null,{"$f":"IF($BO$58=\"*\",\"\",$BQ$58)","v":8},{"$f":"IF($BO$58=\"*\",\"\",$BR$58)","v":8},{"$f":"IF($BO$58=\"*\",\"\",$BS$58)","v":"5"},{"$f":"IF($BO$58=\"*\",\"\",$BP$58)","v":"小松 聖奈"},null,null,null,null,null,null,null,null,null,null,null,null,{"$f":"IF($BO$58=\"*\",\"\",IF($BO$58=100,\"00\",$BO$58))","v":57}]
[null,11,null,{"$f":"IF($BO$59=\"*\",\"\",$BQ$59)","v":1},{"$f":"IF($BO$59=\"*\",\"\",$BR$59)","v":1},{"$f":"IF($BO$59=\"*\",\"\",$BS$59)","v":"7"},{"$f":"IF($BO$59=\"*\",\"\",$BP$59)","v":"西山 真輝"},null,null,null,null,null,null,null,null,null,null,null,null,{"$f":"IF($BO$59=\"*\",\"\",IF($BO$59=100,\"00\",$BO$59))","v":61},null,null,null,null,null,null,null,null,null,null,null,null,null,11,null,{"$f":"IF($BO$59=\"*\",\"\",$BQ$59)","v":1},{"$f":"IF($BO$59=\"*\",\"\",$BR$59)","v":1},{"$f":"IF($BO$59=\"*\",\"\",$BS$59)","v":"7"},{"$f":"IF($BO$59=\"*\",\"\",$BP$59)","v":"西山 真輝"},null,null,null,null,null,null,null,null,null,null,null,null,{"$f":"IF($BO$59=\"*\",\"\",IF($BO$59=100,\"00\",$BO$59))","v":61}]
[null,12,null,{"$f":"IF($BO$60=\"*\",\"\",$BQ$60)","v":6},{"$f":"IF($BO$60=\"*\",\"\",$BR$60)","v":7},{"$f":"IF($BO$60=\"*\",\"\",$BS$60)","v":"4"},{"$f":"IF($BO$60=\"*\",\"\",$BP$60)","v":"田中 七翔"},null,null,null,null,null,null,null,null,null,null,null,null,{"$f":"IF($BO$60=\"*\",\"\",IF($BO$60=100,\"00\",$BO$60))","v":77},null,null,null,null,null,null,null,null,null,null,null,null,null,12,null,{"$f":"IF($BO$60=\"*\",\"\",$BQ$60)","v":6},{"$f":"IF($BO$60=\"*\",\"\",$BR$60)","v":7},{"$f":"IF($BO$60=\"*\",\"\",$BS$60)","v":"4"},{"$f":"IF($BO$60=\"*\",\"\",$BP$60)","v":"田中 七翔"},null,null,null,null,null,null,null,null,null,null,null,null,{"$f":"IF($BO$60=\"*\",\"\",IF($BO$60=100,\"00\",$BO$60))","v":77}]
[null,13,null,{"$f":"IF($BO$61=\"*\",\"\",$BQ$61)","v":3},{"$f":"IF($BO$61=\"*\",\"\",$BR$61)","v":1},{"$f":"IF($BO$61=\"*\",\"\",$BS$61)","v":"4"},{"$f":"IF($BO$61=\"*\",\"\",$BP$61)","v":"中柄 詩音"},null,null,null,null,null,null,null,null,null,null,null,null,{"$f":"IF($BO$61=\"*\",\"\",IF($BO$61=100,\"00\",$BO$61))","v":83},null,null,null,null,null,null,null,null,null,null,null,null,null,13,null,{"$f":"IF($BO$61=\"*\",\"\",$BQ$61)","v":3},{"$f":"IF($BO$61=\"*\",\"\",$BR$61)","v":1},{"$f":"IF($BO$61=\"*\",\"\",$BS$61)","v":"4"},{"$f":"IF($BO$61=\"*\",\"\",$BP$61)","v":"中柄 詩音"},null,null,null,null,null,null,null,null,null,null,null,null,{"$f":"IF($BO$61=\"*\",\"\",IF($BO$61=100,\"00\",$BO$61))","v":83}]
[null,14,null,{"$f":"IF($BO$62=\"*\",\"\",$BQ$62)","v":3},{"$f":"IF($BO$62=\"*\",\"\",$BR$62)","v":1},{"$f":"IF($BO$62=\"*\",\"\",$BS$62)","v":"4"},{"$f":"IF($BO$62=\"*\",\"\",$BP$62)","v":"橋本 康佑"},null,null,null,null,null,null,null,null,null,null,null,null,{"$f":"IF($BO$62=\"*\",\"\",IF($BO$62=100,\"00\",$BO$62))","v":84},null,null,null,null,null,null,null,null,null,null,null,null,null,14,null,{"$f":"IF($BO$62=\"*\",\"\",$BQ$62)","v":3},{"$f":"IF($BO$62=\"*\",\"\",$BR$62)","v":1},{"$f":"IF($BO$62=\"*\",\"\",$BS$62)","v":"4"},{"$f":"IF($BO$62=\"*\",\"\",$BP$62)","v":"橋本 康佑"},null,null,null,null,null,null,null,null,null,null,null,null,{"$f":"IF($BO$62=\"*\",\"\",IF($BO$62=100,\"00\",$BO$62))","v":84}]
[null,15,null,{"$f":"IF($BO$63=\"*\",\"\",$BQ$63)","v":9},{"$f":"IF($BO$63=\"*\",\"\",$BR$63)","v":6},{"$f":"IF($BO$63=\"*\",\"\",$BS$63)","v":"4"},{"$f":"IF($BO$63=\"*\",\"\",$BP$63)","v":"松原 成到"},null,null,null,null,null,null,null,null,null,null,null,null,{"$f":"IF($BO$63=\"*\",\"\",IF($BO$63=100,\"00\",$BO$63))","v":"00"},null,null,null,null,null,null,null,null,null,null,null,null,null,15,null,{"$f":"IF($BO$63=\"*\",\"\",$BQ$63)","v":9},{"$f":"IF($BO$63=\"*\",\"\",$BR$63)","v":6},{"$f":"IF($BO$63=\"*\",\"\",$BS$63)","v":"4"},{"$f":"IF($BO$63=\"*\",\"\",$BP$63)","v":"松原 成到"},null,null,null,null,null,null,null,null,null,null,null,null,{"$f":"IF($BO$63=\"*\",\"\",IF($BO$63=100,\"00\",$BO$63))","v":"00"}]
[null,"コーチ Coach",null,null,null,null,null,null,{"$f":"I22","v":4},{"$f":"J22","v":7},"0",{"$f":"$L$22","v":"藤原 悟"},null,null,null,null,null,null,null,null,null,null,null,null,null,null,null,null,null,null,null,null,null,"コーチ Coach",null,null,null,null,null,null,{"$f":"I22","v":4},{"$f":"J22","v":7},"0",{"$f":"$L$22","v":"藤原 悟"}]
[null,"Ａ.コーチ A.Coach",null,null,null,null,null,null,{"$f":"I23","v":""},"","",{"$f":"$L$23","v":"田中 美保"},null,null,null,null,null,null,null,null,null,null,null,null,null,null,null,null,null,null,null,null,null,"Ａ.コーチ A.Coach",null,null,null,null,null,null,{"$f":"I23","v":""},"","",{"$f":"$L$23","v":"田中 美保"}]
[]
[null,"メンバー票を4つに切り取ってご使用ください。",null,null,null,null,null,null,null,null,null,null,null,null,null,null,null,null,null,null,null,null,null,null,null,null,"　　メンバー票作成の手順\n① 入力欄に必要事項を入力する\n② メンバー票シートで反映させる。\n③ 印刷する。\n④ 選手が15名未満の場合は斜線を入れる(下に例あり）。\n⑤ はさみで貼るためのサイズに切る。\n"]
[]
[null,null,null,null,null,null,null,null,null,null,null,null,null,null,null,null,null,null,null,null,null,null,null,null,null,null,null,null,null,null,null,null,null,null,null,null,null,null,null,null,null,null,null,null,null,null,null,null,null,null,null,null,null,null,null,null,null,null,null,null,null,null,null,null,null,null,0,{"$f":"IF($BO49=\"\",\"\",IF(ISNA(MATCH($BO49,BV$49:BV$74,0)),\"\",INDEX(BU$49:BU$74,MATCH(BO49,BV$49:BV$74,0))))","v":"大原 真優"},{"$f":"IF($BO49=\"\",\"\",IF(ISNA(MATCH($BO49,BV$49:BV$74,0)),\"\",INDEX(BW$49:BW$74,MATCH(BO49,BV$49:BV$74,0))))","v":5},{"$f":"IF($BO49=\"\",\"\",IF(ISNA(MATCH($BO49,BV$49:BV$74,0)),\"\",INDEX(BX$49:BX$74,MATCH(BO49,BV$49:BV$74,0))))","v":6},{"$f":"IF($BO49=\"\",\"\",IF(ISNA(MATCH($BO49,BV$49:BV$74,0)),\"\",INDEX(BY$49:BY$74,MATCH(BO49,BV$49:BV$74,0))))","v":"3"},null,{"$f":"入力欄!B38","v":"田中 七翔"},{"$f":"入力欄!E38","v":77},{"$f":"(CA49-CB49)/100","v":6},{"$f":"(CB49-BY49)/10","v":7},{"$f":"RIGHT(BZ49,1)","v":"4"},{"$f":"入力欄!F38","v":214265674},{"$f":"RIGHT(BZ49,3)","v":"674"},{"$f":"RIGHT(BZ49,2)","v":"74"}]
[null,null,null,null,null,null,null,null,null,null,null,null,null,null,null,null,null,null,null,null,null,null,null,null,null,null,null,null,null,null,null,null,null,null,null,null,null,null,null,null,null,null,null,null,null,null,null,null,null,null,null,null,null,null,null,null,null,null,null,null,null,null,null,null,null,null,20,"片岡 大二",{"$f":"IF($BO50=\"\",\"\",IF(ISNA(MATCH($BO50,BV$49:BV$74,0)),\"\",INDEX(BW$49:BW$74,MATCH(BO50,BV$49:BV$74,0))))","v":2},{"$f":"IF($BO50=\"\",\"\",IF(ISNA(MATCH($BO50,BV$49:BV$74,0)),\"\",INDEX(BX$49:BX$74,MATCH(BO50,BV$49:BV$74,0))))","v":8},{"$f":"IF($BO50=\"\",\"\",IF(ISNA(MATCH($BO50,BV$49:BV$74,0)),\"\",INDEX(BY$49:BY$74,MATCH(BO50,BV$49:BV$74,0))))","v":"6"},null,{"$f":"入力欄!B39","v":"遠藤 優太"},{"$f":"入力欄!E39","v":24},{"$f":"(CA50-CB50)/100","v":7},{"$f":"(CB50-BY50)/10","v":5},"2",{"$f":"入力欄!F39","v":233929752},{"$f":"RIGHT(BZ50,3)","v":"752"},{"$f":"RIGHT(BZ50,2)","v":"52"}]
[null,null,null,null,null,null,null,null,null,null,null,null,null,null,null,null,null,null,null,null,null,null,null,null,null,null,null,null,null,null,null,null,null,null,null,null,null,null,null,null,null,null,null,null,null,null,null,null,null,null,null,null,null,null,null,null,null,null,null,null,null,null,null,null,null,null,22,"平田 悠生",7,5,"0",null,{"$f":"入力欄!B40","v":"平田 悠生"},{"$f":"入力欄!E40","v":22},7,5,"0",{"$f":"入力欄!F40","v":426173750},"750","50"]
[null,null,null,null,null,null,null,null,null,null,null,null,null,null,null,null,null,null,null,null,null,null,null,null,null,null,null,null,null,null,null,null,null,null,null,null,null,null,null,null,null,null,null,null,null,null,null,null,null,null,null,null,null,null,null,null,null,null,null,null,null,null,null,null,null,null,24,"遠藤 優太",7,5,"2",null,{"$f":"入力欄!B41","v":"西山 真輝"},{"$f":"入力欄!E41","v":61},1,1,"7",{"$f":"入力欄!F41","v":442859117},"117","17"]
[null,null,null,null,null,null,null,null,null,null,null,null,null,null,null,null,null,null,null,null,null,null,null,null,null,null,null,null,null,null,null,null,null,null,null,null,null,null,null,null,null,null,null,null,null,null,null,null,null,null,null,null,null,null,null,null,null,null,null,null,null,null,null,null,null,null,26,"鶴身 桜助",1,8,"2",null,{"$f":"入力欄!B42","v":"中山 晴矢"},{"$f":"入力欄!E42","v":51},8,6,"0",{"$f":"入力欄!F42","v":478105860},"860","60"]
[null,null,null,null,null,null,null,null,null,null,null,null,null,null,null,null,null,null,null,null,null,null,null,null,null,null,null,null,null,null,null,null,null,null,null,null,null,null,null,null,null,null,null,null,null,null,null,null,null,null,null,null,null,null,null,null,null,null,null,null,null,null,null,null,null,null,47,"宮脇 柚月",4,2,"7",null,{"$f":"入力欄!B43","v":"小松 聖奈"},{"$f":"IF(入力欄!E43=\"\",\"\",入力欄!E43)","v":57},8,8,"5",{"$f":"入力欄!F43","v":511317885},"885","85"]
[null,null,null,null,null,null,null,null,null,null,null,null,null,null,null,null,null,null,null,null,null,null,null,null,null,null,null,null,null,null,null,null,null,null,null,null,null,null,null,null,null,null,null,null,null,null,null,null,null,null,null,null,null,null,null,null,null,null,null,null,null,null,null,null,null,null,51,"中山 晴矢",8,6,"0",null,{"$f":"入力欄!B44","v":"片岡 大二"},{"$f":"IF(入力欄!E44=\"\",\"\",入力欄!E44)","v":20},2,8,"6",{"$f":"入力欄!F44","v":661949286},"286","86"]
[null,null,null,null,null,null,null,null,null,null,null,null,null,null,null,null,null,null,null,null,null,null,null,null,null,null,null,null,null,null,null,null,null,null,null,null,null,null,null,null,null,null,null,null,null,null,null,null,null,null,null,null,null,null,null,null,null,null,null,null,null,null,null,null,null,null,52,"小笠原 良介",7,7,"4",null,{"$f":"入力欄!B45","v":"高木 滉翔"},{"$f":"IF(入力欄!E45=\"\",\"\",入力欄!E45)","v":55},2,6,"0",{"$f":"入力欄!F45","v":667570260},"260","60"]
[null,null,null,null,null,null,null,null,null,null,null,null,null,null,null,null,null,null,null,null,null,null,null,null,null,null,null,null,null,null,null,null,null,null,null,null,null,null,null,null,null,null,null,null,null,null,null,null,null,null,null,null,null,null,null,null,null,null,null,null,null,null,null,null,null,null,55,"高木 滉翔",2,6,"0",null,{"$f":"入力欄!B46","v":"小笠原 良介"},{"$f":"IF(入力欄!E46=\"\",\"\",入力欄!E46)","v":52},7,7,"4",{"$f":"入力欄!F46","v":692206774},"774","74"]
[null,null,null,"斜線の入れ方　例　　 選手が9名の場合",null,null,null,null,null,null,null,null,null,null,null,null,null,null,null,null,null,null,null,null,null,null,null,null,null,null,null,null,null,null,null,"斜線の入れ方　例　　 選手が14名の場合",null,null,null,null,null,null,null,null,null,null,null,null,null,null,null,null,null,null,null,null,null,null,null,null,null,null,null,null,null,null,57,"小松 聖奈",8,8,"5",null,{"$f":"入力欄!B47","v":"宮脇 柚月"},{"$f":"IF(入力欄!E47=\"\",\"\",入力欄!E47)","v":47},4,2,"7",{"$f":"入力欄!F47","v":721449427},"427","27"]
[null,"No.",null,"Licence\nno.",null,null,"選手氏名　Players",null,null,null,null,null,null,null,null,null,null,null,null,"No.",null,"Players\nin",null,"ファウル Fouls",null,null,null,null,null,null,null,null,null,"No.",null,"Licence\nno.",null,null,"選手氏名　Players",null,null,null,null,null,null,null,null,null,null,null,null,"No.",null,"Players\nin",null,"ファウル Fouls",null,null,null,null,null,null,null,null,null,null,61,"西山 真輝",1,1,"7",null,{"$f":"入力欄!B48","v":"橋本 康佑"},{"$f":"IF(入力欄!E48=\"\",\"\",入力欄!E48)","v":84},3,1,"4",{"$f":"入力欄!F48","v":741533314},"314","14"]
[null,null,null,null,null,null,null,null,null,null,null,null,null,null,null,null,null,null,null,null,null,null,null,1,null,2,null,3,null,4,null,5,null,null,null,null,null,null,null,null,null,null,null,null,null,null,null,null,null,null,null,null,null,null,null,1,null,2,null,3,null,4,null,5,null,null,77,"田中 七翔",6,7,"4",null,{"$f":"入力欄!B49","v":"大原 真優"},{"$f":"IF(入力欄!E49=\"\",\"\",入力欄!E49)","v":0},5,6,"3",{"$f":"入力欄!F49","v":794007563},"563","63"]
[null,1,null,null,null,null,"ａ",null,null,null,null,null,null,null,null,null,null,null,null,null,null,null,null,null,null,null,null,null,null,null,null,null,null,1,null,null,null,null,"ａ",null,null,null,null,null,null,null,null,null,null,null,null,null,null,null,null,null,null,null,null,null,null,null,null,null,null,null,83,"中柄 詩音",3,1,"4",null,{"$f":"入力欄!B50","v":"中柄 詩音"},{"$f":"IF(入力欄!E50=\"\",\"\",入力欄!E50)","v":83},3,1,"4",{"$f":"入力欄!F50","v":806877314},"314","14"]
[null,2,null,null,null,null,"ｂ",null,null,null,null,null,null,null,null,null,null,null,null,null,null,null,null,null,null,null,null,null,null,null,null,null,null,2,null,null,null,null,"ｂ",null,null,null,null,null,null,null,null,null,null,null,null,null,null,null,null,null,null,null,null,null,null,null,null,null,null,null,84,"橋本 康佑",3,1,"4",null,{"$f":"入力欄!B51","v":"鶴身 桜助"},{"$f":"IF(入力欄!E51=\"\",\"\",入力欄!E51)","v":26},1,8,"2",{"$f":"入力欄!F51","v":991325182},"182","82"]
[null,3,null,null,null,null,"ｃ",null,null,null,null,null,null,null,null,null,null,null,null,null,null,null,null,null,null,null,null,null,null,null,null,null,null,3,null,null,null,null,"ｃ",null,null,null,null,null,null,null,null,null,null,null,null,null,null,null,null,null,null,null,null,null,null,null,null,null,null,null,100,"松原 成到",9,6,"4",null,{"$f":"入力欄!B52","v":"松原 成到"},{"$f":"IF(入力欄!E52=\"\",\"\",入力欄!E52)","v":100},9,6,"4",{"$f":"入力欄!F52","v":427197964},"964","64"]
[null,4,null,null,null,null,"ｄ",null,null,null,null,null,null,null,null,null,null,null,null,null,null,null,null,null,null,null,null,null,null,null,null,null,null,4,null,null,null,null,"ｄ",null,null,null,null,null,null,null,null,null,null,null,null,null,null,null,null,null,null,null,null,null,null,null,null,null,null,null,null,{"$f":"入力欄!B21","v":"藤原 悟"},{"$f":"IF(BZ64=\"\",\"\",BW64)","v":4},{"$f":"IF(BZ64=\"\",\"\",BX64)","v":7},{"$f":"IF(BZ64=\"\",\"\",BY64)","v":"0"},null,null,null,{"$f":"(CA64-CB64)/100","v":4},{"$f":"(CB64-BY64)/10","v":7},{"$f":"RIGHT(BZ64,1)","v":"0"},{"$f":"入力欄!B24","v":503334470},"470","70"]
[null,5,null,null,null,null,"ｅ",null,null,null,null,null,null,null,null,null,null,null,null,null,null,null,null,null,null,null,null,null,null,null,null,null,null,5,null,null,null,null,"ｅ",null,null,null,null,null,null,null,null,null,null,null,null,null,null,null,null,null,null,null,null,null,null,null,null,null,null,null,null,{"$f":"入力欄!B26","v":"田中 美保"},{"$f":"IF(BZ65=\"\",\"\",BW65)","v":""},{"$f":"IF(BZ65=\"\",\"\",BX65)","v":""},{"$f":"IF(BZ65=\"\",\"\",BY65)","v":""},null,null,null,{"$error":"#VALUE!"},{"$error":"#VALUE!"},"",null,"",""]
[null,6,null,null,null,null,"ｆ",null,null,null,null,null,null,null,null,null,null,null,null,null,null,null,null,null,null,null,null,null,null,null,null,null,null,6,null,null,null,null,"ｆ"]
[null,7,null,null,null,null,"ｇ",null,null,null,null,null,null,null,null,null,null,null,null,null,null,null,null,null,null,null,null,null,null,null,null,null,null,7,null,null,null,null,"ｇ"]
[null,8,null,null,null,null,"ｈ",null,null,null,null,null,null,null,null,null,null,null,null,null,null,null,null,null,null,null,null,null,null,null,null,null,null,8,null,null,null,null,"ｈ"]
[null,9,null,null,null,null,"ｉ",null,null,null,null,null,null,null,null,null,null,null,null,null,null,null,null,null,null,null,null,null,null,null,null,null,null,9,null,null,null,null,"ｉ"]
[null,10,null,null,null,null,null,null,null,null,null,null,null,null,null,null,null,null,null,null,null,null,null,null,null,null,null,null,null,null,null,null,null,10,null,null,null,null,"ｊ"]
[null,11,null,null,null,null,null,null,null,null,null,null,null,null,null,null,null,null,null,null,null,null,null,null,null,null,null,null,null,null,null,null,null,11,null,null,null,null,"ｋ"]
[null,12,null,null,null,null,null,null,null,null,null,null,null,null,null,null,null,null,null,null,null,null,null,null,null,null,null,null,null,null,null,null,null,12,null,null,null,null,"ｌ"]
[null,13,null,null,null,null,null,null,null,null,null,null,null,null,null,null,null,null,null,null,null,null,null,null,null,null,null,null,null,null,null,null,null,13,null,null,null,null,"ｍ"]
[null,14,null,null,null,null,null,null,null,null,null,null,null,null,null,null,null,null,null,null,null,null,null,null,null,null,null,null,null,null,null,null,null,14,null,null,null,null,"ｎ"]
[null,15,null,null,null,null,null,null,null,null,null,null,null,null,null,null,null,null,null,null,null,null,null,null,null,null,null,null,null,null,null,null,null,15]
[null,"コーチ Coach",null,null,null,null,null,null,null,null,null,null,null,null,null,null,null,null,null,null,null,null,null,null,null,null,null,null,null,null,null,null,null,"コーチ Coach"]
[null,"Ａ.コーチ A.Coach",null,null,null,null,null,null,null,null,null,null,null,null,null,null,null,null,null,null,null,null,null,null,null,null,null,null,null,null,null,null,null,"Ａ.コーチ A.Coach"]

{"sheet":"個人情報","index":3,"n_rows":37,"n_cols":66,"rows_kept":37,"cut":false,"hidden":false,"merged":[[32,0,32,28],[33,0,34,10],[33,17,33,19],[35,5,35,13],[35,16,35,24],[36,6,36,13],[36,15,36,16],[36,17,36,24],[36,26,36,27],[29,0,29,1],[29,2,29,10],[29,11,29,13],[29,14,29,17],[29,18,29,28],[30,0,30,1],[30,2,30,10],[30,11,30,13],[30,14,30,17],[30,18,30,28],[27,0,27,1],[27,2,27,10],[27,11,27,13],[27,14,27,17],[27,18,27,28],[28,0,28,1],[28,2,28,10],[28,11,28,13],[28,14,28,17],[28,18,28,28],[25,0,25,1],[25,2,25,10],[25,11,25,13],[25,14,25,17],[25,18,25,28],[26,0,26,1],[26,2,26,10],[26,11,26,13],[26,14,26,17],[26,18,26,28],[23,0,23,1],[23,2,23,7],[23,8,23,10],[23,11,23,13],[23,14,23,17],[23,18,23,28],[22,0,22,1],[22,2,22,7],[22,8,22,10],[22,11,22,13],[22,14,22,17],[22,18,22,28],[12,37,13,40],[21,0,21,1],[21,2,21,7],[21,8,21,10],[21,11,21,13],[21,14,21,17],[21,18,21,28],[20,0,20,1],[20,2,20,7],[20,8,20,10],[20,11,20,13],[20,14,20,17],[20,18,20,28],[19,0,19,1],[19,2,19,7],[19,8,19,10],[19,11,19,13],[19,14,19,17],[19,18,19,28],[18,0,18,1],[18,2,18,7],[18,8,18,10],[18,11,18,13],[18,14,18,17],[18,18,18,28],[17,0,17,1],[17,2,17,7],[17,8,17,10],[17,11,17,13],[17,14,17,17],[17,18,17,28],[16,0,16,1],[16,2,16,7],[16,8,16,10],[16,11,16,13],[16,14,16,17],[16,18,16,28],[15,0,15,1],[15,2,15,7],[15,8,15,10],[15,11,15,13],[15,14,15,17],[15,18,15,28],[14,0,14,1],[14,2,14,7],[14,8,14,10],[14,11,14,13],[14,14,14,17],[14,18,14,28],[13,0,13,1],[13,2,13,7],[13,8,13,10],[13,11,13,13],[13,14,13,17],[13,18,13,28],[12,0,12,1],[12,2,12,7],[12,8,12,10],[12,11,12,13],[12,14,12,17],[12,18,12,28],[11,0,11,1],[11,2,11,7],[11,8,11,10],[11,11,11,13],[11,14,11,17],[11,18,11,28],[9,18,9,28],[10,0,10,1],[10,2,10,7],[10,8,10,10],[10,11,10,13],[10,14,10,17],[10,18,10,28],[8,0,8,1],[8,2,8,10],[8,11,8,13],[8,14,8,17],[8,18,8,28],[9,0,9,1],[9,2,9,7],[9,8,9,10],[9,11,9,13],[9,14,9,17],[5,0,6,3],[5,4,6,16],[5,17,5,19],[5,20,5,28],[6,17,6,19],[6,20,6,28],[0,1,0,3],[2,23,2,25],[2,26,2,28],[3,23,3,25],[3,26,3,28]]}
[null,{"$f":"参加申込!A1","v":2020},null,null,"年度",null,null,{"$f":"入力欄!A1","v":"香川県中学校新人体育大会 バスケットボール競技"}]
[null,null,null,null,null,null,null,"個人情報の取り扱いに関する申請書"]
[null,null,null,null,null,null,null,null,null,null,null,null,null,null,null,null,null,null,null,null,null,null,null,"地区",null,null,"性別"]
[null,null,null,null,null,null,null,null,null,null,null,null,null,null,null,null,null,null,null,null,null,null,null,{"$f":"入力欄!B18","v":"高松"},null,null,{"$f":"入力欄!B19","v":"男子"}]
[]
["チーム名",null,null,null,{"$f":"IF(入力欄!E7=\"\",入力欄!B7,入力欄!B7&\"，\"&入力欄!E7)","v":"高松市立玉藻中学校"},null,null,null,null,null,null,null,null,null,null,null,null,"住所",null,null,{"$f":"IF(入力欄!E7=\"\",入力欄!B9,入力欄!B9&\"，\"&入力欄!E9)","v":"高松市上福岡町714番地1"},null,null,null,null,null,null,null,null,"個人情報の取扱について部員に確認する場合は『個人情報確認』のシートのプリントを利用してくださっても結構です。"]
[null,null,null,null,null,null,null,null,null,null,null,null,null,null,null,null,null,"電話",null,null,{"$f":"IF(入力欄!E7=\"\",入力欄!B10,入力欄!B10&\"，\"&入力欄!E10)","v":"087-861-8196 "}]
[]
["No.",null,"選　手　氏　名",null,null,null,null,null,null,null,null,"学年",null,null,"配慮が必要",null,null,null,"配慮する内容",null,null,null,null,null,null,null,null,null,null,null,null,null,null,null,null,null,null,null,null,null,null,null,"○"]
[1,null,{"$f":"IF(入力欄!B38=\"\",\"\",入力欄!B38)","v":"田中 七翔"},null,null,null,null,null,{"$f":"IF(入力欄!G38=\"\",\"\",入力欄!G38)","v":""},null,null,{"$f":"入力欄!C38","v":"2年"},null,null,null,null,null,null,null,null,null,null,null,null,null,null,null,null,null,"←配慮が必要な選手の欄に○をつけ、配慮する内容を番号で選択(複数可)するか、配慮事項を記入してください。"]
[2,null,{"$f":"IF(入力欄!B39=\"\",\"\",入力欄!B39)","v":"遠藤 優太"},null,null,null,null,null,{"$f":"IF(入力欄!G39=\"\",\"\",入力欄!G39)","v":""},null,null,{"$f":"入力欄!C39","v":"2年"},null,null,null,null,null,null,null,null,null,null,null,null,null,null,null,null,null,"① プログラムに個人名・学年・身長を掲載しない(チーム集合写真は各チームで配慮してください)。"]
[3,null,{"$f":"IF(入力欄!B40=\"\",\"\",入力欄!B40)","v":"平田 悠生"},null,null,null,null,null,{"$f":"IF(入力欄!G40=\"\",\"\",入力欄!G40)","v":""},null,null,{"$f":"入力欄!C40","v":"2年"},null,null,null,null,null,null,null,null,null,null,null,null,null,null,null,null,null,"② 新聞社に個人名を提供しない。"]
[4,null,{"$f":"IF(入力欄!B41=\"\",\"\",入力欄!B41)","v":"西山 真輝"},null,null,null,null,null,{"$f":"IF(入力欄!G41=\"\",\"\",入力欄!G41)","v":""},null,null,{"$f":"入力欄!C41","v":"2年"},null,null,null,null,null,null,null,null,null,null,null,null,null,null,null,null,null,"③A 新聞社の写真に掲載されないようにする。",null,null,null,null,null,null,null,"個人情報の取り扱いについて"]
[5,null,{"$f":"IF(入力欄!B42=\"\",\"\",入力欄!B42)","v":"中山 晴矢"},null,null,null,null,null,{"$f":"IF(入力欄!G42=\"\",\"\",入力欄!G42)","v":""},null,null,{"$f":"入力欄!C42","v":"2年"},null,null,null,null,null,null,null,null,null,null,null,null,null,null,null,null,null,"③Ｂ 新聞社の写真に個人が特定されないようにする。"]
[6,null,{"$f":"IF(入力欄!B43=\"\",\"\",入力欄!B43)","v":"小松 聖奈"},null,null,null,null,null,{"$f":"IF(入力欄!G43=\"\",\"\",入力欄!G43)","v":""},null,null,{"$f":"IF(入力欄!C43=\"\",\"\",入力欄!C43)","v":"2年"},null,null,null,null,null,null,null,null,null,null,null,null,null,null,null,null,null,"④ 協会ホームページに個人名を掲載しない。",null,null,null,null,null,null,"　参加申込によって得た個人情報は原則として、大会の運営に関することのみに利用します。"]
[7,null,{"$f":"IF(入力欄!B44=\"\",\"\",入力欄!B44)","v":"片岡 大二"},null,null,null,null,null,{"$f":"IF(入力欄!G44=\"\",\"\",入力欄!G44)","v":""},null,null,{"$f":"IF(入力欄!C44=\"\",\"\",入力欄!C44)","v":"2年"},null,null,null,null,null,null,null,null,null,null,null,null,null,null,null,null,null,"⑤A 協会ホームページの写真に掲載されないようにする。",null,null,null,null,null,null,"ただし、以下の場合に個人情報を公開および提供することがあります。"]
[8,null,{"$f":"IF(入力欄!B45=\"\",\"\",入力欄!B45)","v":"高木 滉翔"},null,null,null,null,null,{"$f":"IF(入力欄!G45=\"\",\"\",入力欄!G45)","v":""},null,null,{"$f":"IF(入力欄!C45=\"\",\"\",入力欄!C45)","v":"2年"},null,null,null,null,null,null,null,null,null,null,null,null,null,null,null,null,null,"⑤B 協会ホームページの写真に個人が特定されないようにする。",null,null,null,null,null,null,"① 大会プログラムを作成し、チームの集合写真・選手氏名・学年・身長等が掲載されることがあります。"]
[9,null,{"$f":"IF(入力欄!B46=\"\",\"\",入力欄!B46)","v":"小笠原 良介"},null,null,null,null,null,{"$f":"IF(入力欄!G46=\"\",\"\",入力欄!G46)","v":""},null,null,{"$f":"IF(入力欄!C46=\"\",\"\",入力欄!C46)","v":"2年"},null,null,null,null,null,null,null,null,null,null,null,null,null,null,null,null,null,"⑥ 協会からの求めがあっても、推薦資料を提供しない。",null,null,null,null,null,null,"② 新聞社に試合結果を提供します。その際に優秀選手等の個人名が提供されることがあります。"]
[10,null,{"$f":"IF(入力欄!B47=\"\",\"\",入力欄!B47)","v":"宮脇 柚月"},null,null,null,null,null,{"$f":"IF(入力欄!G47=\"\",\"\",入力欄!G47)","v":""},null,null,{"$f":"IF(入力欄!C47=\"\",\"\",入力欄!C47)","v":"2年"},null,null,null,null,null,null,null,null,null,null,null,null,null,null,null,null,null,"◎ メンバー票に載せないことはできません。",null,null,null,null,null,null,"③ 新聞社が試合風景の写真を撮影し、掲載することがあります。"]
[11,null,{"$f":"IF(入力欄!B48=\"\",\"\",入力欄!B48)","v":"橋本 康佑"},null,null,null,null,null,{"$f":"IF(入力欄!G48=\"\",\"\",入力欄!G48)","v":""},null,null,{"$f":"IF(入力欄!C48=\"\",\"\",入力欄!C48)","v":"2年"},null,null,null,null,null,null,null,null,null,null,null,null,null,null,null,null,null,null,null,null,null,null,null,null,"④ 協会ホームページに試合結果を掲載します。その際に優秀選手等の個人名が掲載されることがあります。"]
[12,null,{"$f":"IF(入力欄!B49=\"\",\"\",入力欄!B49)","v":"大原 真優"},null,null,null,null,null,{"$f":"IF(入力欄!G49=\"\",\"\",入力欄!G49)","v":""},null,null,{"$f":"IF(入力欄!C49=\"\",\"\",入力欄!C49)","v":"2年"},null,null,null,null,null,null,null,null,null,null,null,null,null,null,null,null,null,null,null,null,null,null,null,null,"⑤ 協会ホームページに試合風景の写真を掲載することがあります。"]
[13,null,{"$f":"IF(入力欄!B50=\"\",\"\",入力欄!B50)","v":"中柄 詩音"},null,null,null,null,null,{"$f":"IF(入力欄!G50=\"\",\"\",入力欄!G50)","v":""},null,null,{"$f":"IF(入力欄!C50=\"\",\"\",入力欄!C50)","v":"2年"},null,null,null,null,null,null,null,null,null,null,null,null,null,null,null,null,null,null,null,null,null,null,null,null,"⑥ 県協会、日本協会の求めに応じて、優秀選手の推薦等の資料として個人名・身長等を提供することがあります。"]
[14,null,{"$f":"IF(入力欄!B51=\"\",\"\",入力欄!B51)","v":"鶴身 桜助"},null,null,null,null,null,{"$f":"IF(入力欄!G51=\"\",\"\",入力欄!G51)","v":""},null,null,{"$f":"IF(入力欄!C51=\"\",\"\",入力欄!C51)","v":"2年"},null,null,null,null,null,null,null,null,null,null,null,null,null,null,null,null,null,null,null,null,null,null,null,null,"今大会はプログラムは作成しません。"]
[15,null,{"$f":"IF(入力欄!B52=\"\",\"\",入力欄!B52)","v":"松原 成到"},null,null,null,null,null,{"$f":"IF(入力欄!G52=\"\",\"\",入力欄!G52)","v":""},null,null,{"$f":"IF(入力欄!C52=\"\",\"\",入力欄!C52)","v":"2年"}]
[]
["No.",null,"氏　　名",null,null,null,null,null,null,null,null,"役職",null,null,"配慮が必要",null,null,null,"配慮する内容",null,null,null,null,null,null,null,null,null,null,null,null,null,null,null,null,null,null,null,null,null,null,null,null,null,null,null,null,null,null,null,null,null,null,null,null,null,null,null,null,null,{"$f":"入力欄!B13","v":"木塲 達人"}]
[1,null,null,null,null,null,null,null,null,null,null,null,null,null,null,null,null,null,null,null,null,null,null,null,null,null,null,null,null,null,null,null,null,null,null,null,null,null,null,null,null,null,null,null,null,null,null,null,null,null,null,null,null,null,null,null,null,null,null,null,{"$f":"入力欄!B15","v":"藤原 悟"}]
[2,null,null,null,null,null,null,null,null,null,null,null,null,null,null,null,null,null,null,null,null,null,null,null,null,null,null,null,null,null,null,null,null,null,null,null,null,null,null,null,null,null,null,null,null,null,null,null,null,null,null,null,null,null,null,null,null,null,null,null,{"$f":"入力欄!B21","v":"藤原 悟"}]
[3,null,null,null,null,null,null,null,null,null,null,null,null,null,null,null,null,null,null,null,null,null,null,null,null,null,null,null,null,null,null,null,null,null,null,null,null,null,null,null,null,null,null,null,null,null,null,null,null,null,null,null,null,null,null,null,null,null,null,null,{"$f":"入力欄!B26","v":"田中 美保"}]
[4,null,null,null,null,null,null,null,null,null,null,null,null,null,null,null,null,null,null,null,null,null,null,null,null,null,null,null,null,null,null,null,null,null,null,null,null,null,null,null,null,null,null,null,null,null,null,null,null,null,null,null,null,null,null,null,null,null,null,null,{"$f":"入力欄!B31","v":"秋山 陽斗"}]
[5,null,null,null,null,null,null,null,null,null,null,null,null,null,null,null,null,null,null,null,null,null,null,null,null,null,null,null,null,null,null,null,null,null,null,null,null,null,null,null,null,null,null,null,null,null,null,null,null,null,null,null,null,null,null,null,null,null,null,null,{"$f":"入力欄!B12","v":"間島 浩"}]
[null,null,null,null,null,null,null,null,null,null,null,null,null,null,null,null,null,null,null,null,null,null,null,null,null,null,null,null,null,null,null,null,null,null,null,null,null,null,null,null,null,null,null,null,null,null,null,null,null,null,null,null,null,null,null,null,null,null,null,null,{"$f":"入力欄!E12","v":0}]
["　標記大会において、上記の者の個人情報について配慮していただくことを申請いたします。"]
[{"$f":"入力欄!C1&\"長 殿\"","v":"香川県中学校体育連盟長 殿"},null,null,null,null,null,null,null,null,null,null,null,null,null,null,null,null,{"$f":"入力欄!B3","v":2020},null,null,"年",{"$f":"入力欄!B4","v":8},"月",{"$f":"入力欄!B5","v":9},"日"]
[]
[null,null,null,null,null,{"$f":"IF(入力欄!$E$7=\"\",\"\",入力欄!E7)","v":""},null,null,null,null,null,null,null,null,null,null,{"$f":"入力欄!B7","v":"高松市立玉藻中学校"}]
[null,null,null,null,null,null,{"$f":"IF(入力欄!E12=\"\",\"\",入力欄!E12)","v":""},null,null,null,null,null,null,null,null,{"$f":"IF(入力欄!E6=\"\",\"\",\"印\")","v":""},null,{"$f":"入力欄!B12","v":"間島 浩"},null,null,null,null,null,null,null,null,"印",null,null,null,null,null,null,null,null,null,null,null,null,null,null,null,null,null,null,null,null,null,null,null,null,null,null,null,null,null,null,null,null,null,"責任者","引率者","連絡責任者","コーチ","Ａコーチ","マネージャー"]

{"sheet":"個人情報確認","index":4,"n_rows":56,"n_cols":15,"rows_kept":56,"cut":false,"hidden":false,"merged":[[38,5,39,5],[42,0,42,10],[45,2,45,9],[0,8,0,9],[1,1,1,3],[5,8,5,9],[6,8,6,9],[8,1,8,9],[10,1,15,9],[16,1,17,9]]}
[null,null,null,null,null,null,null,null,{"$f":"TODAY()","v":"2020-08-09"},null,null,"←日付は変更して使用してください。"]
[null,"○○立○○中学校",null,null,null,null,null,null,null,null,null,"←学校名は入力して使用してください。"]
[null,"バスケットボール部保護者　各位"]
[null,null,null,null,null,null,null,null,null,{"$f":"B2","v":"○○立○○中学校"},null,"←こちらは上の学校名に連動しています。"]
[null,null,null,null,null,null,null,null,null,"バスケットボール部顧問"]
[null,null,null,null,null,null,null,null,"男子　　○○　○○",null,null,"←顧問名は入力して使用してください。"]
[null,null,null,null,null,null,null,null,"女子　　○○　○○"]
[]
[null,"バスケットボール大会参加時の個人情報の取扱について"]
[]
[null,"　日頃より、本校バスケットボール部の活動にご理解、ご協力いただきありがとうございます。\n　さて、香川県・地区バスケットボール協会、香川県・地区中学校体育連盟が主催するバスケットボール大会に出場する際、個人情報の取扱について大会申込時に確認が求められます。\n　そこで部員全員に個人情報の取扱について確認をしたいと思います。この調査は来年度の県総体までの期間有効とします。途中で変更になる場合は生徒を通じて申し出るようお願いします。\n",null,null,null,null,null,null,null,null,null,"新人戦で確認をとり、次年度の県総体まで"]
[]
[]
[]
[]
[]
[null,{"$f":"\"　各大会主催者から出されている下記の個人情報の取扱について確認していただき、『個人情報の配慮事項』に必要事項を記入して\"&L18&\"月\"&N18&\"日までに各顧問へ提出してください。\"","v":"　各大会主催者から出されている下記の個人情報の取扱について確認していただき、『個人情報の配慮事項』に必要事項を記入して○月△日までに各顧問へ提出してください。"},null,null,null,null,null,null,null,null,null,"←〆切日は下記に入力して使用してください。"]
[null,null,null,null,null,null,null,null,null,null,null,"○","月","△","日"]
[]
[null,null,null,null,null,"記"]
[]
[null,"※個人情報の取扱について"]
[null,"　参加申込によって得た個人情報は原則として、大会の運営に関することのみに利用します。"]
[null,"ただし、以下の場合に個人情報を公開および提供することがあります。"]
[]
[null,"① 大会プログラムを作成し、チームの集合写真・選手氏名・学年・身長等が掲載されることがあります"]
[null,"　（大会プログラムは県総体のみ作成、今年度は集合写真の掲載はなし）。"]
[null,"② 新聞社に試合結果を提供します。その際に優秀選手等の個人名が提供されることがあります(優秀"]
[null,"　選手は県ジュニア大会のみ設定があり）。"]
[null,"③ 新聞社が試合風景の写真を撮影し、掲載することがあります(県大会のベスト4の試合を四国新聞"]
[null,"　社が撮影し、新聞に掲載される可能性あり)。"]
[null,"④ 協会ホームページに試合結果を掲載します。その際に優秀選手等の個人名が掲載されることが"]
[null,"　あります(優秀選手は県ジュニア大会のみ設定あり）。"]
[null,"⑤ 協会ホームページに試合風景の写真を掲載することがあります(県大会のベスト4の試合を協会"]
[null,"　役員が撮影し、ホームページに掲載される可能性あり)。"]
[null,"⑥ 県協会、日本協会の求めに応じて、優秀選手の推薦等の資料として個人名・身長等を提供する"]
[null,"　ことがあります。"]
[]
[null,null,null,null,null,"切り取り"]
[]
[null,"バスケットボール部の大会参加時に関わる個人情報の取扱確認"]
[]
["(　　)年(　　)組　氏名(　　　　　　　　　　　　)　　保護者氏名(　　　　　　　　　　 印　)"]
[]
[null,"該当する項目の左の欄に○を記入する。",null,null,null,null,"記入日",{"$f":"入力欄!B3&\"年\"","v":"2020年"},"月","日"]
[null,"該当","項目"]
[null,null,"　配慮事項は特にない"]
[null,null,"①Ａ","プログラムに個人名・学年・身長を掲載しない。"]
[null,null,"①Ｂ","集合写真には入らない。"]
[null,null,"②","新聞社に個人名を提供しない。"]
[null,null,"③A","新聞社の写真に掲載されないようにする。"]
[null,null,"③Ｂ","新聞社の写真に個人が特定されないようにする。"]
[null,null,"④","協会ホームページに個人名を掲載しない。"]
[null,null,"⑤A","協会ホームページの写真に掲載されないようにする。"]
[null,null,"⑤B","協会ホームページの写真に個人が特定されないようにする。"]
[null,null,"⑥","協会からの求めがあっても、推薦資料を提供しない。"]

{"sheet":"Sheet1","index":5,"n_rows":6,"n_cols":21,"rows_kept":6,"cut":false,"hidden":true,"merged":[[0,0,0,4]]}
["タイムアウト\nTime-outs",null,null,null,null,null,null,null,null,null,null,null,null,null,null,null,"チームファウルTeam foules"]
[null,null,null,null,null,"クォーターquarter",null,null,null,null,null,"①","1","2","3","4","②","1","2","3","4"]
[]
[null,null,null,null,null,"クォーターquarter",null,null,null,null,null,"③","1","2","3","4","④","1","2","3","4"]
[]
[null,null,null,null,null,"オーバータイムOvertimes"]