{"text_format":"1","workbook":"xlsx","n_sheets":8,"sheets":["入力欄","参加申込","メンバー票a","メンバー票b","メンバー票c","メンバー票d","個人情報","個人情報確認"],"not_rendered":{"charts":0,"images":0,"macros":1,"external_links":0,"defined_names":8,"comments":1,"pivot_tables":0},"unopened":[],"bounds":{"document_bytes":16777216,"sheet_cells":100000,"rows_first":2000,"rows_last":500,"rows_between":2000,"halvings":0,"cell_chars":16384,"cell_head_chars":4096},"cells_cut":0,"cells_raw":0,"read":"whole","date_system":"1900"}

{"sheet":"入力欄","index":0,"n_rows":64,"n_cols":33,"rows_kept":64,"cut":false,"hidden":false,"merged":[[8,7,8,10],[8,11,8,14],[7,22,7,25],[7,26,7,29],[7,7,7,10],[3,11,3,14],[4,11,4,14],[5,11,5,14],[6,11,6,14],[7,11,7,14],[35,0,35,1],[10,7,11,13],[35,6,35,9],[0,0,0,1],[6,4,6,5],[7,4,7,5],[8,4,8,5],[9,4,9,5],[10,4,10,5],[11,4,11,5],[0,2,0,4],[17,5,18,8],[3,7,3,10],[4,7,4,10],[5,7,5,10],[6,7,6,10]]}
["全国U15バスケットボール選手権大会香川県予選会",null,{"$f":"INDEX(L4:O9,MATCH(A1,H4:H9,0),1)","v":"（一社）香川県バスケットボール協会"},null,null,"データを保存する場合はファイル名の(チーム名男女)を変更してください。"]
[null,"入力(選択)欄","A1 のセルの大会名を変更してください"]
["申込年",{"$f":"YEAR(TODAY())","v":2020},"現在の日付が入力されています。",null,null,null,null,"大会名",null,null,null,"主催者名",null,null,null,null,null,null,null,null,null,null,{"$f":"YEAR(TODAY())","v":2020}]
["申込月",{"$f":"MONTH(TODAY())","v":8},"特定の日に変更したいときは直接セル(B3～B5)に入力してください。",null,null,null,null,"香川県ジュニアバスケットボール大会",null,null,null,"(一社)香川県バスケットボール協会",null,null,null,null,null,null,null,null,null,null,{"$f":"MONTH(TODAY())","v":8}]
["申込日",{"$f":"DAY(TODAY())","v":31},null,null,null,null,null,"ＫＡＧＡＷＡ　ＣＵＰ",null,null,null,"(一社)香川県バスケットボール協会",null,null,null,null,null,null,null,null,null,null,{"$f":"DAY(TODAY())","v":31}]
[null,null,null,"合同チームの2チーム目",null,null,null,"高松市ジュニアバスケットボール大会",null,null,null,"高松市バスケットボール協会"]
["チーム名(正式)",null,null,"チーム名(正式)",null,null,null,"高松市バスケットボール協会長杯",null,null,null,"高松市バスケットボール協会"]
["チーム名(略称)",null,null,"チーム名(略称)",null,null,null,"高松市バスケケットボールカーニバル",null,null,null,"高松市バスケットボール協会",null,null,null,null,null,null,null,null,null,null,"H8セル　大会名を入力可能",null,null,null,"L8セル　主催者名を入力可能"]
["所在地",null,null,"所在地",null,null,null,"全国U15バスケットボール選手権大会香川県予選会",null,null,null,"（一社）香川県バスケットボール協会"]
["電話番号",null,null,"電話番号"]
["チームＩＤ",null,null,"チームＩＤ",null,null,null,"各シートは、シートの保護をしています。様式を修正する場合は\n「校閲」→「シートの保護の解除」をしてください。"]
["責任者氏名",null,"所属","責任者氏名"]
["引率者氏名",null,null,"←合同チームの場合"]
["引率者職名",null,"所属"]
["連絡責任者氏名"]
["連絡責任者携帯電話",null,"↑"]
[null,null,"合同チームの場合",null,"選択必須","個人情報について配慮が必要な者がいる場合は○、いない場合は×をつける。"]
["地区",null,null,null,null,"個人情報の取り扱いについて",null,null,null,null,null,null,null,null,null,null,null,null,null,null,null,null,"小豆","さ東","高松","綾坂","丸亀","仲善","三観",null,"○"]
["性別",null,"合同チームの場合",null,null,null,null,null,null,null,null,null,null,null,null,null,null,null,null,null,null,null,"男子","女子",null,null,null,null,null,null,"×"]
[null,null,"↓",null,"　参加申込によって得た個人情報は原則として、大会の運営に関することのみに利用します。",null,null,null,null,null,null,null,null,null,null,null,null,null,null,null,null,null,null,null,null,null,null,null,null,null,"選択必須"]
["コーチ氏名",null,"所属",null,"ただし、以下の場合に個人情報を公開および提供することがあります。"]
["コーチ職名",null,null,{"$f":"VLOOKUP(B22,$AF$27:$AG$34,2,)","v":{"$error":"#N/A"}},"① 大会プログラムを作成し、チームの集合写真・選手氏名・学年・身長等が掲載されることがあります。",null,null,null,null,null,null,null,null,null,null,null,null,null,null,null,null,null,"教諭","講師","部活動指導員","校長","教頭","主幹教諭","指導教諭"]
["コーチ資格",null,null,null,"② 新聞社に試合結果を提供します。その際に優秀選手等の個人名が提供されることがあります。",null,null,null,null,null,null,null,null,null,null,null,null,null,null,null,null,null,"A級","B級","C級","D級","E-1級","E-2級","なし"]
["コーチＩＤ",null,"合同チームの場合",null,"③ 新聞社が試合風景の写真を撮影し、掲載することがあります。"]
[null,null,"↓",null,"④ 協会ホームページに試合結果を掲載します。その際に優秀選手等の個人名が掲載されることがあります。"]
["Ａコーチ氏名",null,"所属",null,"⑤ 協会ホームページに試合風景の写真を掲載することがあります。"]
["Ａコーチ職名",null,null,{"$f":"VLOOKUP(B27,$AF$27:$AG$34,2,)","v":{"$error":"#N/A"}},"⑥ 県協会、日本協会の求めに応じて、優秀選手の推薦等の資料として個人名・身長等を提供することがあります。",null,null,null,null,null,null,null,null,null,null,null,null,null,null,null,null,null,"教諭","講師","部活動指導員","外部コーチ","校長","教頭","主幹教諭","指導教諭",null,"教諭","教員"]
["Ａコーチ資格",null,null,null,null,null,null,null,null,null,null,null,null,null,null,null,null,null,null,null,null,null,null,null,null,null,null,null,null,null,null,"講師","教員"]
["ＡコーチＩＤ",null,"合同チームの場合",null,null,null,null,null,null,null,null,null,null,null,null,null,null,null,null,null,null,null,null,null,null,null,null,null,null,null,null,"部活動指導員","部指"]
[null,null,"↓",null,null,null,null,null,null,null,null,null,null,null,null,null,null,null,null,null,null,null,null,null,null,null,null,null,null,null,null,"外部コーチ","外部"]
["マネージャー氏名",null,"所属",null,"基本ﾕﾆﾌｫｰﾑNo.は参加申込に反映されます。",null,null,null,null,null,null,null,null,null,null,null,null,null,null,null,null,null,null,null,null,null,null,null,null,null,null,"校長","教員"]
["マネージャー職名",null,null,null,"基本は同じNo.が複数いてもかまいません。",null,null,null,null,null,null,null,null,null,null,null,null,null,null,null,null,null,"教諭","講師","生徒","校長","教頭","主幹教諭","指導教諭",null,null,"教頭","教員"]
[null,null,null,null,"『00』を使用する場合はこの基本ﾕﾆﾌｫｰﾑNo.は『100』を入力してください。",null,null,null,null,null,null,null,null,null,null,null,null,null,null,null,null,null,null,null,null,null,null,null,null,null,null,"主幹教諭","教員"]
["トレーナー氏名",null,null,null,"『0』と『00』は同時には使用できません。",null,null,null,null,null,null,null,null,null,null,null,null,null,null,null,null,null,null,null,null,null,null,null,null,null,null,"指導教諭","教員"]
["トレーナー資格",null,null,"整数で","↓",null,null,null,null,"合同チームの場合",null,null,null,null,null,null,null,null,null,null,null,null,"医療に従事しており国家資格を有する者","トレーナーとして認定資格を有する者","当該校の養護教諭"]
["上からつめて入力してください↓",null,null,"↓","基本"," 『申請中』は700000000","メンバー票反映",null,null,null,"↓"]
[null,"選手氏名","学年","身長","ﾕﾆﾌｫｰﾑNo.","メンバーＩＤ","ａ","ｂ","ｃ","ｄ","備考"]
[1,null,null,null,null,null,null,null,null,null,null,null,null,null,null,null,null,null,null,null,null,null,null,"1年","2年","3年",{"$f":"B8","v":0},{"$f":"E8","v":0},{"$f":"IF(E38=\"\",\"*\",E38)","v":"*"}]
[2,null,null,null,null,null,null,null,null,null,null,null,null,null,null,null,null,null,null,null,null,null,null,null,null,null,null,null,"*"]
[3,null,null,null,null,null,null,null,null,null,null,null,"メンバー票の作成について",null,null,null,null,null,null,null,null,null,null,null,null,null,null,null,"*"]
[4,null,null,null,null,null,null,null,null,null,null,null,"25名中、任意の15名を選んだ4種類のメンバー票が作成できます。",null,null,null,null,null,null,null,null,null,null,null,null,null,null,null,"*"]
[5,null,null,null,null,null,null,null,null,null,null,null,"メンバー票はﾕﾆﾌｫｰﾑNo.の小さい順にならびます。参加申込は入力欄の順です。",null,null,null,null,null,null,null,null,null,null,null,null,null,null,null,"*"]
[6,null,null,null,null,null,null,null,null,null,null,null,null,null,null,null,null,null,null,null,null,null,null,null,null,null,null,null,"*"]
[7,null,null,null,null,null,null,null,null,null,null,null,"作成の手順",null,null,null,null,null,null,null,null,null,null,null,null,null,null,null,"*"]
[8,null,null,null,null,null,null,null,null,null,null,"①","上の『コピーする』をクリックし、基本のﾕﾆﾌｫｰﾑNo.をメンバー票反映a～dにコピーする",null,null,null,null,null,null,null,null,null,null,null,null,null,null,null,"*"]
[9,null,null,null,null,null,null,null,null,null,null,"②","そのゲームでベンチ入りしない者の欄に『*』を入力する。",null,null,null,null,null,null,null,null,null,null,null,null,null,null,null,"*"]
[10,null,null,null,null,null,null,null,null,null,null,null,"『*』は選手氏名がないところも含めて10個以上つけてください。メンバー票が正しく作成できません。",null,null,null,null,null,null,null,null,null,null,null,null,null,null,null,"*"]
[11,null,null,null,null,null,null,null,null,null,null,null,"『*』が入力されたセルは黄色で塗りつぶされます。",null,null,null,null,null,null,null,null,null,null,null,null,null,null,null,"*"]
[12,null,null,null,null,null,null,null,null,null,null,null,"10個より少ない場合はその列が赤く塗りつぶされます。",null,null,null,null,null,null,null,null,null,null,null,null,null,null,null,"*"]
[13,null,null,null,null,null,null,null,null,null,null,"③","同じNo.が同時に出場することはできません。",null,null,null,null,null,null,null,null,null,null,null,null,null,null,null,"*"]
[14,null,null,null,null,null,null,null,null,null,null,null,"同じ縦列で重複したNo.があるときはそのセルが緑に塗りつぶされます。",null,null,null,null,null,null,null,null,null,null,null,null,null,null,null,"*"]
[15,null,null,null,null,null,null,null,null,null,null,"④","メンバー票反映a～dは空欄を作らないでください。『0』と認識されます。",null,null,null,null,null,null,null,null,null,null,null,null,null,null,null,"*"]
[16,null,null,null,null,null,null,null,null,null,null,null,null,null,null,null,null,null,null,null,null,null,null,null,null,null,null,null,"*"]
[17,null,null,null,null,null,null,null,null,null,null,null,null,null,null,null,null,null,null,null,null,null,null,null,null,null,null,null,"*"]
[18,null,null,null,null,null,null,null,null,null,null,null,null,null,null,null,null,null,null,null,null,null,null,null,null,null,null,null,"*"]
[19,null,null,null,null,null,null,null,null,null,null,null,null,null,null,null,null,null,null,null,null,null,null,null,null,null,null,null,"*"]
[20,null,null,null,null,null,null,null,null,null,null,null,null,null,null,null,null,null,null,null,null,null,null,null,null,null,null,null,"*"]
[21,null,null,null,null,null,null,null,null,null,null,null,null,null,null,null,null,null,null,null,null,null,null,null,null,null,null,null,"*"]
[22,null,null,null,null,null,null,null,null,null,null,null,null,null,null,null,null,null,null,null,null,null,null,null,null,null,null,null,"*"]
[23,null,null,null,null,null,null,null,null,null,null,null,null,null,null,null,null,null,null,null,null,null,null,null,null,null,null,null,"*"]
[24,null,null,null,null,null,null,null,null,null,null,null,null,null,null,null,null,null,null,null,null,null,null,null,null,null,null,null,"*"]
[25,null,null,null,null,null,null,null,null,null,null,null,null,null,null,null,null,null,null,null,null,null,null,null,null,null,null,null,"*"]
[null,null,null,null,null,null,"『*』を\n増やす","『*』を\n増やす","『*』を\n増やす","『*』を\n増やす",null,null,null,null,null,null,null,null,null,null,null,null,null,null,null,null,null,null,"*"]
[null,null,null,null,null,null,{"$f":"COUNTIF(G38:G62,\"*\")","v":0},{"$f":"COUNTIF(H38:H62,\"*\")","v":0},{"$f":"COUNTIF(I38:I62,\"*\")","v":0},{"$f":"COUNTIF(J38:J62,\"*\")","v":0}]

{"sheet":"参加申込","index":1,"n_rows":47,"n_cols":31,"rows_kept":47,"cut":false,"hidden":false,"merged":[[9,23,9,28],[9,13,9,16],[8,21,8,22],[8,4,8,12],[8,0,8,3],[8,17,8,18],[4,0,5,3],[4,4,5,16],[4,17,4,19],[5,17,5,19],[1,14,1,16],[1,17,1,19],[2,14,2,16],[2,17,2,19],[0,7,0,23],[0,0,0,3],[11,13,11,14],[11,15,11,28],[6,0,6,3],[8,23,8,28],[4,20,4,28],[5,20,5,28],[10,13,10,16],[9,17,9,18],[1,20,1,28],[2,20,2,28],[6,4,6,12],[6,13,6,16],[7,0,7,3],[7,4,7,12],[7,13,7,16],[7,17,7,25],[8,13,8,16],[8,19,8,20],[16,0,16,1],[17,0,17,1],[18,0,18,1],[9,19,9,20],[9,21,9,22],[9,0,9,3],[10,0,10,3],[9,4,9,12],[10,4,10,12],[17,2,17,10],[17,11,17,13],[17,14,17,16],[16,11,16,13],[16,14,16,16],[11,0,11,3],[11,4,11,12],[14,0,14,1],[13,0,13,1],[15,0,15,1],[16,26,16,28],[13,26,13,28],[16,20,16,25],[37,0,37,1],[38,0,38,1],[13,14,13,16],[15,2,15,10],[15,11,15,13],[15,14,15,16],[31,0,31,1],[32,0,32,1],[33,0,33,1],[34,0,34,1],[35,0,35,1],[36,0,36,1],[25,0,25,1],[26,0,26,1],[27,0,27,1],[28,0,28,1],[29,0,29,1],[30,0,30,1],[19,0,19,1],[20,0,20,1],[21,0,21,1],[22,0,22,1],[23,0,23,1],[24,0,24,1],[13,17,13,19],[14,17,14,19],[15,17,15,19],[16,17,16,19],[16,2,16,10],[17,26,17,28],[18,2,18,10],[18,11,18,13],[18,14,18,16],[18,26,18,28],[13,11,13,13],[13,2,13,10],[14,2,14,10],[14,11,14,13],[14,14,14,16],[14,26,14,28],[13,20,13,25],[14,20,14,25],[15,20,15,25],[15,26,15,28],[19,2,19,10],[19,11,19,13],[19,14,19,16],[19,26,19,28],[17,20,17,25],[18,20,18,25],[19,20,19,25],[17,17,17,19],[18,17,18,19],[19,17,19,19],[20,2,20,10],[20,11,20,13],[20,14,20,16],[20,26,20,28],[21,2,21,10],[21,11,21,13],[21,14,21,16],[21,26,21,28],[20,20,20,25],[21,20,21,25],[20,17,20,19],[21,17,21,19],[22,2,22,10],[22,11,22,13],[22,14,22,16],[22,26,22,28],[23,2,23,10],[23,11,23,13],[23,14,23,16],[23,26,23,28],[22,20,22,25],[23,20,23,25],[22,17,22,19],[23,17,23,19],[24,2,24,10],[24,11,24,13],[24,14,24,16],[24,26,24,28],[25,2,25,10],[25,11,25,13],[25,14,25,16],[25,26,25,28],[24,20,24,25],[25,20,25,25],[24,17,24,19],[25,17,25,19],[28,26,28,28],[29,2,29,10],[29,11,29,13],[29,14,29,16],[29,26,29,28],[28,20,28,25],[29,20,29,25],[26,2,26,10],[26,11,26,13],[26,14,26,16],[26,26,26,28],[27,2,27,10],[27,11,27,13],[27,14,27,16],[27,26,27,28],[26,20,26,25],[27,20,27,25],[26,17,26,19],[27,17,27,19],[30,20,30,25],[31,20,31,25],[32,20,32,25],[33,20,33,25],[32,17,32,19],[33,17,33,19],[28,2,28,10],[28,11,28,13],[28,14,28,16],[30,2,30,10],[30,11,30,13],[30,14,30,16],[31,11,31,13],[31,14,31,16],[28,17,28,19],[29,17,29,19],[30,17,30,19],[35,2,35,10],[34,2,34,10],[34,11,34,13],[34,14,34,16],[34,26,34,28],[35,11,35,13],[35,14,35,16],[35,26,35,28],[32,2,32,10],[32,11,32,13],[32,14,32,16],[32,26,32,28],[33,2,33,10],[33,11,33,13],[33,14,33,16],[33,26,33,28],[34,17,34,19],[35,17,35,19],[30,26,30,28],[46,13,46,14],[45,16,45,24],[46,16,46,24],[40,0,41,28],[43,0,43,13],[42,17,42,19],[46,26,46,27],[45,3,45,11],[46,3,46,11],[31,17,31,19],[37,2,37,10],[37,11,37,13],[37,14,37,16],[37,26,37,28],[38,2,38,10],[38,11,38,13],[38,14,38,16],[38,26,38,28],[36,2,36,10],[36,11,36,13],[36,14,36,16],[36,26,36,28],[31,2,31,10],[36,17,36,19],[37,17,37,19],[38,17,38,19],[34,20,34,25],[35,20,35,25],[36,20,36,25],[37,20,37,25],[38,20,38,25],[31,26,31,28]]}
[{"$f":"IF(入力欄!B4>3,入力欄!B3,入力欄!B3-1)","v":2020},null,null,null,"年度",null,null,{"$f":"入力欄!A1","v":"全国U15バスケットボール選手権大会香川県予選会"},null,null,null,null,null,null,null,null,null,null,null,null,null,null,null,null,"参加申込"]
[null,null,null,null,null,null,null,null,null,null,null,null,null,null,"地区",null,null,"性別",null,null,"チームＩＤ"]
[null,null,null,null,null,null,null,null,null,null,null,null,null,null,{"$f":"入力欄!B18","v":0},null,null,{"$f":"入力欄!B19","v":0},null,null,{"$f":"IF(入力欄!E7=\"\",入力欄!B11,入力欄!B11&\"，\"&入力欄!E11)","v":0}]
[]
["チーム名",null,null,null,{"$f":"IF(入力欄!E7=\"\",入力欄!B7,入力欄!B7&\"，\"&入力欄!E7)","v":0},null,null,null,null,null,null,null,null,null,null,null,null,"住所",null,null,{"$f":"IF(入力欄!E7=\"\",入力欄!B9,入力欄!B9&\"，\"&入力欄!E9)","v":0}]
[null,null,null,null,null,null,null,null,null,null,null,null,null,null,null,null,null,"電話",null,null,{"$f":"IF(入力欄!E7=\"\",入力欄!B10,入力欄!B10&\"，\"&入力欄!E10)","v":0},null,null,null,null,null,null,null,null,null,"『0』が表示されているところは、入力欄に戻って必ず入力してください。"]
["引率責任者",null,null,null,{"$f":"IF(入力欄!E7=\"\",入力欄!B13,入力欄!B13&\"（\"&入力欄!C13&\"）\")","v":0},null,null,null,null,null,null,null,null,{"$f":"入力欄!B14","v":0}]
["連絡責任者",null,null,null,{"$f":"IF(入力欄!E7=\"\",入力欄!B15,入力欄!B15&\"（\"&入力欄!C15&\"）\")","v":0},null,null,null,null,null,null,null,null,"緊急連絡先",null,null,null,{"$f":"入力欄!B16","v":0}]
["コーチ",null,null,null,{"$f":"IF(入力欄!E7=\"\",入力欄!B21,入力欄!B21&\"（\"&入力欄!C22&\"）\")","v":0},null,null,null,null,null,null,null,null,{"$f":"入力欄!B22","v":0},null,null,null,"資格",null,{"$f":"入力欄!B23","v":0},null,"ＩＤ",null,{"$f":"IF(入力欄!B24=\"\",\"\",入力欄!B24)","v":""}]
["Ａコーチ",null,null,null,{"$f":"IF(入力欄!B26=\"\",\"\",IF(入力欄!E7=\"\",入力欄!B26,入力欄!B26&\"（\"&入力欄!C27&\"）\"))","v":""},null,null,null,null,null,null,null,null,{"$f":"IF(入力欄!B26=\"\",\"\",入力欄!B27)","v":""},null,null,null,"資格",null,{"$f":"IF(入力欄!B26=\"\",\"\",入力欄!B28)","v":""},null,"ＩＤ",null,{"$f":"IF(入力欄!B29=\"\",\"\",入力欄!B29)","v":""}]
["マネージャー",null,null,null,{"$f":"IF(入力欄!E7=\"\",入力欄!B31,入力欄!B31&\"（\"&入力欄!C32&\"）\")","v":0},null,null,null,null,null,null,null,null,{"$f":"IF(入力欄!B31=\"\",\"\",入力欄!B32)","v":""}]
["トレーナー",null,null,null,{"$f":"IF(入力欄!B34=\"\",\"\",入力欄!B34)","v":""},null,null,null,null,null,null,null,null,"資格",null,{"$f":"IF(入力欄!B34=\"\",\"\",入力欄!B35)","v":""}]
[]
[null,null,"選　手　氏　名",null,null,null,null,null,null,null,null,"学年",null,null,"身長",null,null,"ﾕﾆﾌｫｰﾑ",null,null,"ＩＤ",null,null,null,null,null,"備考"]
[1,null,{"$f":"入力欄!B38","v":0},null,null,null,null,null,null,null,null,{"$f":"入力欄!C38","v":0},null,null,{"$f":"入力欄!D38","v":0},null,null,{"$f":"IF(入力欄!E38=\"\",\"\",IF(入力欄!E38=100,\"00\",入力欄!E38))","v":""},null,null,{"$f":"IF(入力欄!F38=700000000,\"申請中\",入力欄!F38)","v":0},null,null,null,null,null,{"$f":"IF(入力欄!$E$7=\"\",\"\",入力欄!K38)","v":""},null,null,null,"ﾕﾆﾌｫｰﾑNo.に『00』を使用する場合は"]
[2,null,{"$f":"入力欄!B39","v":0},null,null,null,null,null,null,null,null,{"$f":"入力欄!C39","v":0},null,null,{"$f":"入力欄!D39","v":0},null,null,{"$f":"IF(入力欄!E39=\"\",\"\",IF(入力欄!E39=100,\"00\",入力欄!E39))","v":""},null,null,{"$f":"IF(入力欄!F39=700000000,\"申請中\",入力欄!F39)","v":0},null,null,null,null,null,{"$f":"IF(入力欄!$E$7=\"\",\"\",入力欄!K39)","v":""},null,null,null,"入力欄のﾕﾆﾌｫｰﾑNo.を『100』と入力してください。"]
[3,null,{"$f":"入力欄!B40","v":0},null,null,null,null,null,null,null,null,{"$f":"入力欄!C40","v":0},null,null,{"$f":"入力欄!D40","v":0},null,null,{"$f":"IF(入力欄!E40=\"\",\"\",IF(入力欄!E40=100,\"00\",入力欄!E40))","v":""},null,null,{"$f":"IF(入力欄!F40=700000000,\"申請中\",入力欄!F40)","v":0},null,null,null,null,null,{"$f":"IF(入力欄!$E$7=\"\",\"\",入力欄!K40)","v":""},null,null,null,"なお、『0』と『00』は同時に使用できません。"]
[4,null,{"$f":"入力欄!B41","v":0},null,null,null,null,null,null,null,null,{"$f":"入力欄!C41","v":0},null,null,{"$f":"入力欄!D41","v":0},null,null,{"$f":"IF(入力欄!E41=\"\",\"\",IF(入力欄!E41=100,\"00\",入力欄!E41))","v":""},null,null,{"$f":"IF(入力欄!F41=700000000,\"申請中\",入力欄!F41)","v":0},null,null,null,null,null,{"$f":"IF(入力欄!$E$7=\"\",\"\",入力欄!K41)","v":""}]
[5,null,{"$f":"入力欄!B42","v":0},null,null,null,null,null,null,null,null,{"$f":"入力欄!C42","v":0},null,null,{"$f":"入力欄!D42","v":0},null,null,{"$f":"IF(入力欄!E42=\"\",\"\",IF(入力欄!E42=100,\"00\",入力欄!E42))","v":""},null,null,{"$f":"IF(入力欄!F42=700000000,\"申請中\",入力欄!F42)","v":0},null,null,null,null,null,{"$f":"IF(入力欄!$E$7=\"\",\"\",入力欄!K42)","v":""}]
[6,null,{"$f":"IF(入力欄!B43=\"\",\"*\",入力欄!B43)","v":"*"},null,null,null,null,null,null,null,null,{"$f":"IF(入力欄!C43=\"\",\"\",入力欄!C43)","v":""},null,null,{"$f":"IF(入力欄!D43=\"\",\"\",入力欄!D43)","v":""},null,null,{"$f":"IF(入力欄!E43=\"\",\"\",IF(入力欄!E43=100,\"00\",入力欄!E43))","v":""},null,null,{"$f":"IF(入力欄!F43=\"\",\"\",IF(入力欄!F43=700000000,\"申請中\",入力欄!F43))","v":""},null,null,null,null,null,{"$f":"IF(入力欄!$E$7=\"\",\"\",IF(入力欄!B43=\"\",\"\",入力欄!K43))","v":""}]
[7,null,{"$f":"IF(入力欄!B44=\"\",\"*\",入力欄!B44)","v":"*"},null,null,null,null,null,null,null,null,{"$f":"IF(入力欄!C44=\"\",\"\",入力欄!C44)","v":""},null,null,{"$f":"IF(入力欄!D44=\"\",\"\",入力欄!D44)","v":""},null,null,{"$f":"IF(入力欄!E44=\"\",\"\",IF(入力欄!E44=100,\"00\",入力欄!E44))","v":""},null,null,{"$f":"IF(入力欄!F44=\"\",\"\",入力欄!F44)","v":""},null,null,null,null,null,{"$f":"IF(入力欄!$E$7=\"\",\"\",IF(入力欄!B44=\"\",\"\",入力欄!K44))","v":""}]
[8,null,{"$f":"IF(入力欄!B45=\"\",\"*\",入力欄!B45)","v":"*"},null,null,null,null,null,null,null,null,{"$f":"IF(入力欄!C45=\"\",\"\",入力欄!C45)","v":""},null,null,{"$f":"IF(入力欄!D45=\"\",\"\",入力欄!D45)","v":""},null,null,{"$f":"IF(入力欄!E45=\"\",\"\",IF(入力欄!E45=100,\"00\",入力欄!E45))","v":""},null,null,{"$f":"IF(入力欄!F45=\"\",\"\",入力欄!F45)","v":""},null,null,null,null,null,{"$f":"IF(入力欄!$E$7=\"\",\"\",IF(入力欄!B45=\"\",\"\",入力欄!K45))","v":""}]
[9,null,{"$f":"IF(入力欄!B46=\"\",\"*\",入力欄!B46)","v":"*"},null,null,null,null,null,null,null,null,{"$f":"IF(入力欄!C46=\"\",\"\",入力欄!C46)","v":""},null,null,{"$f":"IF(入力欄!D46=\"\",\"\",入力欄!D46)","v":""},null,null,{"$f":"IF(入力欄!E46=\"\",\"\",IF(入力欄!E46=100,\"00\",入力欄!E46))","v":""},null,null,{"$f":"IF(入力欄!F46=\"\",\"\",入力欄!F46)","v":""},null,null,null,null,null,{"$f":"IF(入力欄!$E$7=\"\",\"\",IF(入力欄!B46=\"\",\"\",入力欄!K46))","v":""}]
[10,null,{"$f":"IF(入力欄!B47=\"\",\"*\",入力欄!B47)","v":"*"},null,null,null,null,null,null,null,null,{"$f":"IF(入力欄!C47=\"\",\"\",入力欄!C47)","v":""},null,null,{"$f":"IF(入力欄!D47=\"\",\"\",入力欄!D47)","v":""},null,null,{"$f":"IF(入力欄!E47=\"\",\"\",IF(入力欄!E47=100,\"00\",入力欄!E47))","v":""},null,null,{"$f":"IF(入力欄!F47=\"\",\"\",入力欄!F47)","v":""},null,null,null,null,null,{"$f":"IF(入力欄!$E$7=\"\",\"\",IF(入力欄!B47=\"\",\"\",入力欄!K47))","v":""}]
[11,null,{"$f":"IF(入力欄!B48=\"\",\"*\",入力欄!B48)","v":"*"},null,null,null,null,null,null,null,null,{"$f":"IF(入力欄!C48=\"\",\"\",入力欄!C48)","v":""},null,null,{"$f":"IF(入力欄!D48=\"\",\"\",入力欄!D48)","v":""},null,null,{"$f":"IF(入力欄!E48=\"\",\"\",IF(入力欄!E48=100,\"00\",入力欄!E48))","v":""},null,null,{"$f":"IF(入力欄!F48=\"\",\"\",入力欄!F48)","v":""},null,null,null,null,null,{"$f":"IF(入力欄!$E$7=\"\",\"\",IF(入力欄!B48=\"\",\"\",入力欄!K48))","v":""}]
[12,null,{"$f":"IF(入力欄!B49=\"\",\"*\",入力欄!B49)","v":"*"},null,null,null,null,null,null,null,null,{"$f":"IF(入力欄!C49=\"\",\"\",入力欄!C49)","v":""},null,null,{"$f":"IF(入力欄!D49=\"\",\"\",入力欄!D49)","v":""},null,null,{"$f":"IF(入力欄!E49=\"\",\"\",IF(入力欄!E49=100,\"00\",入力欄!E49))","v":""},null,null,{"$f":"IF(入力欄!F49=\"\",\"\",入力欄!F49)","v":""},null,null,null,null,null,{"$f":"IF(入力欄!$E$7=\"\",\"\",IF(入力欄!B49=\"\",\"\",入力欄!K49))","v":""}]
[13,null,{"$f":"IF(入力欄!B50=\"\",\"*\",入力欄!B50)","v":"*"},null,null,null,null,null,null,null,null,{"$f":"IF(入力欄!C50=\"\",\"\",入力欄!C50)","v":""},null,null,{"$f":"IF(入力欄!D50=\"\",\"\",入力欄!D50)","v":""},null,null,{"$f":"IF(入力欄!E50=\"\",\"\",IF(入力欄!E50=100,\"00\",入力欄!E50))","v":""},null,null,{"$f":"IF(入力欄!F50=\"\",\"\",入力欄!F50)","v":""},null,null,null,null,null,{"$f":"IF(入力欄!$E$7=\"\",\"\",IF(入力欄!B50=\"\",\"\",入力欄!K50))","v":""}]
[14,null,{"$f":"IF(入力欄!B51=\"\",\"*\",入力欄!B51)","v":"*"},null,null,null,null,null,null,null,null,{"$f":"IF(入力欄!C51=\"\",\"\",入力欄!C51)","v":""},null,null,{"$f":"IF(入力欄!D51=\"\",\"\",入力欄!D51)","v":""},null,null,{"$f":"IF(入力欄!E51=\"\",\"\",IF(入力欄!E51=100,\"00\",入力欄!E51))","v":""},null,null,{"$f":"IF(入力欄!F51=\"\",\"\",入力欄!F51)","v":""},null,null,null,null,null,{"$f":"IF(入力欄!$E$7=\"\",\"\",IF(入力欄!B51=\"\",\"\",入力欄!K51))","v":""}]
[15,null,{"$f":"IF(入力欄!B52=\"\",\"*\",入力欄!B52)","v":"*"},null,null,null,null,null,null,null,null,{"$f":"IF(入力欄!C52=\"\",\"\",入力欄!C52)","v":""},null,null,{"$f":"IF(入力欄!D52=\"\",\"\",入力欄!D52)","v":""},null,null,{"$f":"IF(入力欄!E52=\"\",\"\",IF(入力欄!E52=100,\"00\",入力欄!E52))","v":""},null,null,{"$f":"IF(入力欄!F52=\"\",\"\",入力欄!F52)","v":""},null,null,null,null,null,{"$f":"IF(入力欄!$E$7=\"\",\"\",IF(入力欄!B52=\"\",\"\",入力欄!K52))","v":""}]
[16,null,{"$f":"IF(入力欄!B53=\"\",\"*\",入力欄!B53)","v":"*"},null,null,null,null,null,null,null,null,{"$f":"IF(入力欄!C53=\"\",\"\",入力欄!C53)","v":""},null,null,{"$f":"IF(入力欄!D53=\"\",\"\",入力欄!D53)","v":""},null,null,{"$f":"IF(入力欄!E53=\"\",\"\",IF(入力欄!E53=100,\"00\",入力欄!E53))","v":""},null,null,{"$f":"IF(入力欄!F53=\"\",\"\",入力欄!F53)","v":""},null,null,null,null,null,{"$f":"IF(入力欄!$E$7=\"\",\"\",IF(入力欄!B53=\"\",\"\",入力欄!K53))","v":""}]
[17,null,{"$f":"IF(入力欄!B54=\"\",\"*\",入力欄!B54)","v":"*"},null,null,null,null,null,null,null,null,{"$f":"IF(入力欄!C54=\"\",\"\",入力欄!C54)","v":""},null,null,{"$f":"IF(入力欄!D54=\"\",\"\",入力欄!D54)","v":""},null,null,{"$f":"IF(入力欄!E54=\"\",\"\",IF(入力欄!E54=100,\"00\",入力欄!E54))","v":""},null,null,{"$f":"IF(入力欄!F54=\"\",\"\",入力欄!F54)","v":""},null,null,null,null,null,{"$f":"IF(入力欄!$E$7=\"\",\"\",IF(入力欄!B54=\"\",\"\",入力欄!K54))","v":""}]
[18,null,{"$f":"IF(入力欄!B55=\"\",\"*\",入力欄!B55)","v":"*"},null,null,null,null,null,null,null,null,{"$f":"IF(入力欄!C55=\"\",\"\",入力欄!C55)","v":""},null,null,{"$f":"IF(入力欄!D55=\"\",\"\",入力欄!D55)","v":""},null,null,{"$f":"IF(入力欄!E55=\"\",\"\",IF(入力欄!E55=100,\"00\",入力欄!E55))","v":""},null,null,{"$f":"IF(入力欄!F55=\"\",\"\",入力欄!F55)","v":""},null,null,null,null,null,{"$f":"IF(入力欄!$E$7=\"\",\"\",IF(入力欄!B55=\"\",\"\",入力欄!K55))","v":""}]
[19,null,{"$f":"IF(入力欄!B56=\"\",\"*\",入力欄!B56)","v":"*"},null,null,null,null,null,null,null,null,{"$f":"IF(入力欄!C56=\"\",\"\",入力欄!C56)","v":""},null,null,{"$f":"IF(入力欄!D56=\"\",\"\",入力欄!D56)","v":""},null,null,{"$f":"IF(入力欄!E56=\"\",\"\",IF(入力欄!E56=100,\"00\",入力欄!E56))","v":""},null,null,{"$f":"IF(入力欄!F56=\"\",\"\",入力欄!F56)","v":""},null,null,null,null,null,{"$f":"IF(入力欄!$E$7=\"\",\"\",IF(入力欄!B56=\"\",\"\",入力欄!K56))","v":""}]
[20,null,{"$f":"IF(入力欄!B57=\"\",\"*\",入力欄!B57)","v":"*"},null,null,null,null,null,null,null,null,{"$f":"IF(入力欄!C57=\"\",\"\",入力欄!C57)","v":""},null,null,{"$f":"IF(入力欄!D57=\"\",\"\",入力欄!D57)","v":""},null,null,{"$f":"IF(入力欄!E57=\"\",\"\",IF(入力欄!E57=100,\"00\",入力欄!E57))","v":""},null,null,{"$f":"IF(入力欄!F57=\"\",\"\",入力欄!F57)","v":""},null,null,null,null,null,{"$f":"IF(入力欄!$E$7=\"\",\"\",IF(入力欄!B57=\"\",\"\",入力欄!K57))","v":""}]
[21,null,{"$f":"IF(入力欄!B58=\"\",\"*\",入力欄!B58)","v":"*"},null,null,null,null,null,null,null,null,{"$f":"IF(入力欄!C58=\"\",\"\",入力欄!C58)","v":""},null,null,{"$f":"IF(入力欄!D58=\"\",\"\",入力欄!D58)","v":""},null,null,{"$f":"IF(入力欄!E58=\"\",\"\",IF(入力欄!E58=100,\"00\",入力欄!E58))","v":""},null,null,{"$f":"IF(入力欄!F58=\"\",\"\",入力欄!F58)","v":""},null,null,null,null,null,{"$f":"IF(入力欄!$E$7=\"\",\"\",IF(入力欄!B58=\"\",\"\",入力欄!K58))","v":""}]
[22,null,{"$f":"IF(入力欄!B59=\"\",\"*\",入力欄!B59)","v":"*"},null,null,null,null,null,null,null,null,{"$f":"IF(入力欄!C59=\"\",\"\",入力欄!C59)","v":""},null,null,{"$f":"IF(入力欄!D59=\"\",\"\",入力欄!D59)","v":""},null,null,{"$f":"IF(入力欄!E59=\"\",\"\",IF(入力欄!E59=100,\"00\",入力欄!E59))","v":""},null,null,{"$f":"IF(入力欄!F59=\"\",\"\",入力欄!F59)","v":""},null,null,null,null,null,{"$f":"IF(入力欄!$E$7=\"\",\"\",IF(入力欄!B59=\"\",\"\",入力欄!K59))","v":""}]
[23,null,{"$f":"IF(入力欄!B60=\"\",\"*\",入力欄!B60)","v":"*"},null,null,null,null,null,null,null,null,{"$f":"IF(入力欄!C60=\"\",\"\",入力欄!C60)","v":""},null,null,{"$f":"IF(入力欄!D60=\"\",\"\",入力欄!D60)","v":""},null,null,{"$f":"IF(入力欄!E60=\"\",\"\",IF(入力欄!E60=100,\"00\",入力欄!E60))","v":""},null,null,{"$f":"IF(入力欄!F60=\"\",\"\",入力欄!F60)","v":""},null,null,null,null,null,{"$f":"IF(入力欄!$E$7=\"\",\"\",IF(入力欄!B60=\"\",\"\",入力欄!K60))","v":""}]
[24,null,{"$f":"IF(入力欄!B61=\"\",\"*\",入力欄!B61)","v":"*"},null,null,null,null,null,null,null,null,{"$f":"IF(入力欄!C61=\"\",\"\",入力欄!C61)","v":""},null,null,{"$f":"IF(入力欄!D61=\"\",\"\",入力欄!D61)","v":""},null,null,{"$f":"IF(入力欄!E61=\"\",\"\",IF(入力欄!E61=100,\"00\",入力欄!E61))","v":""},null,null,{"$f":"IF(入力欄!F61=\"\",\"\",入力欄!F61)","v":""},null,null,null,null,null,{"$f":"IF(入力欄!$E$7=\"\",\"\",IF(入力欄!B61=\"\",\"\",入力欄!K61))","v":""}]
[25,null,{"$f":"IF(入力欄!B62=\"\",\"*\",入力欄!B62)","v":"*"},null,null,null,null,null,null,null,null,{"$f":"IF(入力欄!C62=\"\",\"\",入力欄!C62)","v":""},null,null,{"$f":"IF(入力欄!D62=\"\",\"\",入力欄!D62)","v":""},null,null,{"$f":"IF(入力欄!E62=\"\",\"\",IF(入力欄!E62=100,\"00\",入力欄!E62))","v":""},null,null,{"$f":"IF(入力欄!F62=\"\",\"\",入力欄!F62)","v":""},null,null,null,null,null,{"$f":"IF(入力欄!$E$7=\"\",\"\",IF(入力欄!B62=\"\",\"\",入力欄!K62))","v":""}]
[]
[{"$f":"IF(入力欄!E17=\"選択必須\",AE41,IF(入力欄!E17=\"○\",AE44,AE42))","v":"入力項目に不備があります。\n　入力欄の個人情報の確認欄(セルE17)の　○ か × を選んでください。"},null,null,null,null,null,null,null,null,null,null,null,null,null,null,null,null,null,null,null,null,null,null,null,null,null,null,null,null,null,"入力項目に不備があります。\n　入力欄の個人情報の確認欄(セルE17)の　○ か × を選んでください。"]
[null,null,null,null,null,null,null,null,null,null,null,null,null,null,null,null,null,null,null,null,null,null,null,null,null,null,null,null,null,null,{"$f":"\"　上記の選手は本校在学生徒(本チーム在籍)で標記大会に参加することを承認します。\n　また，上記の者の個人情報の取り扱いについては，\"&入力欄!C1&\"が認めた範囲への公開・提供について承諾します。\"","v":"　上記の選手は本校在学生徒(本チーム在籍)で標記大会に参加することを承認します。\n　また，上記の者の個人情報の取り扱いについては，（一社）香川県バスケットボール協会が認めた範囲への公開・提供について承諾します。"}]
[null,null,null,null,null,null,null,null,null,null,null,null,null,null,null,null,null,{"$f":"入力欄!B3","v":2020},null,null,"年",{"$f":"入力欄!B4","v":8},"月",{"$f":"入力欄!B5","v":31},"日"]
[{"$f":"入力欄!C1&\"長 殿\"","v":"（一社）香川県バスケットボール協会長 殿"},null,null,null,null,null,null,null,null,null,null,null,null,null,null,null,null,null,null,null,null,null,null,null,null,null,null,null,null,null,{"$f":"\"　上記の選手は本校在学生徒(本チーム在籍)で標記大会に参加することを承認します。\n　また，別紙で提出した者以外の個人情報の取り扱いについては，\"&入力欄!C1&\"が認めた範囲への公開・提供について承諾します。\"","v":"　上記の選手は本校在学生徒(本チーム在籍)で標記大会に参加することを承認します。\n　また，別紙で提出した者以外の個人情報の取り扱いについては，（一社）香川県バスケットボール協会が認めた範囲への公開・提供について承諾します。"}]
[]
[null,null,null,{"$f":"IF(入力欄!E7=\"\",\"\",入力欄!E7)","v":""},null,null,null,null,null,null,null,null,null,null,null,null,{"$f":"入力欄!B7","v":0}]
[null,null,null,{"$f":"IF(入力欄!E7=\"\",\"\",入力欄!E12)","v":""},null,null,null,null,null,null,null,null,null,{"$f":"IF(入力欄!E7=\"\",\"\",\"印\")","v":""},null,null,{"$f":"入力欄!B12","v":0},null,null,null,null,null,null,null,null,null,"印"]

{"sheet":"メンバー票a","index":2,"n_rows":37,"n_cols":45,"rows_kept":37,"cut":false,"hidden":false,"merged":[[3,43,5,45],[0,1,0,7],[0,8,0,14],[1,3,1,4],[1,5,1,6],[1,10,1,11],[1,12,1,13],[25,9,25,11],[2,2,2,4],[2,5,2,6],[2,9,2,11],[2,12,2,13],[5,2,5,4],[5,5,5,6],[5,9,5,11],[5,12,5,13],[7,2,7,4],[7,5,7,6],[7,9,7,11],[7,12,7,13],[9,2,9,4],[9,5,9,6],[9,9,9,11],[9,12,9,13],[11,2,11,4],[2,16,2,18],[2,19,2,20],[2,23,2,25],[2,26,2,27],[2,30,2,32],[2,33,2,34],[1,17,1,18],[1,19,1,20],[1,24,1,25],[1,26,1,27],[1,31,1,32],[1,33,1,34],[3,23,3,25],[3,26,3,27],[3,30,3,32],[3,33,3,34],[4,2,4,4],[4,5,4,6],[4,9,4,11],[4,12,4,13],[4,16,4,18],[4,19,4,20],[3,2,3,4],[3,5,3,6],[3,9,3,11],[3,12,3,13],[3,16,3,18],[3,19,3,20],[4,23,4,25],[4,26,4,27],[4,30,4,32],[4,33,4,34],[5,16,5,18],[5,19,5,20],[5,23,5,25],[5,26,5,27],[5,30,5,32],[5,33,5,34],[6,2,6,4],[6,5,6,6],[6,9,6,11],[6,12,6,13],[6,16,6,18],[6,19,6,20],[6,23,6,25],[6,26,6,27],[6,30,6,32],[6,33,6,34],[7,16,7,18],[7,19,7,20],[7,23,7,25],[7,26,7,27],[7,30,7,32],[7,33,7,34],[8,2,8,4],[8,5,8,6],[8,9,8,11],[8,12,8,13],[8,16,8,18],[8,19,8,20],[8,23,8,25],[8,26,8,27],[8,30,8,32],[8,33,8,34],[9,16,9,18],[9,19,9,20],[9,23,9,25],[9,26,9,27],[9,30,9,32],[9,33,9,34],[10,2,10,4],[10,5,10,6],[10,9,10,11],[10,12,10,13],[10,16,10,18],[10,19,10,20],[10,23,10,25],[10,26,10,27],[10,30,10,32],[10,33,10,34],[11,5,11,6],[11,9,11,11],[11,12,11,13],[11,16,11,18],[11,19,11,20],[11,23,11,25],[11,26,11,27],[11,30,11,32],[11,33,11,34],[12,33,12,34],[13,2,13,4],[13,5,13,6],[13,9,13,11],[13,12,13,13],[13,16,13,18],[13,19,13,20],[13,23,13,25],[13,26,13,27],[13,30,13,32],[13,33,13,34],[12,2,12,4],[12,5,12,6],[12,9,12,11],[12,12,12,13],[12,16,12,18],[12,19,12,20],[12,23,12,25],[12,26,12,27],[12,30,12,32],[14,33,14,34],[15,2,15,4],[15,5,15,6],[15,9,15,11],[15,12,15,13],[15,16,15,18],[15,19,15,20],[15,23,15,25],[15,26,15,27],[15,30,15,32],[15,33,15,34],[14,2,14,4],[14,5,14,6],[14,9,14,11],[14,12,14,13],[14,16,14,18],[14,19,14,20],[14,23,14,25],[14,26,14,27],[14,30,14,32],[16,33,16,34],[17,1,17,2],[17,3,17,5],[17,8,17,9],[17,10,17,12],[17,15,17,16],[17,17,17,19],[17,22,17,23],[17,24,17,26],[17,29,17,30],[17,31,17,33],[16,2,16,4],[16,5,16,6],[16,9,16,11],[16,12,16,13],[16,16,16,18],[16,19,16,20],[16,23,16,25],[16,26,16,27],[16,30,16,32],[18,1,18,2],[18,3,18,5],[18,8,18,9],[18,10,18,12],[18,15,18,16],[18,17,18,19],[18,22,18,23],[18,24,18,26],[18,29,18,30],[18,31,18,33],[19,3,19,4],[19,5,19,6],[19,10,19,11],[19,12,19,13],[19,17,19,18],[19,19,19,20],[19,24,19,25],[19,26,19,27],[19,31,19,32],[19,33,19,34],[20,33,20,34],[21,2,21,4],[21,5,21,6],[21,9,21,11],[21,12,21,13],[21,16,21,18],[21,19,21,20],[21,23,21,25],[21,26,21,27],[21,30,21,32],[21,33,21,34],[20,2,20,4],[20,5,20,6],[20,9,20,11],[20,12,20,13],[20,16,20,18],[20,19,20,20],[20,23,20,25],[20,26,20,27],[20,30,20,32],[22,33,22,34],[23,2,23,4],[23,5,23,6],[23,9,23,11],[23,12,23,13],[23,16,23,18],[23,19,23,20],[23,23,23,25],[23,26,23,27],[23,30,23,32],[23,33,23,34],[22,2,22,4],[22,5,22,6],[22,9,22,11],[22,12,22,13],[22,16,22,18],[22,19,22,20],[22,23,22,25],[22,26,22,27],[22,30,22,32],[24,33,24,34],[25,2,25,4],[25,5,25,6],[25,12,25,13],[25,16,25,18],[25,19,25,20],[25,23,25,25],[25,26,25,27],[25,30,25,32],[25,33,25,34],[24,2,24,4],[24,5,24,6],[24,9,24,11],[24,12,24,13],[24,16,24,18],[24,19,24,20],[24,23,24,25],[24,26,24,27],[24,30,24,32],[26,33,26,34],[27,2,27,4],[27,5,27,6],[27,9,27,11],[27,12,27,13],[27,16,27,18],[27,19,27,20],[27,23,27,25],[27,26,27,27],[27,30,27,32],[27,33,27,34],[26,2,26,4],[26,5,26,6],[26,9,26,11],[26,12,26,13],[26,16,26,18],[26,19,26,20],[26,23,26,25],[26,26,26,27],[26,30,26,32],[28,33,28,34],[29,2,29,4],[29,5,29,6],[29,9,29,11],[29,12,29,13],[29,16,29,18],[29,19,29,20],[29,23,29,25],[29,26,29,27],[29,30,29,32],[29,33,29,34],[28,2,28,4],[28,5,28,6],[28,9,28,11],[28,12,28,13],[28,16,28,18],[28,19,28,20],[28,23,28,25],[28,26,28,27],[28,30,28,32],[29,38,34,42],[30,2,30,4],[30,5,30,6],[30,9,30,11],[30,12,30,13],[30,16,30,18],[30,19,30,20],[30,23,30,25],[30,26,30,27],[30,30,30,32],[30,33,30,34],[31,2,31,4],[31,5,31,6],[31,9,31,11],[31,12,31,13],[31,16,31,18],[31,19,31,20],[31,23,31,25],[31,26,31,27],[31,30,31,32],[31,33,31,34],[32,2,32,4],[32,5,32,6],[32,9,32,11],[32,12,32,13],[32,16,32,18],[32,19,32,20],[32,23,32,25],[32,26,32,27],[32,30,32,32],[32,33,32,34],[33,2,33,4],[33,5,33,6],[33,9,33,11],[33,12,33,13],[33,16,33,18],[33,19,33,20],[33,23,33,25],[33,26,33,27],[33,30,33,32],[33,33,33,34],[34,33,34,34],[35,1,35,2],[35,3,35,5],[35,8,35,9],[35,10,35,12],[35,15,35,16],[35,17,35,19],[35,22,35,23],[35,24,35,26],[35,29,35,30],[35,31,35,33],[34,2,34,4],[34,5,34,6],[34,9,34,11],[34,12,34,13],[34,16,34,18],[34,19,34,20],[34,23,34,25],[34,26,34,27],[34,30,34,32],[36,31,36,33],[37,1,37,7],[37,8,37,14],[37,15,37,20],[37,22,37,27],[37,29,37,34],[36,1,36,2],[36,3,36,5],[36,8,36,9],[36,10,36,12],[36,15,36,16],[36,17,36,19],[36,22,36,23],[36,24,36,26],[36,29,36,30]]}
["a"]
[null,null,null,{"$f":"入力欄!B8&入力欄!E8","v":""},null,{"$f":"入力欄!B19","v":0},null,"No.",null,null,{"$f":"$D$2","v":""},null,{"$f":"$F$2","v":0},null,"No.",null,null,{"$f":"$D$2","v":""},null,{"$f":"$F$2","v":0},null,"No.",null,null,{"$f":"$D$2","v":""},null,{"$f":"$F$2","v":0},null,"No.",null,null,{"$f":"$D$2","v":""},null,{"$f":"$F$2","v":0},null,"No."]
[null,1,{"$f":"AN3","v":0},null,null,null,null,{"$f":"IF(AM3=\"*\",\"\",IF(AM3=100,\"00\",AM3))","v":0},1,{"$f":"$C$3","v":0},null,null,null,null,{"$f":"$H3","v":0},1,{"$f":"$C$3","v":0},null,null,null,null,{"$f":"$H3","v":0},1,{"$f":"$C$3","v":0},null,null,null,null,{"$f":"$H3","v":0},1,{"$f":"$C$3","v":0},null,null,null,null,{"$f":"$H3","v":0},null,null,null,null,null,{"$f":"入力欄!B38","v":0},{"$f":"入力欄!G38","v":0},null,{"$f":"IF($AM3=\"\",\"\",IF(ISNA(MATCH($AM3,AV$3:AV$28,0)),\"\",INDEX(AU$3:AU$28,MATCH(AR3,AV$3:AV$28,0))))","v":""}]
[null,2,{"$f":"AN4","v":0},null,null,null,null,0,2,{"$f":"$C$4","v":0},null,null,null,null,{"$f":"$H4","v":0},2,{"$f":"$C$4","v":0},null,null,null,null,{"$f":"$H4","v":0},2,{"$f":"$C$4","v":0},null,null,null,null,{"$f":"$H4","v":0},2,{"$f":"$C$4","v":0},null,null,null,null,{"$f":"$H4","v":0},null,null,null,null,null,{"$f":"入力欄!B39","v":0},{"$f":"入力欄!G39","v":0},"ユニフォームNo.は\n『0』と『00』は同時に\n使用できません。"]
[null,3,0,null,null,null,null,0,3,{"$f":"$C$5","v":0},null,null,null,null,0,3,{"$f":"$C$5","v":0},null,null,null,null,0,3,{"$f":"$C$5","v":0},null,null,null,null,0,3,{"$f":"$C$5","v":0},null,null,null,null,0,null,null,null,null,null,{"$f":"入力欄!B40","v":0},{"$f":"入力欄!G40","v":0}]
[null,4,0,null,null,null,null,0,4,{"$f":"$C$6","v":0},null,null,null,null,0,4,{"$f":"$C$6","v":0},null,null,null,null,0,4,{"$f":"$C$6","v":0},null,null,null,null,0,4,{"$f":"$C$6","v":0},null,null,null,null,0,null,null,null,null,null,{"$f":"入力欄!B41","v":0},{"$f":"入力欄!G41","v":0}]
[null,5,0,null,null,null,null,0,5,{"$f":"$C$7","v":0},null,null,null,null,0,5,{"$f":"$C$7","v":0},null,null,null,null,0,5,{"$f":"$C$7","v":0},null,null,null,null,0,5,{"$f":"$C$7","v":0},null,null,null,null,0,null,null,null,null,null,{"$f":"入力欄!B42","v":0},{"$f":"入力欄!G42","v":0}]
[null,6,{"$f":"IF(AM8=\"*\",\"\",AN8)","v":0},null,null,null,null,0,6,{"$f":"$C$8","v":0},null,null,null,null,0,6,{"$f":"$C$8","v":0},null,null,null,null,0,6,{"$f":"$C$8","v":0},null,null,null,null,0,6,{"$f":"$C$8","v":0},null,null,null,null,0,null,null,null,null,null,{"$f":"入力欄!B43","v":0},{"$f":"入力欄!G43","v":0}]
[null,7,0,null,null,null,null,0,7,{"$f":"$C$9","v":0},null,null,null,null,0,7,{"$f":"$C$9","v":0},null,null,null,null,0,7,{"$f":"$C$9","v":0},null,null,null,null,0,7,{"$f":"$C$9","v":0},null,null,null,null,0,null,null,null,null,null,{"$f":"入力欄!B44","v":0},{"$f":"入力欄!G44","v":0}]
[null,8,0,null,null,null,null,0,8,{"$f":"$C$10","v":0},null,null,null,null,0,8,{"$f":"$C$10","v":0},null,null,null,null,0,8,{"$f":"$C$10","v":0},null,null,null,null,0,8,{"$f":"$C$10","v":0},null,null,null,null,0,null,null,null,null,null,{"$f":"入力欄!B45","v":0},{"$f":"入力欄!G45","v":0}]
[null,9,0,null,null,null,null,0,9,{"$f":"$C$11","v":0},null,null,null,null,0,9,{"$f":"$C$11","v":0},null,null,null,null,0,9,{"$f":"$C$11","v":0},null,null,null,null,0,9,{"$f":"$C$11","v":0},null,null,null,null,0,null,null,null,null,null,{"$f":"入力欄!B46","v":0},{"$f":"入力欄!G46","v":0}]
[null,10,0,null,null,null,null,0,10,{"$f":"$C$12","v":0},null,null,null,null,0,10,{"$f":"$C$12","v":0},null,null,null,null,0,10,{"$f":"$C$12","v":0},null,null,null,null,0,10,{"$f":"$C$12","v":0},null,null,null,null,0,null,null,null,null,null,{"$f":"入力欄!B47","v":0},{"$f":"入力欄!G47","v":0}]
[null,11,0,null,null,null,null,0,11,{"$f":"$C$13","v":0},null,null,null,null,0,11,{"$f":"$C$13","v":0},null,null,null,null,0,11,{"$f":"$C$13","v":0},null,null,null,null,0,11,{"$f":"$C$13","v":0},null,null,null,null,0,null,null,null,null,null,{"$f":"入力欄!B48","v":0},{"$f":"入力欄!G48","v":0}]
[null,12,0,null,null,null,null,0,12,{"$f":"$C$14","v":0},null,null,null,null,0,12,{"$f":"$C$14","v":0},null,null,null,null,0,12,{"$f":"$C$14","v":0},null,null,null,null,0,12,{"$f":"$C$14","v":0},null,null,null,null,0,null,null,null,null,null,{"$f":"入力欄!B49","v":0},{"$f":"入力欄!G49","v":0}]
[null,13,0,null,null,null,null,0,13,{"$f":"$C$15","v":0},null,null,null,null,0,13,{"$f":"$C$15","v":0},null,null,null,null,0,13,{"$f":"$C$15","v":0},null,null,null,null,0,13,{"$f":"$C$15","v":0},null,null,null,null,0,null,null,null,null,null,{"$f":"入力欄!B50","v":0},{"$f":"入力欄!G50","v":0}]
[null,14,0,null,null,null,null,0,14,{"$f":"$C$16","v":0},null,null,null,null,0,14,{"$f":"$C$16","v":0},null,null,null,null,0,14,{"$f":"$C$16","v":0},null,null,null,null,0,14,{"$f":"$C$16","v":0},null,null,null,null,0,null,null,null,null,null,{"$f":"入力欄!B51","v":0},{"$f":"入力欄!G51","v":0}]
[null,15,{"$f":"IF(AM17=\"*\",\"\",AN17)","v":0},null,null,null,null,{"$f":"IF(AM17=\"*\",\"\",IF(AM17=100,\"00\",AM17))","v":0},15,{"$f":"$C$17","v":0},null,null,null,null,0,15,{"$f":"$C$17","v":0},null,null,null,null,0,15,{"$f":"$C$17","v":0},null,null,null,null,0,15,{"$f":"$C$17","v":0},null,null,null,null,0,null,null,null,null,null,{"$f":"入力欄!B52","v":0},{"$f":"入力欄!G52","v":0}]
[null," コーチ ：",null,{"$f":"入力欄!B21","v":0},null,null,{"$f":"入力欄!D22","v":{"$error":"#N/A"}},"サイン"," コーチ ：",null,{"$f":"$D$18","v":0},null,null,{"$f":"$G$18","v":{"$error":"#N/A"}},"サイン"," コーチ ：",null,{"$f":"$D$18","v":0},null,null,{"$f":"$G$18","v":{"$error":"#N/A"}},"サイン"," コーチ ：",null,{"$f":"$D$18","v":0},null,null,{"$f":"$G$18","v":{"$error":"#N/A"}},"サイン"," コーチ ：",null,{"$f":"$D$18","v":0},null,null,{"$f":"$G$18","v":{"$error":"#N/A"}},"サイン",null,null,null,null,null,{"$f":"入力欄!B53","v":0},{"$f":"入力欄!G53","v":0}]
[null," Aコーチ：",null,{"$f":"入力欄!B26","v":0},null,null,{"$f":"IF(入力欄!B27=\"\",\"\",入力欄!D27)","v":""},null," Aコーチ：",null,{"$f":"$D$19","v":0},null,null,{"$f":"$G$19","v":""},null," Aコーチ：",null,{"$f":"$D$19","v":0},null,null,{"$f":"$G$19","v":""},null," Aコーチ：",null,{"$f":"$D$19","v":0},null,null,{"$f":"$G$19","v":""},null," Aコーチ：",null,{"$f":"$D$19","v":0},null,null,{"$f":"$G$19","v":""},null,null,null,null,null,null,{"$f":"入力欄!B54","v":0},{"$f":"入力欄!G54","v":0}]
[null,null,null,{"$f":"$D$2","v":""},null,{"$f":"$F$2","v":0},null,"No.",null,null,{"$f":"$D$2","v":""},null,{"$f":"$F$2","v":0},null,"No.",null,null,{"$f":"$D$2","v":""},null,{"$f":"$F$2","v":0},null,"No.",null,null,{"$f":"$D$2","v":""},null,{"$f":"$F$2","v":0},null,"No.",null,null,{"$f":"$D$2","v":""},null,{"$f":"$F$2","v":0},null,"No.",null,null,null,null,null,{"$f":"入力欄!B55","v":0},{"$f":"入力欄!G55","v":0}]
[null,1,{"$f":"$C$3","v":0},null,null,null,null,{"$f":"H3","v":0},1,{"$f":"$C$3","v":0},null,null,null,null,{"$f":"H3","v":0},1,{"$f":"$C$3","v":0},null,null,null,null,{"$f":"O3","v":0},1,{"$f":"$C$3","v":0},null,null,null,null,{"$f":"V3","v":0},1,{"$f":"$C$3","v":0},null,null,null,null,{"$f":"$H21","v":0},null,null,null,null,null,{"$f":"入力欄!B56","v":0},{"$f":"入力欄!G56","v":0}]
[null,2,{"$f":"$C$4","v":0},null,null,null,null,{"$f":"H4","v":0},2,{"$f":"$C$4","v":0},null,null,null,null,{"$f":"H4","v":0},2,{"$f":"$C$4","v":0},null,null,null,null,{"$f":"O4","v":0},2,{"$f":"$C$4","v":0},null,null,null,null,{"$f":"V4","v":0},2,{"$f":"$C$4","v":0},null,null,null,null,{"$f":"$H22","v":0},null,null,null,null,null,{"$f":"入力欄!B57","v":0},{"$f":"入力欄!G57","v":0}]
[null,3,{"$f":"$C$5","v":0},null,null,null,null,0,3,{"$f":"$C$5","v":0},null,null,null,null,0,3,{"$f":"$C$5","v":0},null,null,null,null,0,3,{"$f":"$C$5","v":0},null,null,null,null,0,3,{"$f":"$C$5","v":0},null,null,null,null,0,null,null,null,null,null,{"$f":"入力欄!B58","v":0},{"$f":"入力欄!G58","v":0}]
[null,4,{"$f":"$C$6","v":0},null,null,null,null,0,4,{"$f":"$C$6","v":0},null,null,null,null,0,4,{"$f":"$C$6","v":0},null,null,null,null,0,4,{"$f":"$C$6","v":0},null,null,null,null,0,4,{"$f":"$C$6","v":0},null,null,null,null,0,null,null,null,null,null,{"$f":"入力欄!B59","v":0},{"$f":"入力欄!G59","v":0}]
[null,5,{"$f":"$C$7","v":0},null,null,null,null,0,5,{"$f":"$C$7","v":0},null,null,null,null,0,5,{"$f":"$C$7","v":0},null,null,null,null,0,5,{"$f":"$C$7","v":0},null,null,null,null,0,5,{"$f":"$C$7","v":0},null,null,null,null,0,null,null,null,null,null,{"$f":"入力欄!B60","v":0},{"$f":"入力欄!G60","v":0}]
[null,6,{"$f":"$C$8","v":0},null,null,null,null,0,6,{"$f":"$C$8","v":0},null,null,null,null,0,6,{"$f":"$C$8","v":0},null,null,null,null,0,6,{"$f":"$C$8","v":0},null,null,null,null,0,6,{"$f":"$C$8","v":0},null,null,null,null,0,null,null,null,null,null,{"$f":"入力欄!B61","v":0},{"$f":"入力欄!G61","v":0}]
[null,7,{"$f":"$C$9","v":0},null,null,null,null,0,7,{"$f":"$C$9","v":0},null,null,null,null,0,7,{"$f":"$C$9","v":0},null,null,null,null,0,7,{"$f":"$C$9","v":0},null,null,null,null,0,7,{"$f":"$C$9","v":0},null,null,null,null,0,null,null,null,null,null,{"$f":"入力欄!B62","v":0},{"$f":"入力欄!G62","v":0}]
[null,8,{"$f":"$C$10","v":0},null,null,null,null,0,8,{"$f":"$C$10","v":0},null,null,null,null,0,8,{"$f":"$C$10","v":0},null,null,null,null,0,8,{"$f":"$C$10","v":0},null,null,null,null,0,8,{"$f":"$C$10","v":0},null,null,null,null,0]
[null,9,{"$f":"$C$11","v":0},null,null,null,null,0,9,{"$f":"$C$11","v":0},null,null,null,null,0,9,{"$f":"$C$11","v":0},null,null,null,null,0,9,{"$f":"$C$11","v":0},null,null,null,null,0,9,{"$f":"$C$11","v":0},null,null,null,null,0]
[null,10,{"$f":"$C$12","v":0},null,null,null,null,0,10,{"$f":"$C$12","v":0},null,null,null,null,0,10,{"$f":"$C$12","v":0},null,null,null,null,0,10,{"$f":"$C$12","v":0},null,null,null,null,0,10,{"$f":"$C$12","v":0},null,null,null,null,0,null,null,"※印刷する際に拡大縮小の設定を95％にして印刷すること\n　上の「印刷する」ボタンを\n押すと95％で印刷します。"]
[null,11,{"$f":"$C$13","v":0},null,null,null,null,0,11,{"$f":"$C$13","v":0},null,null,null,null,0,11,{"$f":"$C$13","v":0},null,null,null,null,0,11,{"$f":"$C$13","v":0},null,null,null,null,0,11,{"$f":"$C$13","v":0},null,null,null,null,0]
[null,12,{"$f":"$C$14","v":0},null,null,null,null,0,12,{"$f":"$C$14","v":0},null,null,null,null,0,12,{"$f":"$C$14","v":0},null,null,null,null,0,12,{"$f":"$C$14","v":0},null,null,null,null,0,12,{"$f":"$C$14","v":0},null,null,null,null,0]
[null,13,{"$f":"$C$15","v":0},null,null,null,null,0,13,{"$f":"$C$15","v":0},null,null,null,null,0,13,{"$f":"$C$15","v":0},null,null,null,null,0,13,{"$f":"$C$15","v":0},null,null,null,null,0,13,{"$f":"$C$15","v":0},null,null,null,null,0]
[null,14,{"$f":"$C$16","v":0},null,null,null,null,0,14,{"$f":"$C$16","v":0},null,null,null,null,0,14,{"$f":"$C$16","v":0},null,null,null,null,0,14,{"$f":"$C$16","v":0},null,null,null,null,0,14,{"$f":"$C$16","v":0},null,null,null,null,0]
[null,15,{"$f":"$C$17","v":0},null,null,null,null,0,15,{"$f":"$C$17","v":0},null,null,null,null,0,15,{"$f":"$C$17","v":0},null,null,null,null,0,15,{"$f":"$C$17","v":0},null,null,null,null,0,15,{"$f":"$C$17","v":0},null,null,null,null,0]
[null," コーチ ：",null,{"$f":"$D$18","v":0},null,null,{"$f":"$G$18","v":{"$error":"#N/A"}},"サイン"," コーチ ：",null,{"$f":"$D$18","v":0},null,null,{"$f":"$G$18","v":{"$error":"#N/A"}},"サイン"," コーチ ：",null,{"$f":"$D$18","v":0},null,null,{"$f":"$G$18","v":{"$error":"#N/A"}},"サイン"," コーチ ：",null,{"$f":"$D$18","v":0},null,null,{"$f":"$G$18","v":{"$error":"#N/A"}},"サイン"," コーチ ：",null,{"$f":"$D$18","v":0},null,null,{"$f":"$G$18","v":{"$error":"#N/A"}},"サイン"]
[null," Aコーチ：",null,{"$f":"$D$19","v":0},null,null,{"$f":"$G$19","v":""},null," Aコーチ：",null,{"$f":"$D$19","v":0},null,null,{"$f":"$G$19","v":""},null," Aコーチ：",null,{"$f":"$D$19","v":0},null,null,{"$f":"$G$19","v":""},null," Aコーチ：",null,{"$f":"$D$19","v":0},null,null,{"$f":"$G$19","v":""},null," Aコーチ：",null,{"$f":"$D$19","v":0},null,null,{"$f":"$G$19","v":""}]

{"sheet":"メンバー票b","index":3,"n_rows":37,"n_cols":45,"rows_kept":37,"cut":false,"hidden":false,"merged":[[3,43,5,45],[1,17,1,18],[1,19,1,20],[1,24,1,25],[1,26,1,27],[1,31,1,32],[1,33,1,34],[0,1,0,7],[0,8,0,14],[1,3,1,4],[1,5,1,6],[1,10,1,11],[1,12,1,13],[2,23,2,25],[2,26,2,27],[2,30,2,32],[2,33,2,34],[3,2,3,4],[3,5,3,6],[3,9,3,11],[3,12,3,13],[3,16,3,18],[3,19,3,20],[2,2,2,4],[2,5,2,6],[2,9,2,11],[2,12,2,13],[2,16,2,18],[2,19,2,20],[3,23,3,25],[3,26,3,27],[3,30,3,32],[3,33,3,34],[4,33,4,34],[5,2,5,4],[5,5,5,6],[5,9,5,11],[5,12,5,13],[5,16,5,18],[5,19,5,20],[5,23,5,25],[5,26,5,27],[5,30,5,32],[5,33,5,34],[4,2,4,4],[4,5,4,6],[4,9,4,11],[4,12,4,13],[4,16,4,18],[4,19,4,20],[4,23,4,25],[4,26,4,27],[4,30,4,32],[6,33,6,34],[7,2,7,4],[7,5,7,6],[7,9,7,11],[7,12,7,13],[7,16,7,18],[7,19,7,20],[7,23,7,25],[7,26,7,27],[7,30,7,32],[7,33,7,34],[6,2,6,4],[6,5,6,6],[6,9,6,11],[6,12,6,13],[6,16,6,18],[6,19,6,20],[6,23,6,25],[6,26,6,27],[6,30,6,32],[8,33,8,34],[9,2,9,4],[9,5,9,6],[9,9,9,11],[9,12,9,13],[9,16,9,18],[9,19,9,20],[9,23,9,25],[9,26,9,27],[9,30,9,32],[9,33,9,34],[8,2,8,4],[8,5,8,6],[8,9,8,11],[8,12,8,13],[8,16,8,18],[8,19,8,20],[8,23,8,25],[8,26,8,27],[8,30,8,32],[10,33,10,34],[11,2,11,4],[11,5,11,6],[11,9,11,11],[11,12,11,13],[11,16,11,18],[11,19,11,20],[11,23,11,25],[11,26,11,27],[11,30,11,32],[11,33,11,34],[10,2,10,4],[10,5,10,6],[10,9,10,11],[10,12,10,13],[10,16,10,18],[10,19,10,20],[10,23,10,25],[10,26,10,27],[10,30,10,32],[12,33,12,34],[13,2,13,4],[13,5,13,6],[13,9,13,11],[13,12,13,13],[13,16,13,18],[13,19,13,20],[13,23,13,25],[13,26,13,27],[13,30,13,32],[13,33,13,34],[12,2,12,4],[12,5,12,6],[12,9,12,11],[12,12,12,13],[12,16,12,18],[12,19,12,20],[12,23,12,25],[12,26,12,27],[12,30,12,32],[14,33,14,34],[15,2,15,4],[15,5,15,6],[15,9,15,11],[15,12,15,13],[15,16,15,18],[15,19,15,20],[15,23,15,25],[15,26,15,27],[15,30,15,32],[15,33,15,34],[14,2,14,4],[14,5,14,6],[14,9,14,11],[14,12,14,13],[14,16,14,18],[14,19,14,20],[14,23,14,25],[14,26,14,27],[14,30,14,32],[16,33,16,34],[17,1,17,2],[17,3,17,5],[17,8,17,9],[17,10,17,12],[17,15,17,16],[17,17,17,19],[17,22,17,23],[17,24,17,26],[17,29,17,30],[17,31,17,33],[16,2,16,4],[16,5,16,6],[16,9,16,11],[16,12,16,13],[16,16,16,18],[16,19,16,20],[16,23,16,25],[16,26,16,27],[16,30,16,32],[18,1,18,2],[18,3,18,5],[18,8,18,9],[18,10,18,12],[18,15,18,16],[18,17,18,19],[18,22,18,23],[18,24,18,26],[18,29,18,30],[18,31,18,33],[19,3,19,4],[19,5,19,6],[19,10,19,11],[19,12,19,13],[19,17,19,18],[19,19,19,20],[19,24,19,25],[19,26,19,27],[19,31,19,32],[19,33,19,34],[20,33,20,34],[21,2,21,4],[21,5,21,6],[21,9,21,11],[21,12,21,13],[21,16,21,18],[21,19,21,20],[21,23,21,25],[21,26,21,27],[21,30,21,32],[21,33,21,34],[20,2,20,4],[20,5,20,6],[20,9,20,11],[20,12,20,13],[20,16,20,18],[20,19,20,20],[20,23,20,25],[20,26,20,27],[20,30,20,32],[22,33,22,34],[23,2,23,4],[23,5,23,6],[23,9,23,11],[23,12,23,13],[23,16,23,18],[23,19,23,20],[23,23,23,25],[23,26,23,27],[23,30,23,32],[23,33,23,34],[22,2,22,4],[22,5,22,6],[22,9,22,11],[22,12,22,13],[22,16,22,18],[22,19,22,20],[22,23,22,25],[22,26,22,27],[22,30,22,32],[24,33,24,34],[25,2,25,4],[25,5,25,6],[25,9,25,11],[25,12,25,13],[25,16,25,18],[25,19,25,20],[25,23,25,25],[25,26,25,27],[25,30,25,32],[25,33,25,34],[24,2,24,4],[24,5,24,6],[24,9,24,11],[24,12,24,13],[24,16,24,18],[24,19,24,20],[24,23,24,25],[24,26,24,27],[24,30,24,32],[26,33,26,34],[27,2,27,4],[27,5,27,6],[27,9,27,11],[27,12,27,13],[27,16,27,18],[27,19,27,20],[27,23,27,25],[27,26,27,27],[27,30,27,32],[27,33,27,34],[26,2,26,4],[26,5,26,6],[26,9,26,11],[26,12,26,13],[26,16,26,18],[26,19,26,20],[26,23,26,25],[26,26,26,27],[26,30,26,32],[28,33,28,34],[29,2,29,4],[29,5,29,6],[29,9,29,11],[29,12,29,13],[29,16,29,18],[29,19,29,20],[29,23,29,25],[29,26,29,27],[29,30,29,32],[29,33,29,34],[28,2,28,4],[28,5,28,6],[28,9,28,11],[28,12,28,13],[28,16,28,18],[28,19,28,20],[28,23,28,25],[28,26,28,27],[28,30,28,32],[29,38,34,42],[30,2,30,4],[30,5,30,6],[30,9,30,11],[30,12,30,13],[30,16,30,18],[30,19,30,20],[30,23,30,25],[30,26,30,27],[30,30,30,32],[30,33,30,34],[31,2,31,4],[31,5,31,6],[31,9,31,11],[31,12,31,13],[31,16,31,18],[31,19,31,20],[31,23,31,25],[31,26,31,27],[31,30,31,32],[31,33,31,34],[32,2,32,4],[32,5,32,6],[32,9,32,11],[32,12,32,13],[32,16,32,18],[32,19,32,20],[32,23,32,25],[32,26,32,27],[32,30,32,32],[32,33,32,34],[33,2,33,4],[33,5,33,6],[33,9,33,11],[33,12,33,13],[33,16,33,18],[33,19,33,20],[33,23,33,25],[33,26,33,27],[33,30,33,32],[33,33,33,34],[34,33,34,34],[35,1,35,2],[35,3,35,5],[35,8,35,9],[35,10,35,12],[35,15,35,16],[35,17,35,19],[35,22,35,23],[35,24,35,26],[35,29,35,30],[35,31,35,33],[34,2,34,4],[34,5,34,6],[34,9,34,11],[34,12,34,13],[34,16,34,18],[34,19,34,20],[34,23,34,25],[34,26,34,27],[34,30,34,32],[36,31,36,33],[37,1,37,7],[37,8,37,14],[37,15,37,20],[37,22,37,27],[37,29,37,34],[36,1,36,2],[36,3,36,5],[36,8,36,9],[36,10,36,12],[36,15,36,16],[36,17,36,19],[36,22,36,23],[36,24,36,26],[36,29,36,30]]}
["b"]
[null,null,null,{"$f":"入力欄!B8&入力欄!E8","v":""},null,{"$f":"入力欄!B19","v":0},null,"No.",null,null,{"$f":"$D$2","v":""},null,{"$f":"$F$2","v":0},null,"No.",null,null,{"$f":"$D$2","v":""},null,{"$f":"$F$2","v":0},null,"No.",null,null,{"$f":"$D$2","v":""},null,{"$f":"$F$2","v":0},null,"No.",null,null,{"$f":"$D$2","v":""},null,{"$f":"$F$2","v":0},null,"No."]
[null,1,{"$f":"AN3","v":0},null,null,null,null,{"$f":"IF(AM3=\"*\",\"\",IF(AM3=100,\"00\",AM3))","v":0},1,{"$f":"$C$3","v":0},null,null,null,null,{"$f":"$H3","v":0},1,{"$f":"$C$3","v":0},null,null,null,null,{"$f":"$H3","v":0},1,{"$f":"$C$3","v":0},null,null,null,null,{"$f":"$H3","v":0},1,{"$f":"$C$3","v":0},null,null,null,null,{"$f":"$H3","v":0},null,null,null,null,null,{"$f":"入力欄!B38","v":0},{"$f":"入力欄!H38","v":0},null,{"$f":"IF($AM3=\"\",\"\",IF(ISNA(MATCH($AM3,AV$3:AV$28,0)),\"\",INDEX(AU$3:AU$28,MATCH(AR3,AV$3:AV$28,0))))","v":""}]
[null,2,{"$f":"AN4","v":0},null,null,null,null,0,2,{"$f":"$C$4","v":0},null,null,null,null,{"$f":"$H4","v":0},2,{"$f":"$C$4","v":0},null,null,null,null,{"$f":"$H4","v":0},2,{"$f":"$C$4","v":0},null,null,null,null,{"$f":"$H4","v":0},2,{"$f":"$C$4","v":0},null,null,null,null,{"$f":"$H4","v":0},null,null,null,null,null,{"$f":"入力欄!B39","v":0},{"$f":"入力欄!H39","v":0},"ユニフォームNo.は\n『0』と『00』は同時に\n使用できません。"]
[null,3,0,null,null,null,null,0,3,{"$f":"$C$5","v":0},null,null,null,null,0,3,{"$f":"$C$5","v":0},null,null,null,null,0,3,{"$f":"$C$5","v":0},null,null,null,null,0,3,{"$f":"$C$5","v":0},null,null,null,null,0,null,null,null,null,null,{"$f":"入力欄!B40","v":0},{"$f":"入力欄!H40","v":0}]
[null,4,0,null,null,null,null,0,4,{"$f":"$C$6","v":0},null,null,null,null,0,4,{"$f":"$C$6","v":0},null,null,null,null,0,4,{"$f":"$C$6","v":0},null,null,null,null,0,4,{"$f":"$C$6","v":0},null,null,null,null,0,null,null,null,null,null,{"$f":"入力欄!B41","v":0},{"$f":"入力欄!H41","v":0}]
[null,5,0,null,null,null,null,0,5,{"$f":"$C$7","v":0},null,null,null,null,0,5,{"$f":"$C$7","v":0},null,null,null,null,0,5,{"$f":"$C$7","v":0},null,null,null,null,0,5,{"$f":"$C$7","v":0},null,null,null,null,0,null,null,null,null,null,{"$f":"入力欄!B42","v":0},{"$f":"入力欄!H42","v":0}]
[null,6,{"$f":"IF(AM8=\"*\",\"\",AN8)","v":0},null,null,null,null,0,6,{"$f":"$C$8","v":0},null,null,null,null,0,6,{"$f":"$C$8","v":0},null,null,null,null,0,6,{"$f":"$C$8","v":0},null,null,null,null,0,6,{"$f":"$C$8","v":0},null,null,null,null,0,null,null,null,null,null,{"$f":"入力欄!B43","v":0},{"$f":"入力欄!H43","v":0}]
[null,7,{"$f":"IF(AM9=\"*\",\"\",AN9)","v":0},null,null,null,null,0,7,{"$f":"$C$9","v":0},null,null,null,null,0,7,{"$f":"$C$9","v":0},null,null,null,null,0,7,{"$f":"$C$9","v":0},null,null,null,null,0,7,{"$f":"$C$9","v":0},null,null,null,null,0,null,null,null,null,null,{"$f":"入力欄!B44","v":0},{"$f":"入力欄!H44","v":0}]
[null,8,0,null,null,null,null,0,8,{"$f":"$C$10","v":0},null,null,null,null,0,8,{"$f":"$C$10","v":0},null,null,null,null,0,8,{"$f":"$C$10","v":0},null,null,null,null,0,8,{"$f":"$C$10","v":0},null,null,null,null,0,null,null,null,null,null,{"$f":"入力欄!B45","v":0},{"$f":"入力欄!H45","v":0}]
[null,9,0,null,null,null,null,0,9,{"$f":"$C$11","v":0},null,null,null,null,0,9,{"$f":"$C$11","v":0},null,null,null,null,0,9,{"$f":"$C$11","v":0},null,null,null,null,0,9,{"$f":"$C$11","v":0},null,null,null,null,0,null,null,null,null,null,{"$f":"入力欄!B46","v":0},{"$f":"入力欄!H46","v":0}]
[null,10,0,null,null,null,null,0,10,{"$f":"$C$12","v":0},null,null,null,null,0,10,{"$f":"$C$12","v":0},null,null,null,null,0,10,{"$f":"$C$12","v":0},null,null,null,null,0,10,{"$f":"$C$12","v":0},null,null,null,null,0,null,null,null,null,null,{"$f":"入力欄!B47","v":0},{"$f":"入力欄!H47","v":0}]
[null,11,0,null,null,null,null,0,11,{"$f":"$C$13","v":0},null,null,null,null,0,11,{"$f":"$C$13","v":0},null,null,null,null,0,11,{"$f":"$C$13","v":0},null,null,null,null,0,11,{"$f":"$C$13","v":0},null,null,null,null,0,null,null,null,null,null,{"$f":"入力欄!B48","v":0},{"$f":"入力欄!H48","v":0}]
[null,12,0,null,null,null,null,0,12,{"$f":"$C$14","v":0},null,null,null,null,0,12,{"$f":"$C$14","v":0},null,null,null,null,0,12,{"$f":"$C$14","v":0},null,null,null,null,0,12,{"$f":"$C$14","v":0},null,null,null,null,0,null,null,null,null,null,{"$f":"入力欄!B49","v":0},{"$f":"入力欄!H49","v":0}]
[null,13,0,null,null,null,null,0,13,{"$f":"$C$15","v":0},null,null,null,null,0,13,{"$f":"$C$15","v":0},null,null,null,null,0,13,{"$f":"$C$15","v":0},null,null,null,null,0,13,{"$f":"$C$15","v":0},null,null,null,null,0,null,null,null,null,null,{"$f":"入力欄!B50","v":0},{"$f":"入力欄!H50","v":0}]
[null,14,0,null,null,null,null,0,14,{"$f":"$C$16","v":0},null,null,null,null,0,14,{"$f":"$C$16","v":0},null,null,null,null,0,14,{"$f":"$C$16","v":0},null,null,null,null,0,14,{"$f":"$C$16","v":0},null,null,null,null,0,null,null,null,null,null,{"$f":"入力欄!B51","v":0},{"$f":"入力欄!H51","v":0}]
[null,15,0,null,null,null,null,{"$f":"IF(AM17=\"*\",\"\",IF(AM17=100,\"00\",AM17))","v":0},15,{"$f":"$C$17","v":0},null,null,null,null,0,15,{"$f":"$C$17","v":0},null,null,null,null,0,15,{"$f":"$C$17","v":0},null,null,null,null,0,15,{"$f":"$C$17","v":0},null,null,null,null,0,null,null,null,null,null,{"$f":"入力欄!B52","v":0},{"$f":"入力欄!H52","v":0}]
[null," コーチ ：",null,{"$f":"入力欄!B21","v":0},null,null,{"$f":"入力欄!D22","v":{"$error":"#N/A"}},"サイン"," コーチ ：",null,{"$f":"$D$18","v":0},null,null,{"$f":"$G$18","v":{"$error":"#N/A"}},"サイン"," コーチ ：",null,{"$f":"$D$18","v":0},null,null,{"$f":"$G$18","v":{"$error":"#N/A"}},"サイン"," コーチ ：",null,{"$f":"$D$18","v":0},null,null,{"$f":"$G$18","v":{"$error":"#N/A"}},"サイン"," コーチ ：",null,{"$f":"$D$18","v":0},null,null,{"$f":"$G$18","v":{"$error":"#N/A"}},"サイン",null,null,null,null,null,{"$f":"入力欄!B53","v":0},{"$f":"入力欄!H53","v":0}]
[null," Aコーチ：",null,{"$f":"入力欄!B26","v":0},null,null,{"$f":"IF(入力欄!B27=\"\",\"\",入力欄!D27)","v":""},null," Aコーチ：",null,{"$f":"$D$19","v":0},null,null,{"$f":"$G$19","v":""},null," Aコーチ：",null,{"$f":"$D$19","v":0},null,null,{"$f":"$G$19","v":""},null," Aコーチ：",null,{"$f":"$D$19","v":0},null,null,{"$f":"$G$19","v":""},null," Aコーチ：",null,{"$f":"$D$19","v":0},null,null,{"$f":"$G$19","v":""},null,null,null,null,null,null,{"$f":"入力欄!B54","v":0},{"$f":"入力欄!H54","v":0}]
[null,null,null,{"$f":"$D$2","v":""},null,{"$f":"$F$2","v":0},null,"No.",null,null,{"$f":"$D$2","v":""},null,{"$f":"$F$2","v":0},null,"No.",null,null,{"$f":"$D$2","v":""},null,{"$f":"$F$2","v":0},null,"No.",null,null,{"$f":"$D$2","v":""},null,{"$f":"$F$2","v":0},null,"No.",null,null,{"$f":"$D$2","v":""},null,{"$f":"$F$2","v":0},null,"No.",null,null,null,null,null,{"$f":"入力欄!B55","v":0},{"$f":"入力欄!H55","v":0}]
[null,1,{"$f":"$C$3","v":0},null,null,null,null,{"$f":"H3","v":0},1,{"$f":"$C$3","v":0},null,null,null,null,{"$f":"H3","v":0},1,{"$f":"$C$3","v":0},null,null,null,null,{"$f":"O3","v":0},1,{"$f":"$C$3","v":0},null,null,null,null,{"$f":"V3","v":0},1,{"$f":"$C$3","v":0},null,null,null,null,{"$f":"$H21","v":0},null,null,null,null,null,{"$f":"入力欄!B56","v":0},{"$f":"入力欄!H56","v":0}]
[null,2,{"$f":"$C$4","v":0},null,null,null,null,{"$f":"H4","v":0},2,{"$f":"$C$4","v":0},null,null,null,null,{"$f":"H4","v":0},2,{"$f":"$C$4","v":0},null,null,null,null,{"$f":"O4","v":0},2,{"$f":"$C$4","v":0},null,null,null,null,{"$f":"V4","v":0},2,{"$f":"$C$4","v":0},null,null,null,null,{"$f":"$H22","v":0},null,null,null,null,null,{"$f":"入力欄!B57","v":0},{"$f":"入力欄!H57","v":0}]
[null,3,{"$f":"$C$5","v":0},null,null,null,null,0,3,{"$f":"$C$5","v":0},null,null,null,null,0,3,{"$f":"$C$5","v":0},null,null,null,null,0,3,{"$f":"$C$5","v":0},null,null,null,null,0,3,{"$f":"$C$5","v":0},null,null,null,null,0,null,null,null,null,null,{"$f":"入力欄!B58","v":0},{"$f":"入力欄!H58","v":0}]
[null,4,{"$f":"$C$6","v":0},null,null,null,null,0,4,{"$f":"$C$6","v":0},null,null,null,null,0,4,{"$f":"$C$6","v":0},null,null,null,null,0,4,{"$f":"$C$6","v":0},null,null,null,null,0,4,{"$f":"$C$6","v":0},null,null,null,null,0,null,null,null,null,null,{"$f":"入力欄!B59","v":0},{"$f":"入力欄!H59","v":0}]
[null,5,{"$f":"$C$7","v":0},null,null,null,null,0,5,{"$f":"$C$7","v":0},null,null,null,null,0,5,{"$f":"$C$7","v":0},null,null,null,null,0,5,{"$f":"$C$7","v":0},null,null,null,null,0,5,{"$f":"$C$7","v":0},null,null,null,null,0,null,null,null,null,null,{"$f":"入力欄!B60","v":0},{"$f":"入力欄!H60","v":0}]
[null,6,{"$f":"$C$8","v":0},null,null,null,null,0,6,{"$f":"$C$8","v":0},null,null,null,null,0,6,{"$f":"$C$8","v":0},null,null,null,null,0,6,{"$f":"$C$8","v":0},null,null,null,null,0,6,{"$f":"$C$8","v":0},null,null,null,null,0,null,null,null,null,null,{"$f":"入力欄!B61","v":0},{"$f":"入力欄!H61","v":0}]
[null,7,{"$f":"$C$9","v":0},null,null,null,null,0,7,{"$f":"$C$9","v":0},null,null,null,null,0,7,{"$f":"$C$9","v":0},null,null,null,null,0,7,{"$f":"$C$9","v":0},null,null,null,null,0,7,{"$f":"$C$9","v":0},null,null,null,null,0,null,null,null,null,null,{"$f":"入力欄!B62","v":0},{"$f":"入力欄!H62","v":0}]
[null,8,{"$f":"$C$10","v":0},null,null,null,null,0,8,{"$f":"$C$10","v":0},null,null,null,null,0,8,{"$f":"$C$10","v":0},null,null,null,null,0,8,{"$f":"$C$10","v":0},null,null,null,null,0,8,{"$f":"$C$10","v":0},null,null,null,null,0]
[null,9,{"$f":"$C$11","v":0},null,null,null,null,0,9,{"$f":"$C$11","v":0},null,null,null,null,0,9,{"$f":"$C$11","v":0},null,null,null,null,0,9,{"$f":"$C$11","v":0},null,null,null,null,0,9,{"$f":"$C$11","v":0},null,null,null,null,0]
[null,10,{"$f":"$C$12","v":0},null,null,null,null,0,10,{"$f":"$C$12","v":0},null,null,null,null,0,10,{"$f":"$C$12","v":0},null,null,null,null,0,10,{"$f":"$C$12","v":0},null,null,null,null,0,10,{"$f":"$C$12","v":0},null,null,null,null,0,null,null,"※印刷する際に拡大縮小の設定を95％にして印刷すること\n　上の「印刷する」ボタンを\n押すと95％で印刷します。"]
[null,11,{"$f":"$C$13","v":0},null,null,null,null,0,11,{"$f":"$C$13","v":0},null,null,null,null,0,11,{"$f":"$C$13","v":0},null,null,null,null,0,11,{"$f":"$C$13","v":0},null,null,null,null,0,11,{"$f":"$C$13","v":0},null,null,null,null,0]
[null,12,{"$f":"$C$14","v":0},null,null,null,null,0,12,{"$f":"$C$14","v":0},null,null,null,null,0,12,{"$f":"$C$14","v":0},null,null,null,null,0,12,{"$f":"$C$14","v":0},null,null,null,null,0,12,{"$f":"$C$14","v":0},null,null,null,null,0]
[null,13,{"$f":"$C$15","v":0},null,null,null,null,0,13,{"$f":"$C$15","v":0},null,null,null,null,0,13,{"$f":"$C$15","v":0},null,null,null,null,0,13,{"$f":"$C$15","v":0},null,null,null,null,0,13,{"$f":"$C$15","v":0},null,null,null,null,0]
[null,14,{"$f":"$C$16","v":0},null,null,null,null,0,14,{"$f":"$C$16","v":0},null,null,null,null,0,14,{"$f":"$C$16","v":0},null,null,null,null,0,14,{"$f":"$C$16","v":0},null,null,null,null,0,14,{"$f":"$C$16","v":0},null,null,null,null,0]
[null,15,{"$f":"$C$17","v":0},null,null,null,null,0,15,{"$f":"$C$17","v":0},null,null,null,null,0,15,{"$f":"$C$17","v":0},null,null,null,null,0,15,{"$f":"$C$17","v":0},null,null,null,null,0,15,{"$f":"$C$17","v":0},null,null,null,null,0]
[null," コーチ ：",null,{"$f":"$D$18","v":0},null,null,{"$f":"$G$18","v":{"$error":"#N/A"}},"サイン"," コーチ ：",null,{"$f":"$D$18","v":0},null,null,{"$f":"$G$18","v":{"$error":"#N/A"}},"サイン"," コーチ ：",null,{"$f":"$D$18","v":0},null,null,{"$f":"$G$18","v":{"$error":"#N/A"}},"サイン"," コーチ ：",null,{"$f":"$D$18","v":0},null,null,{"$f":"$G$18","v":{"$error":"#N/A"}},"サイン"," コーチ ：",null,{"$f":"$D$18","v":0},null,null,{"$f":"$G$18","v":{"$error":"#N/A"}},"サイン"]
[null," Aコーチ：",null,{"$f":"$D$19","v":0},null,null,{"$f":"$G$19","v":""},null," Aコーチ：",null,{"$f":"$D$19","v":0},null,null,{"$f":"$G$19","v":""},null," Aコーチ：",null,{"$f":"$D$19","v":0},null,null,{"$f":"$G$19","v":""},null," Aコーチ：",null,{"$f":"$D$19","v":0},null,null,{"$f":"$G$19","v":""},null," Aコーチ：",null,{"$f":"$D$19","v":0},null,null,{"$f":"$G$19","v":""}]

{"sheet":"メンバー票c","index":4,"n_rows":37,"n_cols":45,"rows_kept":37,"cut":false,"hidden":false,"merged":[[3,43,5,45],[1,17,1,18],[1,19,1,20],[1,24,1,25],[1,26,1,27],[1,31,1,32],[1,33,1,34],[0,1,0,7],[0,8,0,14],[1,3,1,4],[1,5,1,6],[1,10,1,11],[1,12,1,13],[2,23,2,25],[2,26,2,27],[2,30,2,32],[2,33,2,34],[3,2,3,4],[3,5,3,6],[3,9,3,11],[3,12,3,13],[3,16,3,18],[3,19,3,20],[2,2,2,4],[2,5,2,6],[2,9,2,11],[2,12,2,13],[2,16,2,18],[2,19,2,20],[3,23,3,25],[3,26,3,27],[3,30,3,32],[3,33,3,34],[4,33,4,34],[5,2,5,4],[5,5,5,6],[5,9,5,11],[5,12,5,13],[5,16,5,18],[5,19,5,20],[5,23,5,25],[5,26,5,27],[5,30,5,32],[5,33,5,34],[4,2,4,4],[4,5,4,6],[4,9,4,11],[4,12,4,13],[4,16,4,18],[4,19,4,20],[4,23,4,25],[4,26,4,27],[4,30,4,32],[6,33,6,34],[7,2,7,4],[7,5,7,6],[7,9,7,11],[7,12,7,13],[7,16,7,18],[7,19,7,20],[7,23,7,25],[7,26,7,27],[7,30,7,32],[7,33,7,34],[6,2,6,4],[6,5,6,6],[6,9,6,11],[6,12,6,13],[6,16,6,18],[6,19,6,20],[6,23,6,25],[6,26,6,27],[6,30,6,32],[8,33,8,34],[9,2,9,4],[9,5,9,6],[9,9,9,11],[9,12,9,13],[9,16,9,18],[9,19,9,20],[9,23,9,25],[9,26,9,27],[9,30,9,32],[9,33,9,34],[8,2,8,4],[8,5,8,6],[8,9,8,11],[8,12,8,13],[8,16,8,18],[8,19,8,20],[8,23,8,25],[8,26,8,27],[8,30,8,32],[10,33,10,34],[11,2,11,4],[11,5,11,6],[11,9,11,11],[11,12,11,13],[11,16,11,18],[11,19,11,20],[11,23,11,25],[11,26,11,27],[11,30,11,32],[11,33,11,34],[10,2,10,4],[10,5,10,6],[10,9,10,11],[10,12,10,13],[10,16,10,18],[10,19,10,20],[10,23,10,25],[10,26,10,27],[10,30,10,32],[12,33,12,34],[13,2,13,4],[13,5,13,6],[13,9,13,11],[13,12,13,13],[13,16,13,18],[13,19,13,20],[13,23,13,25],[13,26,13,27],[13,30,13,32],[13,33,13,34],[12,2,12,4],[12,5,12,6],[12,9,12,11],[12,12,12,13],[12,16,12,18],[12,19,12,20],[12,23,12,25],[12,26,12,27],[12,30,12,32],[14,33,14,34],[15,2,15,4],[15,5,15,6],[15,9,15,11],[15,12,15,13],[15,16,15,18],[15,19,15,20],[15,23,15,25],[15,26,15,27],[15,30,15,32],[15,33,15,34],[14,2,14,4],[14,5,14,6],[14,9,14,11],[14,12,14,13],[14,16,14,18],[14,19,14,20],[14,23,14,25],[14,26,14,27],[14,30,14,32],[16,33,16,34],[17,1,17,2],[17,3,17,5],[17,8,17,9],[17,10,17,12],[17,15,17,16],[17,17,17,19],[17,22,17,23],[17,24,17,26],[17,29,17,30],[17,31,17,33],[16,2,16,4],[16,5,16,6],[16,9,16,11],[16,12,16,13],[16,16,16,18],[16,19,16,20],[16,23,16,25],[16,26,16,27],[16,30,16,32],[18,1,18,2],[18,3,18,5],[18,8,18,9],[18,10,18,12],[18,15,18,16],[18,17,18,19],[18,22,18,23],[18,24,18,26],[18,29,18,30],[18,31,18,33],[19,3,19,4],[19,5,19,6],[19,10,19,11],[19,12,19,13],[19,17,19,18],[19,19,19,20],[19,24,19,25],[19,26,19,27],[19,31,19,32],[19,33,19,34],[20,33,20,34],[21,2,21,4],[21,5,21,6],[21,9,21,11],[21,12,21,13],[21,16,21,18],[21,19,21,20],[21,23,21,25],[21,26,21,27],[21,30,21,32],[21,33,21,34],[20,2,20,4],[20,5,20,6],[20,9,20,11],[20,12,20,13],[20,16,20,18],[20,19,20,20],[20,23,20,25],[20,26,20,27],[20,30,20,32],[22,33,22,34],[23,2,23,4],[23,5,23,6],[23,9,23,11],[23,12,23,13],[23,16,23,18],[23,19,23,20],[23,23,23,25],[23,26,23,27],[23,30,23,32],[23,33,23,34],[22,2,22,4],[22,5,22,6],[22,9,22,11],[22,12,22,13],[22,16,22,18],[22,19,22,20],[22,23,22,25],[22,26,22,27],[22,30,22,32],[24,33,24,34],[25,2,25,4],[25,5,25,6],[25,9,25,11],[25,12,25,13],[25,16,25,18],[25,19,25,20],[25,23,25,25],[25,26,25,27],[25,30,25,32],[25,33,25,34],[24,2,24,4],[24,5,24,6],[24,9,24,11],[24,12,24,13],[24,16,24,18],[24,19,24,20],[24,23,24,25],[24,26,24,27],[24,30,24,32],[26,33,26,34],[27,2,27,4],[27,5,27,6],[27,9,27,11],[27,12,27,13],[27,16,27,18],[27,19,27,20],[27,23,27,25],[27,26,27,27],[27,30,27,32],[27,33,27,34],[26,2,26,4],[26,5,26,6],[26,9,26,11],[26,12,26,13],[26,16,26,18],[26,19,26,20],[26,23,26,25],[26,26,26,27],[26,30,26,32],[28,33,28,34],[29,2,29,4],[29,5,29,6],[29,9,29,11],[29,12,29,13],[29,16,29,18],[29,19,29,20],[29,23,29,25],[29,26,29,27],[29,30,29,32],[29,33,29,34],[28,2,28,4],[28,5,28,6],[28,9,28,11],[28,12,28,13],[28,16,28,18],[28,19,28,20],[28,23,28,25],[28,26,28,27],[28,30,28,32],[29,38,34,42],[30,2,30,4],[30,5,30,6],[30,9,30,11],[30,12,30,13],[30,16,30,18],[30,19,30,20],[30,23,30,25],[30,26,30,27],[30,30,30,32],[30,33,30,34],[31,2,31,4],[31,5,31,6],[31,9,31,11],[31,12,31,13],[31,16,31,18],[31,19,31,20],[31,23,31,25],[31,26,31,27],[31,30,31,32],[31,33,31,34],[32,2,32,4],[32,5,32,6],[32,9,32,11],[32,12,32,13],[32,16,32,18],[32,19,32,20],[32,23,32,25],[32,26,32,27],[32,30,32,32],[32,33,32,34],[33,2,33,4],[33,5,33,6],[33,9,33,11],[33,12,33,13],[33,16,33,18],[33,19,33,20],[33,23,33,25],[33,26,33,27],[33,30,33,32],[33,33,33,34],[34,33,34,34],[35,1,35,2],[35,3,35,5],[35,8,35,9],[35,10,35,12],[35,15,35,16],[35,17,35,19],[35,22,35,23],[35,24,35,26],[35,29,35,30],[35,31,35,33],[34,2,34,4],[34,5,34,6],[34,9,34,11],[34,12,34,13],[34,16,34,18],[34,19,34,20],[34,23,34,25],[34,26,34,27],[34,30,34,32],[36,31,36,33],[37,1,37,7],[37,8,37,14],[37,15,37,20],[37,22,37,27],[37,29,37,34],[36,1,36,2],[36,3,36,5],[36,8,36,9],[36,10,36,12],[36,15,36,16],[36,17,36,19],[36,22,36,23],[36,24,36,26],[36,29,36,30]]}
["c"]
[null,null,null,{"$f":"入力欄!B8&入力欄!E8","v":""},null,{"$f":"入力欄!B19","v":0},null,"No.",null,null,{"$f":"$D$2","v":""},null,{"$f":"$F$2","v":0},null,"No.",null,null,{"$f":"$D$2","v":""},null,{"$f":"$F$2","v":0},null,"No.",null,null,{"$f":"$D$2","v":""},null,{"$f":"$F$2","v":0},null,"No.",null,null,{"$f":"$D$2","v":""},null,{"$f":"$F$2","v":0},null,"No."]
[null,1,{"$f":"AN3","v":0},null,null,null,null,{"$f":"IF(AM3=\"*\",\"\",IF(AM3=100,\"00\",AM3))","v":0},1,{"$f":"$C$3","v":0},null,null,null,null,{"$f":"$H3","v":0},1,{"$f":"$C$3","v":0},null,null,null,null,{"$f":"$H3","v":0},1,{"$f":"$C$3","v":0},null,null,null,null,{"$f":"$H3","v":0},1,{"$f":"$C$3","v":0},null,null,null,null,{"$f":"$H3","v":0},null,null,null,null,null,{"$f":"入力欄!B38","v":0},{"$f":"入力欄!I38","v":0},null,{"$f":"IF($AM3=\"\",\"\",IF(ISNA(MATCH($AM3,AV$3:AV$28,0)),\"\",INDEX(AU$3:AU$28,MATCH(AR3,AV$3:AV$28,0))))","v":""}]
[null,2,{"$f":"AN4","v":0},null,null,null,null,0,2,{"$f":"$C$4","v":0},null,null,null,null,{"$f":"$H4","v":0},2,{"$f":"$C$4","v":0},null,null,null,null,{"$f":"$H4","v":0},2,{"$f":"$C$4","v":0},null,null,null,null,{"$f":"$H4","v":0},2,{"$f":"$C$4","v":0},null,null,null,null,{"$f":"$H4","v":0},null,null,null,null,null,{"$f":"入力欄!B39","v":0},{"$f":"入力欄!I39","v":0},"ユニフォームNo.は\n『0』と『00』は同時に\n使用できません。"]
[null,3,0,null,null,null,null,0,3,{"$f":"$C$5","v":0},null,null,null,null,0,3,{"$f":"$C$5","v":0},null,null,null,null,0,3,{"$f":"$C$5","v":0},null,null,null,null,0,3,{"$f":"$C$5","v":0},null,null,null,null,0,null,null,null,null,null,{"$f":"入力欄!B40","v":0},{"$f":"入力欄!I40","v":0}]
[null,4,0,null,null,null,null,0,4,{"$f":"$C$6","v":0},null,null,null,null,0,4,{"$f":"$C$6","v":0},null,null,null,null,0,4,{"$f":"$C$6","v":0},null,null,null,null,0,4,{"$f":"$C$6","v":0},null,null,null,null,0,null,null,null,null,null,{"$f":"入力欄!B41","v":0},{"$f":"入力欄!I41","v":0}]
[null,5,0,null,null,null,null,0,5,{"$f":"$C$7","v":0},null,null,null,null,0,5,{"$f":"$C$7","v":0},null,null,null,null,0,5,{"$f":"$C$7","v":0},null,null,null,null,0,5,{"$f":"$C$7","v":0},null,null,null,null,0,null,null,null,null,null,{"$f":"入力欄!B42","v":0},{"$f":"入力欄!I42","v":0}]
[null,6,{"$f":"IF(AM8=\"*\",\"\",AN8)","v":0},null,null,null,null,0,6,{"$f":"$C$8","v":0},null,null,null,null,0,6,{"$f":"$C$8","v":0},null,null,null,null,0,6,{"$f":"$C$8","v":0},null,null,null,null,0,6,{"$f":"$C$8","v":0},null,null,null,null,0,null,null,null,null,null,{"$f":"入力欄!B43","v":0},{"$f":"入力欄!I43","v":0}]
[null,7,{"$f":"IF(AM9=\"*\",\"\",AN9)","v":0},null,null,null,null,0,7,{"$f":"$C$9","v":0},null,null,null,null,0,7,{"$f":"$C$9","v":0},null,null,null,null,0,7,{"$f":"$C$9","v":0},null,null,null,null,0,7,{"$f":"$C$9","v":0},null,null,null,null,0,null,null,null,null,null,{"$f":"入力欄!B44","v":0},{"$f":"入力欄!I44","v":0}]
[null,8,0,null,null,null,null,0,8,{"$f":"$C$10","v":0},null,null,null,null,0,8,{"$f":"$C$10","v":0},null,null,null,null,0,8,{"$f":"$C$10","v":0},null,null,null,null,0,8,{"$f":"$C$10","v":0},null,null,null,null,0,null,null,null,null,null,{"$f":"入力欄!B45","v":0},{"$f":"入力欄!I45","v":0}]
[null,9,0,null,null,null,null,0,9,{"$f":"$C$11","v":0},null,null,null,null,0,9,{"$f":"$C$11","v":0},null,null,null,null,0,9,{"$f":"$C$11","v":0},null,null,null,null,0,9,{"$f":"$C$11","v":0},null,null,null,null,0,null,null,null,null,null,{"$f":"入力欄!B46","v":0},{"$f":"入力欄!I46","v":0}]
[null,10,0,null,null,null,null,0,10,{"$f":"$C$12","v":0},null,null,null,null,0,10,{"$f":"$C$12","v":0},null,null,null,null,0,10,{"$f":"$C$12","v":0},null,null,null,null,0,10,{"$f":"$C$12","v":0},null,null,null,null,0,null,null,null,null,null,{"$f":"入力欄!B47","v":0},{"$f":"入力欄!I47","v":0}]
[null,11,0,null,null,null,null,0,11,{"$f":"$C$13","v":0},null,null,null,null,0,11,{"$f":"$C$13","v":0},null,null,null,null,0,11,{"$f":"$C$13","v":0},null,null,null,null,0,11,{"$f":"$C$13","v":0},null,null,null,null,0,null,null,null,null,null,{"$f":"入力欄!B48","v":0},{"$f":"入力欄!I48","v":0}]
[null,12,0,null,null,null,null,0,12,{"$f":"$C$14","v":0},null,null,null,null,0,12,{"$f":"$C$14","v":0},null,null,null,null,0,12,{"$f":"$C$14","v":0},null,null,null,null,0,12,{"$f":"$C$14","v":0},null,null,null,null,0,null,null,null,null,null,{"$f":"入力欄!B49","v":0},{"$f":"入力欄!I49","v":0}]
[null,13,0,null,null,null,null,0,13,{"$f":"$C$15","v":0},null,null,null,null,0,13,{"$f":"$C$15","v":0},null,null,null,null,0,13,{"$f":"$C$15","v":0},null,null,null,null,0,13,{"$f":"$C$15","v":0},null,null,null,null,0,null,null,null,null,null,{"$f":"入力欄!B50","v":0},{"$f":"入力欄!I50","v":0}]
[null,14,0,null,null,null,null,0,14,{"$f":"$C$16","v":0},null,null,null,null,0,14,{"$f":"$C$16","v":0},null,null,null,null,0,14,{"$f":"$C$16","v":0},null,null,null,null,0,14,{"$f":"$C$16","v":0},null,null,null,null,0,null,null,null,null,null,{"$f":"入力欄!B51","v":0},{"$f":"入力欄!I51","v":0}]
[null,15,0,null,null,null,null,{"$f":"IF(AM17=\"*\",\"\",IF(AM17=100,\"00\",AM17))","v":0},15,{"$f":"$C$17","v":0},null,null,null,null,0,15,{"$f":"$C$17","v":0},null,null,null,null,0,15,{"$f":"$C$17","v":0},null,null,null,null,0,15,{"$f":"$C$17","v":0},null,null,null,null,0,null,null,null,null,null,{"$f":"入力欄!B52","v":0},{"$f":"入力欄!I52","v":0}]
[null," コーチ ：",null,{"$f":"入力欄!B21","v":0},null,null,{"$f":"入力欄!D22","v":{"$error":"#N/A"}},"サイン"," コーチ ：",null,{"$f":"$D$18","v":0},null,null,{"$f":"$G$18","v":{"$error":"#N/A"}},"サイン"," コーチ ：",null,{"$f":"$D$18","v":0},null,null,{"$f":"$G$18","v":{"$error":"#N/A"}},"サイン"," コーチ ：",null,{"$f":"$D$18","v":0},null,null,{"$f":"$G$18","v":{"$error":"#N/A"}},"サイン"," コーチ ：",null,{"$f":"$D$18","v":0},null,null,{"$f":"$G$18","v":{"$error":"#N/A"}},"サイン",null,null,null,null,null,{"$f":"入力欄!B53","v":0},{"$f":"入力欄!I53","v":0}]
[null," Aコーチ：",null,{"$f":"入力欄!B26","v":0},null,null,{"$f":"IF(入力欄!B27=\"\",\"\",入力欄!D27)","v":""},null," Aコーチ：",null,{"$f":"$D$19","v":0},null,null,{"$f":"$G$19","v":""},null," Aコーチ：",null,{"$f":"$D$19","v":0},null,null,{"$f":"$G$19","v":""},null," Aコーチ：",null,{"$f":"$D$19","v":0},null,null,{"$f":"$G$19","v":""},null," Aコーチ：",null,{"$f":"$D$19","v":0},null,null,{"$f":"$G$19","v":""},null,null,null,null,null,null,{"$f":"入力欄!B54","v":0},{"$f":"入力欄!I54","v":0}]
[null,null,null,{"$f":"$D$2","v":""},null,{"$f":"$F$2","v":0},null,"No.",null,null,{"$f":"$D$2","v":""},null,{"$f":"$F$2","v":0},null,"No.",null,null,{"$f":"$D$2","v":""},null,{"$f":"$F$2","v":0},null,"No.",null,null,{"$f":"$D$2","v":""},null,{"$f":"$F$2","v":0},null,"No.",null,null,{"$f":"$D$2","v":""},null,{"$f":"$F$2","v":0},null,"No.",null,null,null,null,null,{"$f":"入力欄!B55","v":0},{"$f":"入力欄!I55","v":0}]
[null,1,{"$f":"$C$3","v":0},null,null,null,null,{"$f":"H3","v":0},1,{"$f":"$C$3","v":0},null,null,null,null,{"$f":"H3","v":0},1,{"$f":"$C$3","v":0},null,null,null,null,{"$f":"O3","v":0},1,{"$f":"$C$3","v":0},null,null,null,null,{"$f":"V3","v":0},1,{"$f":"$C$3","v":0},null,null,null,null,{"$f":"$H21","v":0},null,null,null,null,null,{"$f":"入力欄!B56","v":0},{"$f":"入力欄!I56","v":0}]
[null,2,{"$f":"$C$4","v":0},null,null,null,null,{"$f":"H4","v":0},2,{"$f":"$C$4","v":0},null,null,null,null,{"$f":"H4","v":0},2,{"$f":"$C$4","v":0},null,null,null,null,{"$f":"O4","v":0},2,{"$f":"$C$4","v":0},null,null,null,null,{"$f":"V4","v":0},2,{"$f":"$C$4","v":0},null,null,null,null,{"$f":"$H22","v":0},null,null,null,null,null,{"$f":"入力欄!B57","v":0},{"$f":"入力欄!I57","v":0}]
[null,3,{"$f":"$C$5","v":0},null,null,null,null,0,3,{"$f":"$C$5","v":0},null,null,null,null,0,3,{"$f":"$C$5","v":0},null,null,null,null,0,3,{"$f":"$C$5","v":0},null,null,null,null,0,3,{"$f":"$C$5","v":0},null,null,null,null,0,null,null,null,null,null,{"$f":"入力欄!B58","v":0},{"$f":"入力欄!I58","v":0}]
[null,4,{"$f":"$C$6","v":0},null,null,null,null,0,4,{"$f":"$C$6","v":0},null,null,null,null,0,4,{"$f":"$C$6","v":0},null,null,null,null,0,4,{"$f":"$C$6","v":0},null,null,null,null,0,4,{"$f":"$C$6","v":0},null,null,null,null,0,null,null,null,null,null,{"$f":"入力欄!B59","v":0},{"$f":"入力欄!I59","v":0}]
[null,5,{"$f":"$C$7","v":0},null,null,null,null,0,5,{"$f":"$C$7","v":0},null,null,null,null,0,5,{"$f":"$C$7","v":0},null,null,null,null,0,5,{"$f":"$C$7","v":0},null,null,null,null,0,5,{"$f":"$C$7","v":0},null,null,null,null,0,null,null,null,null,null,{"$f":"入力欄!B60","v":0},{"$f":"入力欄!I60","v":0}]
[null,6,{"$f":"$C$8","v":0},null,null,null,null,0,6,{"$f":"$C$8","v":0},null,null,null,null,0,6,{"$f":"$C$8","v":0},null,null,null,null,0,6,{"$f":"$C$8","v":0},null,null,null,null,0,6,{"$f":"$C$8","v":0},null,null,null,null,0,null,null,null,null,null,{"$f":"入力欄!B61","v":0},{"$f":"入力欄!I61","v":0}]
[null,7,{"$f":"$C$9","v":0},null,null,null,null,0,7,{"$f":"$C$9","v":0},null,null,null,null,0,7,{"$f":"$C$9","v":0},null,null,null,null,0,7,{"$f":"$C$9","v":0},null,null,null,null,0,7,{"$f":"$C$9","v":0},null,null,null,null,0,null,null,null,null,null,{"$f":"入力欄!B62","v":0},{"$f":"入力欄!I62","v":0}]
[null,8,{"$f":"$C$10","v":0},null,null,null,null,0,8,{"$f":"$C$10","v":0},null,null,null,null,0,8,{"$f":"$C$10","v":0},null,null,null,null,0,8,{"$f":"$C$10","v":0},null,null,null,null,0,8,{"$f":"$C$10","v":0},null,null,null,null,0]
[null,9,{"$f":"$C$11","v":0},null,null,null,null,0,9,{"$f":"$C$11","v":0},null,null,null,null,0,9,{"$f":"$C$11","v":0},null,null,null,null,0,9,{"$f":"$C$11","v":0},null,null,null,null,0,9,{"$f":"$C$11","v":0},null,null,null,null,0]
[null,10,{"$f":"$C$12","v":0},null,null,null,null,0,10,{"$f":"$C$12","v":0},null,null,null,null,0,10,{"$f":"$C$12","v":0},null,null,null,null,0,10,{"$f":"$C$12","v":0},null,null,null,null,0,10,{"$f":"$C$12","v":0},null,null,null,null,0,null,null,"※印刷する際に拡大縮小の設定を95％にして印刷すること\n　上の「印刷する」ボタンを\n押すと95％で印刷します。"]
[null,11,{"$f":"$C$13","v":0},null,null,null,null,0,11,{"$f":"$C$13","v":0},null,null,null,null,0,11,{"$f":"$C$13","v":0},null,null,null,null,0,11,{"$f":"$C$13","v":0},null,null,null,null,0,11,{"$f":"$C$13","v":0},null,null,null,null,0]
[null,12,{"$f":"$C$14","v":0},null,null,null,null,0,12,{"$f":"$C$14","v":0},null,null,null,null,0,12,{"$f":"$C$14","v":0},null,null,null,null,0,12,{"$f":"$C$14","v":0},null,null,null,null,0,12,{"$f":"$C$14","v":0},null,null,null,null,0]
[null,13,{"$f":"$C$15","v":0},null,null,null,null,0,13,{"$f":"$C$15","v":0},null,null,null,null,0,13,{"$f":"$C$15","v":0},null,null,null,null,0,13,{"$f":"$C$15","v":0},null,null,null,null,0,13,{"$f":"$C$15","v":0},null,null,null,null,0]
[null,14,{"$f":"$C$16","v":0},null,null,null,null,0,14,{"$f":"$C$16","v":0},null,null,null,null,0,14,{"$f":"$C$16","v":0},null,null,null,null,0,14,{"$f":"$C$16","v":0},null,null,null,null,0,14,{"$f":"$C$16","v":0},null,null,null,null,0]
[null,15,{"$f":"$C$17","v":0},null,null,null,null,0,15,{"$f":"$C$17","v":0},null,null,null,null,0,15,{"$f":"$C$17","v":0},null,null,null,null,0,15,{"$f":"$C$17","v":0},null,null,null,null,0,15,{"$f":"$C$17","v":0},null,null,null,null,0]
[null," コーチ ：",null,{"$f":"$D$18","v":0},null,null,{"$f":"$G$18","v":{"$error":"#N/A"}},"サイン"," コーチ ：",null,{"$f":"$D$18","v":0},null,null,{"$f":"$G$18","v":{"$error":"#N/A"}},"サイン"," コーチ ：",null,{"$f":"$D$18","v":0},null,null,{"$f":"$G$18","v":{"$error":"#N/A"}},"サイン"," コーチ ：",null,{"$f":"$D$18","v":0},null,null,{"$f":"$G$18","v":{"$error":"#N/A"}},"サイン"," コーチ ：",null,{"$f":"$D$18","v":0},null,null,{"$f":"$G$18","v":{"$error":"#N/A"}},"サイン"]
[null," Aコーチ：",null,{"$f":"$D$19","v":0},null,null,{"$f":"$G$19","v":""},null," Aコーチ：",null,{"$f":"$D$19","v":0},null,null,{"$f":"$G$19","v":""},null," Aコーチ：",null,{"$f":"$D$19","v":0},null,null,{"$f":"$G$19","v":""},null," Aコーチ：",null,{"$f":"$D$19","v":0},null,null,{"$f":"$G$19","v":""},null," Aコーチ：",null,{"$f":"$D$19","v":0},null,null,{"$f":"$G$19","v":""}]

{"sheet":"メンバー票d","index":5,"n_rows":37,"n_cols":45,"rows_kept":37,"cut":false,"hidden":false,"merged":[[3,43,5,45],[1,17,1,18],[1,19,1,20],[1,24,1,25],[1,26,1,27],[1,31,1,32],[1,33,1,34],[0,1,0,7],[0,8,0,14],[1,3,1,4],[1,5,1,6],[1,10,1,11],[1,12,1,13],[2,23,2,25],[2,26,2,27],[2,30,2,32],[2,33,2,34],[3,2,3,4],[3,5,3,6],[3,9,3,11],[3,12,3,13],[3,16,3,18],[3,19,3,20],[2,2,2,4],[2,5,2,6],[2,9,2,11],[2,12,2,13],[2,16,2,18],[2,19,2,20],[3,23,3,25],[3,26,3,27],[3,30,3,32],[3,33,3,34],[4,33,4,34],[5,2,5,4],[5,5,5,6],[5,9,5,11],[5,12,5,13],[5,16,5,18],[5,19,5,20],[5,23,5,25],[5,26,5,27],[5,30,5,32],[5,33,5,34],[4,2,4,4],[4,5,4,6],[4,9,4,11],[4,12,4,13],[4,16,4,18],[4,19,4,20],[4,23,4,25],[4,26,4,27],[4,30,4,32],[6,33,6,34],[7,2,7,4],[7,5,7,6],[7,9,7,11],[7,12,7,13],[7,16,7,18],[7,19,7,20],[7,23,7,25],[7,26,7,27],[7,30,7,32],[7,33,7,34],[6,2,6,4],[6,5,6,6],[6,9,6,11],[6,12,6,13],[6,16,6,18],[6,19,6,20],[6,23,6,25],[6,26,6,27],[6,30,6,32],[8,33,8,34],[9,2,9,4],[9,5,9,6],[9,9,9,11],[9,12,9,13],[9,16,9,18],[9,19,9,20],[9,23,9,25],[9,26,9,27],[9,30,9,32],[9,33,9,34],[8,2,8,4],[8,5,8,6],[8,9,8,11],[8,12,8,13],[8,16,8,18],[8,19,8,20],[8,23,8,25],[8,26,8,27],[8,30,8,32],[10,33,10,34],[11,2,11,4],[11,5,11,6],[11,9,11,11],[11,12,11,13],[11,16,11,18],[11,19,11,20],[11,23,11,25],[11,26,11,27],[11,30,11,32],[11,33,11,34],[10,2,10,4],[10,5,10,6],[10,9,10,11],[10,12,10,13],[10,16,10,18],[10,19,10,20],[10,23,10,25],[10,26,10,27],[10,30,10,32],[12,33,12,34],[13,2,13,4],[13,5,13,6],[13,9,13,11],[13,12,13,13],[13,16,13,18],[13,19,13,20],[13,23,13,25],[13,26,13,27],[13,30,13,32],[13,33,13,34],[12,2,12,4],[12,5,12,6],[12,9,12,11],[12,12,12,13],[12,16,12,18],[12,19,12,20],[12,23,12,25],[12,26,12,27],[12,30,12,32],[14,33,14,34],[15,2,15,4],[15,5,15,6],[15,9,15,11],[15,12,15,13],[15,16,15,18],[15,19,15,20],[15,23,15,25],[15,26,15,27],[15,30,15,32],[15,33,15,34],[14,2,14,4],[14,5,14,6],[14,9,14,11],[14,12,14,13],[14,16,14,18],[14,19,14,20],[14,23,14,25],[14,26,14,27],[14,30,14,32],[16,33,16,34],[17,1,17,2],[17,3,17,5],[17,8,17,9],[17,10,17,12],[17,15,17,16],[17,17,17,19],[17,22,17,23],[17,24,17,26],[17,29,17,30],[17,31,17,33],[16,2,16,4],[16,5,16,6],[16,9,16,11],[16,12,16,13],[16,16,16,18],[16,19,16,20],[16,23,16,25],[16,26,16,27],[16,30,16,32],[18,1,18,2],[18,3,18,5],[18,8,18,9],[18,10,18,12],[18,15,18,16],[18,17,18,19],[18,22,18,23],[18,24,18,26],[18,29,18,30],[18,31,18,33],[19,3,19,4],[19,5,19,6],[19,10,19,11],[19,12,19,13],[19,17,19,18],[19,19,19,20],[19,24,19,25],[19,26,19,27],[19,31,19,32],[19,33,19,34],[20,33,20,34],[21,2,21,4],[21,5,21,6],[21,9,21,11],[21,12,21,13],[21,16,21,18],[21,19,21,20],[21,23,21,25],[21,26,21,27],[21,30,21,32],[21,33,21,34],[20,2,20,4],[20,5,20,6],[20,9,20,11],[20,12,20,13],[20,16,20,18],[20,19,20,20],[20,23,20,25],[20,26,20,27],[20,30,20,32],[22,33,22,34],[23,2,23,4],[23,5,23,6],[23,9,23,11],[23,12,23,13],[23,16,23,18],[23,19,23,20],[23,23,23,25],[23,26,23,27],[23,30,23,32],[23,33,23,34],[22,2,22,4],[22,5,22,6],[22,9,22,11],[22,12,22,13],[22,16,22,18],[22,19,22,20],[22,23,22,25],[22,26,22,27],[22,30,22,32],[24,33,24,34],[25,2,25,4],[25,5,25,6],[25,9,25,11],[25,12,25,13],[25,16,25,18],[25,19,25,20],[25,23,25,25],[25,26,25,27],[25,30,25,32],[25,33,25,34],[24,2,24,4],[24,5,24,6],[24,9,24,11],[24,12,24,13],[24,16,24,18],[24,19,24,20],[24,23,24,25],[24,26,24,27],[24,30,24,32],[26,33,26,34],[27,2,27,4],[27,5,27,6],[27,9,27,11],[27,12,27,13],[27,16,27,18],[27,19,27,20],[27,23,27,25],[27,26,27,27],[27,30,27,32],[27,33,27,34],[26,2,26,4],[26,5,26,6],[26,9,26,11],[26,12,26,13],[26,16,26,18],[26,19,26,20],[26,23,26,25],[26,26,26,27],[26,30,26,32],[28,33,28,34],[29,2,29,4],[29,5,29,6],[29,9,29,11],[29,12,29,13],[29,16,29,18],[29,19,29,20],[29,23,29,25],[29,26,29,27],[29,30,29,32],[29,33,29,34],[28,2,28,4],[28,5,28,6],[28,9,28,11],[28,12,28,13],[28,16,28,18],[28,19,28,20],[28,23,28,25],[28,26,28,27],[28,30,28,32],[29,38,34,42],[30,2,30,4],[30,5,30,6],[30,9,30,11],[30,12,30,13],[30,16,30,18],[30,19,30,20],[30,23,30,25],[30,26,30,27],[30,30,30,32],[30,33,30,34],[31,2,31,4],[31,5,31,6],[31,9,31,11],[31,12,31,13],[31,16,31,18],[31,19,31,20],[31,23,31,25],[31,26,31,27],[31,30,31,32],[31,33,31,34],[32,2,32,4],[32,5,32,6],[32,9,32,11],[32,12,32,13],[32,16,32,18],[32,19,32,20],[32,23,32,25],[32,26,32,27],[32,30,32,32],[32,33,32,34],[33,2,33,4],[33,5,33,6],[33,9,33,11],[33,12,33,13],[33,16,33,18],[33,19,33,20],[33,23,33,25],[33,26,33,27],[33,30,33,32],[33,33,33,34],[34,33,34,34],[35,1,35,2],[35,3,35,5],[35,8,35,9],[35,10,35,12],[35,15,35,16],[35,17,35,19],[35,22,35,23],[35,24,35,26],[35,29,35,30],[35,31,35,33],[34,2,34,4],[34,5,34,6],[34,9,34,11],[34,12,34,13],[34,16,34,18],[34,19,34,20],[34,23,34,25],[34,26,34,27],[34,30,34,32],[36,31,36,33],[37,1,37,7],[37,8,37,14],[37,15,37,20],[37,22,37,27],[37,29,37,34],[36,1,36,2],[36,3,36,5],[36,8,36,9],[36,10,36,12],[36,15,36,16],[36,17,36,19],[36,22,36,23],[36,24,36,26],[36,29,36,30]]}
["d"]
[null,null,null,{"$f":"入力欄!B8&入力欄!E8","v":""},null,{"$f":"入力欄!B19","v":0},null,"No.",null,null,{"$f":"$D$2","v":""},null,{"$f":"$F$2","v":0},null,"No.",null,null,{"$f":"$D$2","v":""},null,{"$f":"$F$2","v":0},null,"No.",null,null,{"$f":"$D$2","v":""},null,{"$f":"$F$2","v":0},null,"No.",null,null,{"$f":"$D$2","v":""},null,{"$f":"$F$2","v":0},null,"No."]
[null,1,{"$f":"AN3","v":0},null,null,null,null,{"$f":"IF(AM3=\"*\",\"\",IF(AM3=100,\"00\",AM3))","v":0},1,{"$f":"$C$3","v":0},null,null,null,null,{"$f":"$H3","v":0},1,{"$f":"$C$3","v":0},null,null,null,null,{"$f":"$H3","v":0},1,{"$f":"$C$3","v":0},null,null,null,null,{"$f":"$H3","v":0},1,{"$f":"$C$3","v":0},null,null,null,null,{"$f":"$H3","v":0},null,null,null,null,null,{"$f":"入力欄!B38","v":0},{"$f":"入力欄!J38","v":0},null,{"$f":"IF($AM3=\"\",\"\",IF(ISNA(MATCH($AM3,AV$3:AV$28,0)),\"\",INDEX(AU$3:AU$28,MATCH(AR3,AV$3:AV$28,0))))","v":""}]
[null,2,{"$f":"AN4","v":0},null,null,null,null,0,2,{"$f":"$C$4","v":0},null,null,null,null,{"$f":"$H4","v":0},2,{"$f":"$C$4","v":0},null,null,null,null,{"$f":"$H4","v":0},2,{"$f":"$C$4","v":0},null,null,null,null,{"$f":"$H4","v":0},2,{"$f":"$C$4","v":0},null,null,null,null,{"$f":"$H4","v":0},null,null,null,null,null,{"$f":"入力欄!B39","v":0},{"$f":"入力欄!J39","v":0},"ユニフォームNo.は\n『0』と『00』は同時に\n使用できません。"]
[null,3,0,null,null,null,null,0,3,{"$f":"$C$5","v":0},null,null,null,null,0,3,{"$f":"$C$5","v":0},null,null,null,null,0,3,{"$f":"$C$5","v":0},null,null,null,null,0,3,{"$f":"$C$5","v":0},null,null,null,null,0,null,null,null,null,null,{"$f":"入力欄!B40","v":0},{"$f":"入力欄!J40","v":0}]
[null,4,0,null,null,null,null,0,4,{"$f":"$C$6","v":0},null,null,null,null,0,4,{"$f":"$C$6","v":0},null,null,null,null,0,4,{"$f":"$C$6","v":0},null,null,null,null,0,4,{"$f":"$C$6","v":0},null,null,null,null,0,null,null,null,null,null,{"$f":"入力欄!B41","v":0},{"$f":"入力欄!J41","v":0}]
[null,5,0,null,null,null,null,0,5,{"$f":"$C$7","v":0},null,null,null,null,0,5,{"$f":"$C$7","v":0},null,null,null,null,0,5,{"$f":"$C$7","v":0},null,null,null,null,0,5,{"$f":"$C$7","v":0},null,null,null,null,0,null,null,null,null,null,{"$f":"入力欄!B42","v":0},{"$f":"入力欄!J42","v":0}]
[null,6,{"$f":"IF(AM8=\"*\",\"\",AN8)","v":0},null,null,null,null,0,6,{"$f":"$C$8","v":0},null,null,null,null,0,6,{"$f":"$C$8","v":0},null,null,null,null,0,6,{"$f":"$C$8","v":0},null,null,null,null,0,6,{"$f":"$C$8","v":0},null,null,null,null,0,null,null,null,null,null,{"$f":"入力欄!B43","v":0},{"$f":"入力欄!J43","v":0}]
[null,7,{"$f":"IF(AM9=\"*\",\"\",AN9)","v":0},null,null,null,null,0,7,{"$f":"$C$9","v":0},null,null,null,null,0,7,{"$f":"$C$9","v":0},null,null,null,null,0,7,{"$f":"$C$9","v":0},null,null,null,null,0,7,{"$f":"$C$9","v":0},null,null,null,null,0,null,null,null,null,null,{"$f":"入力欄!B44","v":0},{"$f":"入力欄!J44","v":0}]
[null,8,0,null,null,null,null,0,8,{"$f":"$C$10","v":0},null,null,null,null,0,8,{"$f":"$C$10","v":0},null,null,null,null,0,8,{"$f":"$C$10","v":0},null,null,null,null,0,8,{"$f":"$C$10","v":0},null,null,null,null,0,null,null,null,null,null,{"$f":"入力欄!B45","v":0},{"$f":"入力欄!J45","v":0}]
[null,9,0,null,null,null,null,0,9,{"$f":"$C$11","v":0},null,null,null,null,0,9,{"$f":"$C$11","v":0},null,null,null,null,0,9,{"$f":"$C$11","v":0},null,null,null,null,0,9,{"$f":"$C$11","v":0},null,null,null,null,0,null,null,null,null,null,{"$f":"入力欄!B46","v":0},{"$f":"入力欄!J46","v":0}]
[null,10,0,null,null,null,null,0,10,{"$f":"$C$12","v":0},null,null,null,null,0,10,{"$f":"$C$12","v":0},null,null,null,null,0,10,{"$f":"$C$12","v":0},null,null,null,null,0,10,{"$f":"$C$12","v":0},null,null,null,null,0,null,null,null,null,null,{"$f":"入力欄!B47","v":0},{"$f":"入力欄!J47","v":0}]
[null,11,0,null,null,null,null,0,11,{"$f":"$C$13","v":0},null,null,null,null,0,11,{"$f":"$C$13","v":0},null,null,null,null,0,11,{"$f":"$C$13","v":0},null,null,null,null,0,11,{"$f":"$C$13","v":0},null,null,null,null,0,null,null,null,null,null,{"$f":"入力欄!B48","v":0},{"$f":"入力欄!J48","v":0}]
[null,12,0,null,null,null,null,0,12,{"$f":"$C$14","v":0},null,null,null,null,0,12,{"$f":"$C$14","v":0},null,null,null,null,0,12,{"$f":"$C$14","v":0},null,null,null,null,0,12,{"$f":"$C$14","v":0},null,null,null,null,0,null,null,null,null,null,{"$f":"入力欄!B49","v":0},{"$f":"入力欄!J49","v":0}]
[null,13,0,null,null,null,null,0,13,{"$f":"$C$15","v":0},null,null,null,null,0,13,{"$f":"$C$15","v":0},null,null,null,null,0,13,{"$f":"$C$15","v":0},null,null,null,null,0,13,{"$f":"$C$15","v":0},null,null,null,null,0,null,null,null,null,null,{"$f":"入力欄!B50","v":0},{"$f":"入力欄!J50","v":0}]
[null,14,0,null,null,null,null,0,14,{"$f":"$C$16","v":0},null,null,null,null,0,14,{"$f":"$C$16","v":0},null,null,null,null,0,14,{"$f":"$C$16","v":0},null,null,null,null,0,14,{"$f":"$C$16","v":0},null,null,null,null,0,null,null,null,null,null,{"$f":"入力欄!B51","v":0},{"$f":"入力欄!J51","v":0}]
[null,15,0,null,null,null,null,{"$f":"IF(AM17=\"*\",\"\",IF(AM17=100,\"00\",AM17))","v":0},15,{"$f":"$C$17","v":0},null,null,null,null,0,15,{"$f":"$C$17","v":0},null,null,null,null,0,15,{"$f":"$C$17","v":0},null,null,null,null,0,15,{"$f":"$C$17","v":0},null,null,null,null,0,null,null,null,null,null,{"$f":"入力欄!B52","v":0},{"$f":"入力欄!J52","v":0}]
[null," コーチ ：",null,{"$f":"入力欄!B21","v":0},null,null,{"$f":"入力欄!D22","v":{"$error":"#N/A"}},"サイン"," コーチ ：",null,{"$f":"$D$18","v":0},null,null,{"$f":"$G$18","v":{"$error":"#N/A"}},"サイン"," コーチ ：",null,{"$f":"$D$18","v":0},null,null,{"$f":"$G$18","v":{"$error":"#N/A"}},"サイン"," コーチ ：",null,{"$f":"$D$18","v":0},null,null,{"$f":"$G$18","v":{"$error":"#N/A"}},"サイン"," コーチ ：",null,{"$f":"$D$18","v":0},null,null,{"$f":"$G$18","v":{"$error":"#N/A"}},"サイン",null,null,null,null,null,{"$f":"入力欄!B53","v":0},{"$f":"入力欄!J53","v":0}]
[null," Aコーチ：",null,{"$f":"入力欄!B26","v":0},null,null,{"$f":"IF(入力欄!B27=\"\",\"\",入力欄!D27)","v":""},null," Aコーチ：",null,{"$f":"$D$19","v":0},null,null,{"$f":"$G$19","v":""},null," Aコーチ：",null,{"$f":"$D$19","v":0},null,null,{"$f":"$G$19","v":""},null," Aコーチ：",null,{"$f":"$D$19","v":0},null,null,{"$f":"$G$19","v":""},null," Aコーチ：",null,{"$f":"$D$19","v":0},null,null,{"$f":"$G$19","v":""},null,null,null,null,null,null,{"$f":"入力欄!B54","v":0},{"$f":"入力欄!J54","v":0}]
[null,null,null,{"$f":"$D$2","v":""},null,{"$f":"$F$2","v":0},null,"No.",null,null,{"$f":"$D$2","v":""},null,{"$f":"$F$2","v":0},null,"No.",null,null,{"$f":"$D$2","v":""},null,{"$f":"$F$2","v":0},null,"No.",null,null,{"$f":"$D$2","v":""},null,{"$f":"$F$2","v":0},null,"No.",null,null,{"$f":"$D$2","v":""},null,{"$f":"$F$2","v":0},null,"No.",null,null,null,null,null,{"$f":"入力欄!B55","v":0},{"$f":"入力欄!J55","v":0}]
[null,1,{"$f":"$C$3","v":0},null,null,null,null,{"$f":"H3","v":0},1,{"$f":"$C$3","v":0},null,null,null,null,{"$f":"H3","v":0},1,{"$f":"$C$3","v":0},null,null,null,null,{"$f":"O3","v":0},1,{"$f":"$C$3","v":0},null,null,null,null,{"$f":"V3","v":0},1,{"$f":"$C$3","v":0},null,null,null,null,{"$f":"$H21","v":0},null,null,null,null,null,{"$f":"入力欄!B56","v":0},{"$f":"入力欄!J56","v":0}]
[null,2,{"$f":"$C$4","v":0},null,null,null,null,{"$f":"H4","v":0},2,{"$f":"$C$4","v":0},null,null,null,null,{"$f":"H4","v":0},2,{"$f":"$C$4","v":0},null,null,null,null,{"$f":"O4","v":0},2,{"$f":"$C$4","v":0},null,null,null,null,{"$f":"V4","v":0},2,{"$f":"$C$4","v":0},null,null,null,null,{"$f":"$H22","v":0},null,null,null,null,null,{"$f":"入力欄!B57","v":0},{"$f":"入力欄!J57","v":0}]
[null,3,{"$f":"$C$5","v":0},null,null,null,null,0,3,{"$f":"$C$5","v":0},null,null,null,null,0,3,{"$f":"$C$5","v":0},null,null,null,null,0,3,{"$f":"$C$5","v":0},null,null,null,null,0,3,{"$f":"$C$5","v":0},null,null,null,null,0,null,null,null,null,null,{"$f":"入力欄!B58","v":0},{"$f":"入力欄!J58","v":0}]
[null,4,{"$f":"$C$6","v":0},null,null,null,null,0,4,{"$f":"$C$6","v":0},null,null,null,null,0,4,{"$f":"$C$6","v":0},null,null,null,null,0,4,{"$f":"$C$6","v":0},null,null,null,null,0,4,{"$f":"$C$6","v":0},null,null,null,null,0,null,null,null,null,null,{"$f":"入力欄!B59","v":0},{"$f":"入力欄!J59","v":0}]
[null,5,{"$f":"$C$7","v":0},null,null,null,null,0,5,{"$f":"$C$7","v":0},null,null,null,null,0,5,{"$f":"$C$7","v":0},null,null,null,null,0,5,{"$f":"$C$7","v":0},null,null,null,null,0,5,{"$f":"$C$7","v":0},null,null,null,null,0,null,null,null,null,null,{"$f":"入力欄!B60","v":0},{"$f":"入力欄!J60","v":0}]
[null,6,{"$f":"$C$8","v":0},null,null,null,null,0,6,{"$f":"$C$8","v":0},null,null,null,null,0,6,{"$f":"$C$8","v":0},null,null,null,null,0,6,{"$f":"$C$8","v":0},null,null,null,null,0,6,{"$f":"$C$8","v":0},null,null,null,null,0,null,null,null,null,null,{"$f":"入力欄!B61","v":0},{"$f":"入力欄!J61","v":0}]
[null,7,{"$f":"$C$9","v":0},null,null,null,null,0,7,{"$f":"$C$9","v":0},null,null,null,null,0,7,{"$f":"$C$9","v":0},null,null,null,null,0,7,{"$f":"$C$9","v":0},null,null,null,null,0,7,{"$f":"$C$9","v":0},null,null,null,null,0,null,null,null,null,null,{"$f":"入力欄!B62","v":0},{"$f":"入力欄!J62","v":0}]
[null,8,{"$f":"$C$10","v":0},null,null,null,null,0,8,{"$f":"$C$10","v":0},null,null,null,null,0,8,{"$f":"$C$10","v":0},null,null,null,null,0,8,{"$f":"$C$10","v":0},null,null,null,null,0,8,{"$f":"$C$10","v":0},null,null,null,null,0]
[null,9,{"$f":"$C$11","v":0},null,null,null,null,0,9,{"$f":"$C$11","v":0},null,null,null,null,0,9,{"$f":"$C$11","v":0},null,null,null,null,0,9,{"$f":"$C$11","v":0},null,null,null,null,0,9,{"$f":"$C$11","v":0},null,null,null,null,0]
[null,10,{"$f":"$C$12","v":0},null,null,null,null,0,10,{"$f":"$C$12","v":0},null,null,null,null,0,10,{"$f":"$C$12","v":0},null,null,null,null,0,10,{"$f":"$C$12","v":0},null,null,null,null,0,10,{"$f":"$C$12","v":0},null,null,null,null,0,null,null,"※印刷する際に拡大縮小の設定を95％にして印刷すること\n　上の「印刷する」ボタンを\n押すと95％で印刷します。"]
[null,11,{"$f":"$C$13","v":0},null,null,null,null,0,11,{"$f":"$C$13","v":0},null,null,null,null,0,11,{"$f":"$C$13","v":0},null,null,null,null,0,11,{"$f":"$C$13","v":0},null,null,null,null,0,11,{"$f":"$C$13","v":0},null,null,null,null,0]
[null,12,{"$f":"$C$14","v":0},null,null,null,null,0,12,{"$f":"$C$14","v":0},null,null,null,null,0,12,{"$f":"$C$14","v":0},null,null,null,null,0,12,{"$f":"$C$14","v":0},null,null,null,null,0,12,{"$f":"$C$14","v":0},null,null,null,null,0]
[null,13,{"$f":"$C$15","v":0},null,null,null,null,0,13,{"$f":"$C$15","v":0},null,null,null,null,0,13,{"$f":"$C$15","v":0},null,null,null,null,0,13,{"$f":"$C$15","v":0},null,null,null,null,0,13,{"$f":"$C$15","v":0},null,null,null,null,0]
[null,14,{"$f":"$C$16","v":0},null,null,null,null,0,14,{"$f":"$C$16","v":0},null,null,null,null,0,14,{"$f":"$C$16","v":0},null,null,null,null,0,14,{"$f":"$C$16","v":0},null,null,null,null,0,14,{"$f":"$C$16","v":0},null,null,null,null,0]
[null,15,{"$f":"$C$17","v":0},null,null,null,null,0,15,{"$f":"$C$17","v":0},null,null,null,null,0,15,{"$f":"$C$17","v":0},null,null,null,null,0,15,{"$f":"$C$17","v":0},null,null,null,null,0,15,{"$f":"$C$17","v":0},null,null,null,null,0]
[null," コーチ ：",null,{"$f":"$D$18","v":0},null,null,{"$f":"$G$18","v":{"$error":"#N/A"}},"サイン"," コーチ ：",null,{"$f":"$D$18","v":0},null,null,{"$f":"$G$18","v":{"$error":"#N/A"}},"サイン"," コーチ ：",null,{"$f":"$D$18","v":0},null,null,{"$f":"$G$18","v":{"$error":"#N/A"}},"サイン"," コーチ ：",null,{"$f":"$D$18","v":0},null,null,{"$f":"$G$18","v":{"$error":"#N/A"}},"サイン"," コーチ ：",null,{"$f":"$D$18","v":0},null,null,{"$f":"$G$18","v":{"$error":"#N/A"}},"サイン"]
[null," Aコーチ：",null,{"$f":"$D$19","v":0},null,null,{"$f":"$G$19","v":""},null," Aコーチ：",null,{"$f":"$D$19","v":0},null,null,{"$f":"$G$19","v":""},null," Aコーチ：",null,{"$f":"$D$19","v":0},null,null,{"$f":"$G$19","v":""},null," Aコーチ：",null,{"$f":"$D$19","v":0},null,null,{"$f":"$G$19","v":""},null," Aコーチ：",null,{"$f":"$D$19","v":0},null,null,{"$f":"$G$19","v":""}]

{"sheet":"個人情報","index":6,"n_rows":47,"n_cols":66,"rows_kept":47,"cut":false,"hidden":false,"merged":[[42,0,42,28],[43,0,44,10],[43,17,43,19],[45,5,45,13],[45,16,45,24],[46,6,46,13],[46,15,46,16],[46,17,46,24],[46,26,46,27],[39,0,39,1],[39,2,39,10],[39,11,39,13],[39,14,39,17],[39,18,39,28],[40,0,40,1],[40,2,40,10],[40,11,40,13],[40,14,40,17],[40,18,40,28],[37,0,37,1],[37,2,37,10],[37,11,37,13],[37,14,37,17],[37,18,37,28],[38,0,38,1],[38,2,38,10],[38,11,38,13],[38,14,38,17],[38,18,38,28],[35,0,35,1],[35,2,35,10],[35,11,35,13],[35,14,35,17],[35,18,35,28],[36,0,36,1],[36,2,36,10],[36,11,36,13],[36,14,36,17],[36,18,36,28],[33,0,33,1],[33,2,33,7],[33,8,33,10],[33,11,33,13],[33,14,33,17],[33,18,33,28],[32,0,32,1],[32,2,32,7],[32,8,32,10],[32,11,32,13],[32,14,32,17],[32,18,32,28],[31,0,31,1],[31,2,31,7],[31,8,31,10],[31,11,31,13],[31,14,31,17],[31,18,31,28],[30,0,30,1],[30,2,30,7],[30,8,30,10],[30,11,30,13],[30,14,30,17],[30,18,30,28],[29,0,29,1],[29,2,29,7],[29,8,29,10],[29,11,29,13],[29,14,29,17],[29,18,29,28],[28,0,28,1],[28,2,28,7],[28,8,28,10],[28,11,28,13],[28,14,28,17],[28,18,28,28],[27,0,27,1],[27,2,27,7],[27,8,27,10],[27,11,27,13],[27,14,27,17],[27,18,27,28],[26,0,26,1],[26,2,26,7],[26,8,26,10],[26,11,26,13],[26,14,26,17],[26,18,26,28],[25,0,25,1],[25,2,25,7],[25,8,25,10],[25,11,25,13],[25,14,25,17],[25,18,25,28],[24,0,24,1],[24,2,24,7],[24,8,24,10],[24,11,24,13],[24,14,24,17],[24,18,24,28],[23,0,23,1],[23,2,23,7],[23,8,23,10],[23,11,23,13],[23,14,23,17],[23,18,23,28],[22,0,22,1],[22,2,22,7],[22,8,22,10],[22,11,22,13],[22,14,22,17],[22,18,22,28],[20,31,21,34],[21,0,21,1],[21,2,21,7],[21,8,21,10],[21,11,21,13],[21,14,21,17],[21,18,21,28],[20,0,20,1],[20,2,20,7],[20,8,20,10],[20,11,20,13],[20,14,20,17],[20,18,20,28],[19,0,19,1],[19,2,19,7],[19,8,19,10],[19,11,19,13],[19,14,19,17],[19,18,19,28],[18,0,18,1],[18,2,18,7],[18,8,18,10],[18,11,18,13],[18,14,18,17],[18,18,18,28],[17,0,17,1],[17,2,17,7],[17,8,17,10],[17,11,17,13],[17,14,17,17],[17,18,17,28],[16,0,16,1],[16,2,16,7],[16,8,16,10],[16,11,16,13],[16,14,16,17],[16,18,16,28],[15,0,15,1],[15,2,15,7],[15,8,15,10],[15,11,15,13],[15,14,15,17],[15,18,15,28],[14,0,14,1],[14,2,14,7],[14,8,14,10],[14,11,14,13],[14,14,14,17],[14,18,14,28],[13,0,13,1],[13,2,13,7],[13,8,13,10],[13,11,13,13],[13,14,13,17],[13,18,13,28],[12,0,12,1],[12,2,12,7],[12,8,12,10],[12,11,12,13],[12,14,12,17],[12,18,12,28],[11,0,11,1],[11,2,11,7],[11,8,11,10],[11,11,11,13],[11,14,11,17],[11,18,11,28],[9,18,9,28],[10,0,10,1],[10,2,10,7],[10,8,10,10],[10,11,10,13],[10,14,10,17],[10,18,10,28],[8,0,8,1],[8,2,8,10],[8,11,8,13],[8,14,8,17],[8,18,8,28],[9,0,9,1],[9,2,9,7],[9,8,9,10],[9,11,9,13],[9,14,9,17],[5,0,6,3],[5,4,6,16],[5,17,5,19],[5,20,5,28],[6,17,6,19],[6,20,6,28],[0,1,0,3],[2,14,2,16],[2,17,2,19],[2,20,2,28],[3,14,3,16],[3,17,3,19],[3,20,3,28]]}
[null,{"$f":"参加申込!A1","v":2020},null,null,"年度",null,null,{"$f":"入力欄!A1","v":"全国U15バスケットボール選手権大会香川県予選会"}]
[null,null,null,null,null,null,null,"個人情報の取り扱いに関する申請書"]
[null,null,null,null,null,null,null,null,null,null,null,null,null,null,"地区",null,null,"性別",null,null,"チームＩＤ"]
[null,null,null,null,null,null,null,null,null,null,null,null,null,null,{"$f":"入力欄!B18","v":0},null,null,{"$f":"入力欄!B19","v":0},null,null,{"$f":"IF(入力欄!E7=\"\",入力欄!B11,入力欄!B11&\"，\"&入力欄!E11)","v":0}]
[]
["チーム名",null,null,null,{"$f":"IF(入力欄!E7=\"\",入力欄!B7,入力欄!B7&\"，\"&入力欄!E7)","v":0},null,null,null,null,null,null,null,null,null,null,null,null,"住所",null,null,{"$f":"IF(入力欄!E7=\"\",入力欄!B9,入力欄!B9&\"，\"&入力欄!E9)","v":0},null,null,null,null,null,null,null,null,"個人情報の取扱について部員に確認する場合は『個人情報確認』のシートのプリントを利用してくださっても結構です。"]
[null,null,null,null,null,null,null,null,null,null,null,null,null,null,null,null,null,"電話",null,null,{"$f":"IF(入力欄!E7=\"\",入力欄!B10,入力欄!B10&\"，\"&入力欄!E10)","v":0}]
[]
["No.",null,"選　手　氏　名",null,null,null,null,null,null,null,null,"学年",null,null,"配慮が必要",null,null,null,"配慮する内容",null,null,null,null,null,null,null,null,null,null,null,null,null,null,null,null,null,null,null,null,null,null,null,"○"]
[1,null,{"$f":"IF(入力欄!B38=\"\",\"\",入力欄!B38)","v":""},null,null,null,null,null,{"$f":"IF(入力欄!K38=\"\",\"\",入力欄!K38)","v":""},null,null,{"$f":"IF(入力欄!C38=\"\",\"\",入力欄!C38)","v":""},null,null,null,null,null,null,null,null,null,null,null,null,null,null,null,null,null,"←配慮が必要な選手の欄に○をつけ、配慮する内容を番号で選択(複数可)するか、配慮事項を記入してください。"]
[2,null,{"$f":"IF(入力欄!B39=\"\",\"\",入力欄!B39)","v":""},null,null,null,null,null,{"$f":"IF(入力欄!K39=\"\",\"\",入力欄!K39)","v":""},null,null,{"$f":"IF(入力欄!C39=\"\",\"\",入力欄!C39)","v":""},null,null,null,null,null,null,null,null,null,null,null,null,null,null,null,null,null,"① プログラムに個人名・学年・身長を掲載しない(チーム集合写真は各チームで配慮してください)。"]
[3,null,{"$f":"IF(入力欄!B40=\"\",\"\",入力欄!B40)","v":""},null,null,null,null,null,{"$f":"IF(入力欄!K40=\"\",\"\",入力欄!K40)","v":""},null,null,{"$f":"IF(入力欄!C40=\"\",\"\",入力欄!C40)","v":""},null,null,null,null,null,null,null,null,null,null,null,null,null,null,null,null,null,"② 新聞社に個人名を提供しない。"]
[4,null,{"$f":"IF(入力欄!B41=\"\",\"\",入力欄!B41)","v":""},null,null,null,null,null,{"$f":"IF(入力欄!K41=\"\",\"\",入力欄!K41)","v":""},null,null,{"$f":"IF(入力欄!C41=\"\",\"\",入力欄!C41)","v":""},null,null,null,null,null,null,null,null,null,null,null,null,null,null,null,null,null,"③A 新聞社の写真に掲載されないようにする。"]
[5,null,{"$f":"IF(入力欄!B42=\"\",\"\",入力欄!B42)","v":""},null,null,null,null,null,{"$f":"IF(入力欄!K42=\"\",\"\",入力欄!K42)","v":""},null,null,{"$f":"IF(入力欄!C42=\"\",\"\",入力欄!C42)","v":""},null,null,null,null,null,null,null,null,null,null,null,null,null,null,null,null,null,"③Ｂ 新聞社の写真に個人が特定されないようにする。"]
[6,null,{"$f":"IF(入力欄!B43=\"\",\"\",入力欄!B43)","v":""},null,null,null,null,null,{"$f":"IF(入力欄!K43=\"\",\"\",入力欄!K43)","v":""},null,null,{"$f":"IF(入力欄!C43=\"\",\"\",入力欄!C43)","v":""},null,null,null,null,null,null,null,null,null,null,null,null,null,null,null,null,null,"④ 協会ホームページに個人名を掲載しない。"]
[7,null,{"$f":"IF(入力欄!B44=\"\",\"\",入力欄!B44)","v":""},null,null,null,null,null,{"$f":"IF(入力欄!K44=\"\",\"\",入力欄!K44)","v":""},null,null,{"$f":"IF(入力欄!C44=\"\",\"\",入力欄!C44)","v":""},null,null,null,null,null,null,null,null,null,null,null,null,null,null,null,null,null,"⑤A 協会ホームページの写真に掲載されないようにする。"]
[8,null,{"$f":"IF(入力欄!B45=\"\",\"\",入力欄!B45)","v":""},null,null,null,null,null,{"$f":"IF(入力欄!K45=\"\",\"\",入力欄!K45)","v":""},null,null,{"$f":"IF(入力欄!C45=\"\",\"\",入力欄!C45)","v":""},null,null,null,null,null,null,null,null,null,null,null,null,null,null,null,null,null,"⑤B 協会ホームページの写真に個人が特定されないようにする。"]
[9,null,{"$f":"IF(入力欄!B46=\"\",\"\",入力欄!B46)","v":""},null,null,null,null,null,{"$f":"IF(入力欄!K46=\"\",\"\",入力欄!K46)","v":""},null,null,{"$f":"IF(入力欄!C46=\"\",\"\",入力欄!C46)","v":""},null,null,null,null,null,null,null,null,null,null,null,null,null,null,null,null,null,"⑥ 協会からの求めがあっても、推薦資料を提供しない。"]
[10,null,{"$f":"IF(入力欄!B47=\"\",\"\",入力欄!B47)","v":""},null,null,null,null,null,{"$f":"IF(入力欄!K47=\"\",\"\",入力欄!K47)","v":""},null,null,{"$f":"IF(入力欄!C47=\"\",\"\",入力欄!C47)","v":""},null,null,null,null,null,null,null,null,null,null,null,null,null,null,null,null,null,"◎ メンバー票に載せないことはできません。"]
[11,null,{"$f":"IF(入力欄!B48=\"\",\"\",入力欄!B48)","v":""},null,null,null,null,null,{"$f":"IF(入力欄!K48=\"\",\"\",入力欄!K48)","v":""},null,null,{"$f":"IF(入力欄!C48=\"\",\"\",入力欄!C48)","v":""}]
[12,null,{"$f":"IF(入力欄!B49=\"\",\"\",入力欄!B49)","v":""},null,null,null,null,null,{"$f":"IF(入力欄!K49=\"\",\"\",入力欄!K49)","v":""},null,null,{"$f":"IF(入力欄!C49=\"\",\"\",入力欄!C49)","v":""},null,null,null,null,null,null,null,null,null,null,null,null,null,null,null,null,null,null,null,"個人情報の取り扱いについて"]
[13,null,{"$f":"IF(入力欄!B50=\"\",\"\",入力欄!B50)","v":""},null,null,null,null,null,{"$f":"IF(入力欄!K50=\"\",\"\",入力欄!K50)","v":""},null,null,{"$f":"IF(入力欄!C50=\"\",\"\",入力欄!C50)","v":""}]
[14,null,{"$f":"IF(入力欄!B51=\"\",\"\",入力欄!B51)","v":""},null,null,null,null,null,{"$f":"IF(入力欄!K51=\"\",\"\",入力欄!K51)","v":""},null,null,{"$f":"IF(入力欄!C51=\"\",\"\",入力欄!C51)","v":""},null,null,null,null,null,null,null,null,null,null,null,null,null,null,null,null,null,null,"　参加申込によって得た個人情報は原則として、大会の運営に関することのみに利用します。"]
[15,null,{"$f":"IF(入力欄!B52=\"\",\"\",入力欄!B52)","v":""},null,null,null,null,null,{"$f":"IF(入力欄!K52=\"\",\"\",入力欄!K52)","v":""},null,null,{"$f":"IF(入力欄!C52=\"\",\"\",入力欄!C52)","v":""},null,null,null,null,null,null,null,null,null,null,null,null,null,null,null,null,null,null,"ただし、以下の場合に個人情報を公開および提供することがあります。"]
[16,null,{"$f":"IF(入力欄!B53=\"\",\"\",入力欄!B53)","v":""},null,null,null,null,null,{"$f":"IF(入力欄!K53=\"\",\"\",入力欄!K53)","v":""},null,null,{"$f":"IF(入力欄!C53=\"\",\"\",入力欄!C53)","v":""},null,null,null,null,null,null,null,null,null,null,null,null,null,null,null,null,null,null,"① 大会プログラムを作成し、チームの集合写真・選手氏名・学年・身長等が掲載されることがあります。"]
[17,null,{"$f":"IF(入力欄!B54=\"\",\"\",入力欄!B54)","v":""},null,null,null,null,null,{"$f":"IF(入力欄!K54=\"\",\"\",入力欄!K54)","v":""},null,null,{"$f":"IF(入力欄!C54=\"\",\"\",入力欄!C54)","v":""},null,null,null,null,null,null,null,null,null,null,null,null,null,null,null,null,null,null,"② 新聞社に試合結果を提供します。その際に優秀選手等の個人名が提供されることがあります。"]
[18,null,{"$f":"IF(入力欄!B55=\"\",\"\",入力欄!B55)","v":""},null,null,null,null,null,{"$f":"IF(入力欄!K55=\"\",\"\",入力欄!K55)","v":""},null,null,{"$f":"IF(入力欄!C55=\"\",\"\",入力欄!C55)","v":""},null,null,null,null,null,null,null,null,null,null,null,null,null,null,null,null,null,null,"③ 新聞社が試合風景の写真を撮影し、掲載することがあります。"]
[19,null,{"$f":"IF(入力欄!B56=\"\",\"\",入力欄!B56)","v":""},null,null,null,null,null,{"$f":"IF(入力欄!K56=\"\",\"\",入力欄!K56)","v":""},null,null,{"$f":"IF(入力欄!C56=\"\",\"\",入力欄!C56)","v":""},null,null,null,null,null,null,null,null,null,null,null,null,null,null,null,null,null,null,"④ 協会ホームページに試合結果を掲載します。その際に優秀選手等の個人名が掲載されることがあります。"]
[20,null,{"$f":"IF(入力欄!B57=\"\",\"\",入力欄!B57)","v":""},null,null,null,null,null,{"$f":"IF(入力欄!K57=\"\",\"\",入力欄!K57)","v":""},null,null,{"$f":"IF(入力欄!C57=\"\",\"\",入力欄!C57)","v":""},null,null,null,null,null,null,null,null,null,null,null,null,null,null,null,null,null,null,"⑤ 協会ホームページに試合風景の写真を掲載することがあります。"]
[21,null,{"$f":"IF(入力欄!B58=\"\",\"\",入力欄!B58)","v":""},null,null,null,null,null,{"$f":"IF(入力欄!K58=\"\",\"\",入力欄!K58)","v":""},null,null,{"$f":"IF(入力欄!C58=\"\",\"\",入力欄!C58)","v":""},null,null,null,null,null,null,null,null,null,null,null,null,null,null,null,null,null,null,"⑥ 県協会、日本協会の求めに応じて、優秀選手の推薦等の資料として個人名・身長等を提供することがあります。"]
[22,null,{"$f":"IF(入力欄!B59=\"\",\"\",入力欄!B59)","v":""},null,null,null,null,null,{"$f":"IF(入力欄!K59=\"\",\"\",入力欄!K59)","v":""},null,null,{"$f":"IF(入力欄!C59=\"\",\"\",入力欄!C59)","v":""},null,null,null,null,null,null,null,null,null,null,null,null,null,null,null,null,null,null,"今大会はプログラムは作成しません。"]
[23,null,{"$f":"IF(入力欄!B60=\"\",\"\",入力欄!B60)","v":""},null,null,null,null,null,{"$f":"IF(入力欄!K60=\"\",\"\",入力欄!K60)","v":""},null,null,{"$f":"IF(入力欄!C60=\"\",\"\",入力欄!C60)","v":""}]
[24,null,{"$f":"IF(入力欄!B61=\"\",\"\",入力欄!B61)","v":""},null,null,null,null,null,{"$f":"IF(入力欄!K61=\"\",\"\",入力欄!K61)","v":""},null,null,{"$f":"IF(入力欄!C61=\"\",\"\",入力欄!C61)","v":""}]
[25,null,{"$f":"IF(入力欄!B62=\"\",\"\",入力欄!B62)","v":""},null,null,null,null,null,{"$f":"IF(入力欄!K62=\"\",\"\",入力欄!K62)","v":""},null,null,{"$f":"IF(入力欄!C62=\"\",\"\",入力欄!C62)","v":""}]
[]
["No.",null,"氏　　名",null,null,null,null,null,null,null,null,"役職",null,null,"配慮が必要",null,null,null,"配慮する内容",null,null,null,null,null,null,null,null,null,null,null,null,null,null,null,null,null,null,null,null,null,null,null,{"$f":"入力欄!B13","v":0}]
[1,null,null,null,null,null,null,null,null,null,null,null,null,null,null,null,null,null,null,null,null,null,null,null,null,null,null,null,null,null,null,null,null,null,null,null,null,null,null,null,null,null,{"$f":"入力欄!B15","v":0},null,null,null,null,null,null,null,null,null,null,null,null,null,null,null,null,null,"責任者","引率者","連絡責任者","コーチ","Ａコーチ","マネージャー"]
[2,null,null,null,null,null,null,null,null,null,null,null,null,null,null,null,null,null,null,null,null,null,null,null,null,null,null,null,null,null,null,null,null,null,null,null,null,null,null,null,null,null,{"$f":"入力欄!B21","v":0}]
[3,null,null,null,null,null,null,null,null,null,null,null,null,null,null,null,null,null,null,null,null,null,null,null,null,null,null,null,null,null,null,null,null,null,null,null,null,null,null,null,null,null,{"$f":"入力欄!B26","v":0}]
[4,null,null,null,null,null,null,null,null,null,null,null,null,null,null,null,null,null,null,null,null,null,null,null,null,null,null,null,null,null,null,null,null,null,null,null,null,null,null,null,null,null,{"$f":"入力欄!B31","v":0}]
[5,null,null,null,null,null,null,null,null,null,null,null,null,null,null,null,null,null,null,null,null,null,null,null,null,null,null,null,null,null,null,null,null,null,null,null,null,null,null,null,null,null,{"$f":"入力欄!B12","v":0}]
[null,null,null,null,null,null,null,null,null,null,null,null,null,null,null,null,null,null,null,null,null,null,null,null,null,null,null,null,null,null,null,null,null,null,null,null,null,null,null,null,null,null,{"$f":"入力欄!E12","v":0}]
["　標記大会において、上記の者の個人情報について配慮していただくことを申請いたします。"]
[{"$f":"入力欄!C1&\"長 殿\"","v":"（一社）香川県バスケットボール協会長 殿"},null,null,null,null,null,null,null,null,null,null,null,null,null,null,null,null,{"$f":"入力欄!B3","v":2020},null,null,"年",{"$f":"入力欄!B4","v":8},"月",{"$f":"入力欄!B5","v":31},"日"]
[]
[null,null,null,null,null,{"$f":"IF(入力欄!$E$7=\"\",\"\",入力欄!E7)","v":""},null,null,null,null,null,null,null,null,null,null,{"$f":"入力欄!B7","v":0}]
[null,null,null,null,null,null,{"$f":"IF(入力欄!E12=\"\",\"\",入力欄!E12)","v":""},null,null,null,null,null,null,null,null,{"$f":"IF(入力欄!E6=\"\",\"\",\"印\")","v":""},null,{"$f":"入力欄!B12","v":0},null,null,null,null,null,null,null,null,"印"]

{"sheet":"個人情報確認","index":7,"n_rows":56,"n_cols":12,"rows_kept":56,"cut":false,"hidden":false,"merged":[[38,5,39,5],[42,0,42,10],[45,2,45,9],[0,8,0,9],[1,1,1,3],[5,8,5,9],[6,8,6,9],[8,1,8,9],[10,1,17,9]]}
[null,null,null,null,null,null,null,null,"2018-09-10",null,null,"←日付は変更して使用してください。"]
[null,"○○立○○中学校",null,null,null,null,null,null,null,null,null,"←学校名は入力して使用してください。"]
[null,"バスケットボール部保護者　各位"]
[null,null,null,null,null,null,null,null,null,{"$f":"B2","v":"○○立○○中学校"},null,"←こちらは上の学校名に連動しています。"]
[null,null,null,null,null,null,null,null,null,"バスケットボール部顧問"]
[null,null,null,null,null,null,null,null,"男子　　○○　○○",null,null,"←顧問名は入力して使用してください。"]
[null,null,null,null,null,null,null,null,"女子　　○○　○○"]
[]
[null,"バスケットボール大会参加時の個人情報の取扱について"]
[]
[null,"　日頃より、本校バスケットボール部の活動にご理解、ご協力いただきありがとうございます。\n　さて、香川県・地区バスケットボール協会、香川県・地区中学校体育連盟が主催するバスケットボール大会に出場する際、個人情報の取扱について大会申込時に確認が求められます。そこで部員全員に個人情報の取扱について確認をしたいと思います。この調査は来年度の県総体までの期間有効とします。途中で変更になる場合は生徒を通じて申し出るようお願いします。\n　各大会主催者から出されている下記の個人情報の取扱について確認していただき、『個人情報の配慮事項』に必要事項を記入して○月○日までに各顧問へ提出してください。"]
[]
[]
[]
[]
[]
[null,null,null,null,null,null,null,null,null,null,null,"←〆切日は入力して使用してください。"]
[]
[]
[null,null,null,null,null,"記"]
[]
[null,"※個人情報の取扱について"]
[null,"　参加申込によって得た個人情報は原則として、大会の運営に関することのみに利用します。"]
[null,"ただし、以下の場合に個人情報を公開および提供することがあります。"]
[]
[null,"① 大会プログラムを作成し、チームの集合写真・選手氏名・学年・身長等が掲載されることがあります"]
[null,"　（大会プログラムは県総体のみ作成、今年度は集合写真の掲載はなし）。"]
[null,"② 新聞社に試合結果を提供します。その際に優秀選手等の個人名が提供されることがあります(優秀"]
[null,"　選手は県ジュニア大会のみ設定があり）。"]
[null,"③ 新聞社が試合風景の写真を撮影し、掲載することがあります(県大会のベスト4の試合を四国新聞"]
[null,"　社が撮影し、新聞に掲載される可能性あり)。"]
[null,"④ 協会ホームページに試合結果を掲載します。その際に優秀選手等の個人名が掲載されることが"]
[null,"　あります(優秀選手は県ジュニア大会のみ設定あり）。"]
[null,"⑤ 協会ホームページに試合風景の写真を掲載することがあります(県大会のベスト4の試合を協会"]
[null,"　役員が撮影し、ホームページに掲載される可能性あり)。"]
[null,"⑥ 県協会、日本協会の求めに応じて、優秀選手の推薦等の資料として個人名・身長等を提供する"]
[null,"　ことがあります。"]
[]
[null,null,null,null,null,"切り取り"]
[]
[null,"バスケットボール部の大会参加時に関わる個人情報の取扱確認"]
[]
["(　　)年(　　)組　氏名(　　　　　　　　　　　　)　　保護者氏名(　　　　　　　　　　 印　)"]
[]
[null,"該当する項目の左の欄に○を記入する。",null,null,null,null,"記入日",{"$f":"入力欄!B3&\"年\"","v":"2020年"},"月","日"]
[null,"該当","項目"]
[null,null,"　配慮事項は特にない"]
[null,null,"①Ａ","プログラムに個人名・学年・身長を掲載しない。"]
[null,null,"①Ｂ","集合写真には入らない。"]
[null,null,"②","新聞社に個人名を提供しない。"]
[null,null,"③A","新聞社の写真に掲載されないようにする。"]
[null,null,"③Ｂ","新聞社の写真に個人が特定されないようにする。"]
[null,null,"④","協会ホームページに個人名を掲載しない。"]
[null,null,"⑤A","協会ホームページの写真に掲載されないようにする。"]
[null,null,"⑤B","協会ホームページの写真に個人が特定されないようにする。"]
[null,null,"⑥","協会からの求めがあっても、推薦資料を提供しない。"]